PDS_VERSION_ID = PDS3
/* FILE DATA ELEMENTS */
RECORD_TYPE = UNDEFINED
/* POINTERS TO DATA OBJECTS */
^IMAGE = ("H4685_0000_S14.TIF")
/* IDENTIFICATION DATA ELEMENTS */
DATA_SET_ID = "MEX-M-HRSC-4-REFDR-MAPPROJECT-EXT1-V4.0"
DATA_SET_NAME = "MARS EXPRESS HRSC MAP PROJECTED REFDR EXTENSION1 V4.0"
DETECTOR_ID = MEX_HRSC_S1
EVENT_TYPE = "MARS-REGIONAL-MAPPING-Gl-La"
INSTRUMENT_HOST_ID = MEX
INSTRUMENT_HOST_NAME = "MARS EXPRESS"
INSTRUMENT_ID = HRSC
INSTRUMENT_NAME = "HIGH RESOLUTION STEREO CAMERA"
MISSION_NAME = "MARS EXPRESS"
MISSION_PHASE_NAME = ME_Phase_9
PROCESSING_LEVEL_ID = 4
PRODUCT_CREATION_TIME = 2023-02-11T00:15:54.000Z
PRODUCT_ID = "H4685_0000_S14.TIF"
RELEASE_ID = 0007
REVISION_ID = 0000
/* QUALITY DATA ELEMENTS */
DATA_QUALITY_ID = 1
DATA_QUALITY_DESC = "Data calculated based on original SPICE kernels"
/* TIME DATA ELEMENTS */
SPACECRAFT_CLOCK_START_COUNT = "1/0136299378.09052"
SPACECRAFT_CLOCK_STOP_COUNT = "1/0136299645.37640"
START_TIME = 2007-08-27T12:56:22.145Z
STOP_TIME = 2007-08-27T12:59:14.153Z
/* ORBITAL DATA ELEMENTS */
ASCENDING_NODE_LONGITUDE = 130.43
MAXIMUM_RESOLUTION = 0.0291
FOOTPRINT_POINT_LATITUDE = (-86.944,-87.2702,-87.5953,-87.9726, -87.9823,-87.9959,-87.8739,-87.741, -87.5252,-87.2935,-87.1325,-86.8834, -86.5414,-86.1873,-86.0059,-85.7956, -85.5787,-85.3598,-85.1391,-84.9173, -84.6942,-84.4702,-84.2455,-84.0201, -83.7942,-83.5678,-83.2273,-82.9998, -82.772,-82.5439,-82.3156,-82.0872, -81.8585,-81.6298,-81.4008,-81.1717, -80.9378,-80.5848,-80.3494,-80.1146, -79.8764,-79.5137,-79.2718,-78.9031, -78.6548,-78.4078,-78.1566,-77.7757, -77.3954,-77.2687,-77.247,-77.222, -77.2008,-77.164,-77.1063,-77.0669, -77.0649,-77.0645,-77.4376,-77.8191, -78.0623,-78.305,-78.5474,-78.793, -79.0281,-79.2666,-79.5017,-79.8519, -80.0808,-80.3096,-80.538,-80.878, -81.0996,-81.3203,-81.5393,-81.7599, -81.9788,-82.1969,-82.4142,-82.6306, -82.953,-83.1663,-83.3786,-83.5896, -83.7993,-84.0068,-84.2115,-84.4144, -84.7142,-84.9108,-85.1036,-85.3853, -85.6897,-85.9767,-86.2456,-86.5484, -86.7074,-86.8875,-86.9262,-86.944)
FOOTPRINT_POINT_LONGITUDE = (126.177,129.131,133.002,139.418, 139.623,143.06,147.398,151.247,156.22, 160.395,162.774,165.847,169.181,171.983 ,173.238,174.479,175.621,176.666, 177.624,178.497,179.301,180.038,180.718 ,181.344,181.925,182.465,183.206,183.66 ,184.084,184.483,184.856,185.207, 185.539,185.852,186.148,186.429,186.707 ,187.089,187.327,187.551,187.769, 188.083,188.281,188.566,188.748,188.916 ,189.096,189.32,189.542,189.614,189.626 ,187.921,186.873,185.432,183.834, 182.641,182.575,182.551,182.192,181.8, 181.535,181.26,180.972,180.666,180.36, 180.031,179.695,179.161,178.79,178.399, 177.989,177.337,176.882,176.405,175.905 ,175.37,174.808,174.214,173.584,172.916 ,171.837,171.06,170.231,169.344,168.394 ,167.379,166.297,165.131,163.211,161.8, 160.281,157.759,154.536,150.868,146.624 ,140.389,136.128,129.825,128.136, 126.177)
ORBIT_NUMBER = 4685
ORBITAL_ECCENTRICITY = 0.57
ORBITAL_INCLINATION = 86.68
ORBITAL_SEMIMAJOR_AXIS = 8538.34
PERIAPSIS_ALTITUDE = 296.43
PERIAPSIS_ARGUMENT_ANGLE = 253.77
PERIAPSIS_TIME = 2007-08-27T12:52:29.000Z
SPACECRAFT_ORIENTATION = (0.0,-1.0,0.0)
^MEX_ORIENTATION_DESC = "MEX_ORIENTATION_DESC.TXT"
SPACECRAFT_POINTING_MODE = ACROSSTRACK
^MEX_POINTING_DESC = "MEX_POINTING_DESC.TXT"
RIGHT_ASCENSION = -1e+32
DECLINATION = -1e+32
OFFSET_ANGLE = -1.0
SPACECRAFT_SOLAR_DISTANCE = 2.13702e+08
TARGET_NAME = MARS
/* CAMERA DATA ELEMENTS */
DETECTOR_TEMPERATURE = 17.5549
FOCAL_PLANE_TEMPERATURE = 8.7872
INST_CMPRS_NAME = "DISCRETE COSINE TRANSFORMATION (DCT)"
INST_CMPRS_RATIO = 8.65673
INST_CMPRS_QUALITY = 0
INST_CMPRS_QUANTZ_TBL_ID = 0
INSTRUMENT_TEMPERATURE = 11.4379
LENS_TEMPERATURE = 9.195
MACROPIXEL_SIZE = 2
PIXEL_SUBSAMPLING_FLAG = N
SIGNAL_CHAIN_ID = 1
/* RADIOMETRIC DATA ELEMENTS */
BANDWIDTH = 180.0
CENTER_FILTER_WAVELENGTH = 677.0
RADIANCE_OFFSET = 5.13865
RADIANCE_SCALING_FACTOR = 0.0131802
REFLECTANCE_SCALING_FACTOR = 0.000314039
MEX:REFLECTANCE_OFFSET = 0.122436
/* IMAGE OBJECT DEFINITIONS */
OBJECT = IMAGE
  INTERCHANGE_FORMAT = BINARY
  LINES = 26090
  LINE_SAMPLES = 12515
  SAMPLE_TYPE = UNSIGNED_INTEGER
  SAMPLE_BITS = 8
  BANDS = 1
  BAND_STORAGE_TYPE = BAND_SEQUENTIAL
  MAXIMUM = 255
  MEAN = 87.8772
  MINIMUM = 1
  STANDARD_DEVIATION = 44.6567
END_OBJECT = IMAGE
/* MAP OBJECT DEFINITIONS */
OBJECT = IMAGE_MAP_PROJECTION
  ^DATA_SET_MAP_PROJECTION_CATALOG= "DSMAP.CAT"
  A_AXIS_RADIUS = 3396.0
  B_AXIS_RADIUS = 3396.0
  C_AXIS_RADIUS = 3396.0
  CENTER_LATITUDE = 0.0
  CENTER_LONGITUDE = 178.0
  COORDINATE_SYSTEM_NAME = PLANETOGRAPHIC
  COORDINATE_SYSTEM_TYPE = "BODY-FIXED ROTATING"
  EASTERNMOST_LONGITUDE = 189.626
  FIRST_STANDARD_PARALLEL = "N/A"
  LINE_FIRST_PIXEL = 1
  LINE_LAST_PIXEL = 26090
  LINE_PROJECTION_OFFSET = -182536.75
  MAP_PROJECTION_ROTATION = 0.0
  MAP_PROJECTION_TYPE = SINUSOIDAL
  MAP_RESOLUTION = 2370.85521546667
  MAP_SCALE = 0.025
  MAXIMUM_LATITUDE = -77.0645
  MINIMUM_LATITUDE = -87.99590000000001
  POSITIVE_LONGITUDE_DIRECTION = EAST
  REFERENCE_LATITUDE = "N/A"
  REFERENCE_LONGITUDE = "N/A"
  SAMPLE_FIRST_PIXEL = 1
  SAMPLE_LAST_PIXEL = 12515
  SAMPLE_PROJECTION_OFFSET = 6373.75
  SECOND_STANDARD_PARALLEL = "N/A"
  WESTERNMOST_LONGITUDE = 126.177
END_OBJECT = IMAGE_MAP_PROJECTION
END
