PDS_VERSION_ID = PDS3
/* FILE DATA ELEMENTS */
RECORD_TYPE = UNDEFINED
/* POINTERS TO DATA OBJECTS */
^IMAGE = ("H4686_0000_RE4.TIF")
/* IDENTIFICATION DATA ELEMENTS */
DATA_SET_ID = "MEX-M-HRSC-4-REFDR-MAPPROJECT-EXT1-V4.0"
DATA_SET_NAME = "MARS EXPRESS HRSC MAP PROJECTED REFDR EXTENSION1 V4.0"
DETECTOR_ID = MEX_HRSC_RED
EVENT_TYPE = "MARS-REGIONAL-MAPPING-Fl-Gl-La"
INSTRUMENT_HOST_ID = MEX
INSTRUMENT_HOST_NAME = "MARS EXPRESS"
INSTRUMENT_ID = HRSC
INSTRUMENT_NAME = "HIGH RESOLUTION STEREO CAMERA"
MISSION_NAME = "MARS EXPRESS"
MISSION_PHASE_NAME = ME_Phase_9
PROCESSING_LEVEL_ID = 4
PRODUCT_CREATION_TIME = 2023-02-11T00:15:54.000Z
PRODUCT_ID = "H4686_0000_RE4.TIF"
RELEASE_ID = 0007
REVISION_ID = 0000
/* QUALITY DATA ELEMENTS */
DATA_QUALITY_ID = 1
DATA_QUALITY_DESC = "Data calculated based on original SPICE kernels"
/* TIME DATA ELEMENTS */
SPACECRAFT_CLOCK_START_COUNT = "1/0136323586.09057"
SPACECRAFT_CLOCK_STOP_COUNT = "1/0136323906.12725"
START_TIME = 2007-08-27T19:40:52.139Z
STOP_TIME = 2007-08-27T19:44:57.454Z
/* ORBITAL DATA ELEMENTS */
ASCENDING_NODE_LONGITUDE = 130.41
MAXIMUM_RESOLUTION = 0.0631
FOOTPRINT_POINT_LATITUDE = (-86.4576,-86.7749,-87.0845,-87.4688, -87.4775,-87.5843,-87.1774,-86.9615, -86.5177,-86.0588,-85.5903,-85.3502, -85.1062,-84.8611,-84.6155,-84.3639, -83.9848,-83.7318,-83.473,-83.0841, -82.6916,-82.4269,-82.0292,-81.7602, -81.489,-81.2173,-80.9403,-80.5246, -80.244,-79.9618,-79.5359,-79.2485, -78.815,-78.5225,-78.2306,-77.9331, -77.6372,-77.186,-76.8849,-76.4217, -75.9588,-75.6512,-75.1775,-74.6995, -74.22,-74.0585,-73.9787,-73.921, -73.8799,-73.8345,-73.7849,-73.7311, -73.6767,-73.6729,-73.6728,-73.9917, -74.308,-74.6212,-75.0873,-75.5514, -75.8503,-76.1615,-76.4653,-76.7625, -77.0547,-77.3432,-77.6338,-77.9275, -78.2131,-78.6421,-78.9222,-79.341, -79.7531,-80.0272,-80.2956,-80.5626, -80.8287,-81.0897,-81.3514,-81.6106, -81.8646,-82.1179,-82.4917,-82.7373, -82.9818,-83.3412,-83.5766,-83.8105, -84.0406,-84.3763,-84.5965,-84.8126, -85.2234,-85.6172,-85.8056,-86.0739, -86.243,-86.402,-86.4774,-86.4576)
FOOTPRINT_POINT_LONGITUDE = (42.5559,46.1097,50.5175,58.0924,58.304 ,58.483,65.261,67.938,72.2774,75.6014, 78.2103,79.3392,80.3558,81.273,82.105, 82.8812,83.9238,84.5465,85.131,85.9298, 86.6427,87.088,87.6941,88.0787,88.431, 88.7573,89.0695,89.503,89.7742,90.0322, 90.3921,90.6191,90.9373,91.1377,91.3296 ,91.5128,91.689,91.9397,92.0986,92.3118 ,92.5256,92.6658,92.8542,93.0343, 93.2123,93.2672,93.2947,91.4597,90.3896 ,89.3337,88.2916,87.265,86.3149,86.252, 86.2304,86.0511,85.8649,85.6716,85.3666 ,85.0406,84.8169,84.5742,84.3246, 84.0674,83.8008,83.5237,83.2312,82.9205 ,82.6012,82.0886,81.7299,81.1548, 80.5388,80.0981,79.6399,79.155,78.6417, 78.1049,77.5316,76.9249,76.2884,75.6083 ,74.5112,73.7221,72.8749,71.5022, 70.5081,69.4342,68.2826,66.4037,65.0179 ,63.5166,60.1882,56.2191,53.9503, 50.1456,47.2973,44.1836,42.5203, 42.5559)
ORBIT_NUMBER = 4686
ORBITAL_ECCENTRICITY = 0.57
ORBITAL_INCLINATION = 86.7
ORBITAL_SEMIMAJOR_AXIS = 8536.01
PERIAPSIS_ALTITUDE = 295.76
PERIAPSIS_ARGUMENT_ANGLE = 253.6
PERIAPSIS_TIME = 2007-08-27T19:35:45.000Z
SPACECRAFT_ORIENTATION = (0.0,-1.0,0.0)
^MEX_ORIENTATION_DESC = "MEX_ORIENTATION_DESC.TXT"
SPACECRAFT_POINTING_MODE = ACROSSTRACK
^MEX_POINTING_DESC = "MEX_POINTING_DESC.TXT"
RIGHT_ASCENSION = -1e+32
DECLINATION = -1e+32
OFFSET_ANGLE = -1.0
SPACECRAFT_SOLAR_DISTANCE = 2.13745e+08
TARGET_NAME = MARS
/* CAMERA DATA ELEMENTS */
DETECTOR_TEMPERATURE = 18.7783
FOCAL_PLANE_TEMPERATURE = 9.3989
INST_CMPRS_NAME = "DISCRETE COSINE TRANSFORMATION (DCT)"
INST_CMPRS_RATIO = 22.908
INST_CMPRS_QUALITY = 0
INST_CMPRS_QUANTZ_TBL_ID = 0
INSTRUMENT_TEMPERATURE = 11.4379
LENS_TEMPERATURE = 9.6028
MACROPIXEL_SIZE = 4
MISSING_FRAMES = 0
PIXEL_SUBSAMPLING_FLAG = N
SIGNAL_CHAIN_ID = 2
/* RADIOMETRIC DATA ELEMENTS */
BANDWIDTH = 48.0
CENTER_FILTER_WAVELENGTH = 748.0
RADIANCE_OFFSET = 1.25091
RADIANCE_SCALING_FACTOR = 0.00325548
REFLECTANCE_SCALING_FACTOR = 0.000339421
MEX:REFLECTANCE_OFFSET = 0.130422
/* IMAGE OBJECT DEFINITIONS */
OBJECT = IMAGE
  INTERCHANGE_FORMAT = BINARY
  LINES = 16397
  LINE_SAMPLES = 6251
  SAMPLE_TYPE = UNSIGNED_INTEGER
  SAMPLE_BITS = 8
  BANDS = 1
  BAND_STORAGE_TYPE = BAND_SEQUENTIAL
  MAXIMUM = 255
  MEAN = 112.475
  MINIMUM = 1
  STANDARD_DEVIATION = 56.7311
END_OBJECT = IMAGE
/* MAP OBJECT DEFINITIONS */
OBJECT = IMAGE_MAP_PROJECTION
  ^DATA_SET_MAP_PROJECTION_CATALOG= "DSMAP.CAT"
  A_AXIS_RADIUS = 3396.0
  B_AXIS_RADIUS = 3396.0
  C_AXIS_RADIUS = 3396.0
  CENTER_LATITUDE = 0.0
  CENTER_LONGITUDE = 83.0
  COORDINATE_SYSTEM_NAME = PLANETOGRAPHIC
  COORDINATE_SYSTEM_TYPE = "BODY-FIXED ROTATING"
  EASTERNMOST_LONGITUDE = 93.29470000000001
  FIRST_STANDARD_PARALLEL = "N/A"
  LINE_FIRST_PIXEL = 1
  LINE_LAST_PIXEL = 16397
  LINE_PROJECTION_OFFSET = -87401.875
  MAP_PROJECTION_ROTATION = 0.0
  MAP_PROJECTION_TYPE = SINUSOIDAL
  MAP_RESOLUTION = 1185.42760773333
  MAP_SCALE = 0.05
  MAXIMUM_LATITUDE = -73.6728
  MINIMUM_LATITUDE = -87.5843
  POSITIVE_LONGITUDE_DIRECTION = EAST
  REFERENCE_LATITUDE = "N/A"
  REFERENCE_LONGITUDE = "N/A"
  SAMPLE_FIRST_PIXEL = 1
  SAMPLE_LAST_PIXEL = 6251
  SAMPLE_PROJECTION_OFFSET = 2983.875
  SECOND_STANDARD_PARALLEL = "N/A"
  WESTERNMOST_LONGITUDE = 42.5203
END_OBJECT = IMAGE_MAP_PROJECTION
END
