PDS_VERSION_ID = PDS3
/* FILE DATA ELEMENTS */
RECORD_TYPE = UNDEFINED
/* POINTERS TO DATA OBJECTS */
^IMAGE = ("H4696_0000_GR4.TIF")
/* IDENTIFICATION DATA ELEMENTS */
DATA_SET_ID = "MEX-M-HRSC-4-REFDR-MAPPROJECT-EXT1-V4.0"
DATA_SET_NAME = "MARS EXPRESS HRSC MAP PROJECTED REFDR EXTENSION1 V4.0"
DETECTOR_ID = MEX_HRSC_GREEN
EVENT_TYPE = "MARS-REGIONAL-MAPPING-Gl-La"
INSTRUMENT_HOST_ID = MEX
INSTRUMENT_HOST_NAME = "MARS EXPRESS"
INSTRUMENT_ID = HRSC
INSTRUMENT_NAME = "HIGH RESOLUTION STEREO CAMERA"
MISSION_NAME = "MARS EXPRESS"
MISSION_PHASE_NAME = ME_Phase_9
PROCESSING_LEVEL_ID = 4
PRODUCT_CREATION_TIME = 2023-02-11T00:15:54.000Z
PRODUCT_ID = "H4696_0000_GR4.TIF"
RELEASE_ID = 0007
REVISION_ID = 0000
/* QUALITY DATA ELEMENTS */
DATA_QUALITY_ID = 1
DATA_QUALITY_DESC = "Data calculated based on original SPICE kernels"
/* TIME DATA ELEMENTS */
SPACECRAFT_CLOCK_START_COUNT = "1/0136565529.07281"
SPACECRAFT_CLOCK_STOP_COUNT = "1/0136565801.14074"
START_TIME = 2007-08-30T14:52:40.418Z
STOP_TIME = 2007-08-30T14:55:41.006Z
/* ORBITAL DATA ELEMENTS */
ASCENDING_NODE_LONGITUDE = 130.21
MAXIMUM_RESOLUTION = 0.0589
FOOTPRINT_POINT_LATITUDE = (-85.9755,-86.2573,-86.5586,-86.8984, -87.1082,-87.1186,-87.1427,-86.9906, -86.8747,-86.7488,-86.6141,-86.4715, -86.322,-86.1662,-86.005,-85.8394, -85.6698,-85.3201,-85.0434,-84.6755, -84.3003,-84.1074,-83.9111,-83.7136, -83.515,-83.3155,-83.1103,-82.9039, -82.6968,-82.4891,-82.171,-81.9567, -81.7419,-81.5268,-81.3063,-80.9746, -80.7532,-80.4148,-80.1877,-79.9604, -79.6137,-79.381,-79.1482,-78.7841, -78.546,-78.308,-78.0653,-77.8222, -77.5791,-77.332,-77.2076,-77.1816, -77.1171,-77.0466,-76.9914,-76.9282, -76.7878,-76.7831,-76.7827,-77.1458, -77.383,-77.62,-77.8569,-78.0885, -78.3199,-78.6737,-78.8992,-79.1243, -79.4595,-79.6786,-79.8971,-80.2224, -80.4344,-80.6458,-80.9598,-81.1656, -81.3695,-81.5722,-81.8723,-82.067, -82.2604,-82.4515,-82.6425,-82.8279, -83.0109,-83.192,-83.3708,-83.5459, -83.8819,-84.2054,-84.6014,-84.8939, -85.1657,-85.4144,-85.5289,-85.6358, -85.7808,-85.9051,-85.9419,-85.9755)
FOOTPRINT_POINT_LONGITUDE = (123.43,124.837,126.613,129.067,130.901 ,131.0,131.554,137.128,140.514,143.65, 146.54,149.203,151.651,153.889,155.942, 157.841,159.597,162.709,164.792,167.164 ,169.222,170.164,171.057,171.892, 172.675,173.41,174.117,174.784,175.412, 176.005,176.848,177.375,177.875,178.348 ,178.808,179.455,179.859,180.44,180.805 ,181.152,181.652,181.969,182.272, 182.721,182.997,183.261,183.52,183.767, 184.004,184.235,184.354,184.381,182.833 ,181.377,180.349,179.262,177.122, 177.056,177.033,176.57,176.251,175.92, 175.574,175.221,174.853,174.258,173.857 ,173.437,172.775,172.316,171.837, 171.078,170.552,170.001,169.116,168.513 ,167.878,167.209,166.147,165.406, 164.627,163.801,162.937,162.052,161.116 ,160.128,159.083,157.988,155.649,153.03 ,149.264,145.883,142.094,137.864, 135.574,133.165,129.329,125.234,123.814 ,123.43)
ORBIT_NUMBER = 4696
ORBITAL_ECCENTRICITY = 0.57
ORBITAL_INCLINATION = 86.68
ORBITAL_SEMIMAJOR_AXIS = 8540.18
PERIAPSIS_ALTITUDE = 296.71
PERIAPSIS_ARGUMENT_ANGLE = 251.86
PERIAPSIS_TIME = 2007-08-30T14:47:51.000Z
SPACECRAFT_ORIENTATION = (0.0,-1.0,0.0)
^MEX_ORIENTATION_DESC = "MEX_ORIENTATION_DESC.TXT"
SPACECRAFT_POINTING_MODE = ACROSSTRACK
^MEX_POINTING_DESC = "MEX_POINTING_DESC.TXT"
RIGHT_ASCENSION = -1e+32
DECLINATION = -1e+32
OFFSET_ANGLE = -0.1
SPACECRAFT_SOLAR_DISTANCE = 2.14183e+08
TARGET_NAME = MARS
/* CAMERA DATA ELEMENTS */
DETECTOR_TEMPERATURE = 18.5744
FOCAL_PLANE_TEMPERATURE = 8.3794
INST_CMPRS_NAME = "DISCRETE COSINE TRANSFORMATION (DCT)"
INST_CMPRS_RATIO = 10.7598
INST_CMPRS_QUALITY = 0
INST_CMPRS_QUANTZ_TBL_ID = 0
INSTRUMENT_TEMPERATURE = 11.8457
LENS_TEMPERATURE = 10.2145
MACROPIXEL_SIZE = 4
PIXEL_SUBSAMPLING_FLAG = N
SIGNAL_CHAIN_ID = 2
/* RADIOMETRIC DATA ELEMENTS */
BANDWIDTH = 88.0
CENTER_FILTER_WAVELENGTH = 538.0
RADIANCE_OFFSET = 1.45995
RADIANCE_SCALING_FACTOR = 0.00350252
REFLECTANCE_SCALING_FACTOR = 0.000138338
MEX:REFLECTANCE_OFFSET = 0.057663
/* IMAGE OBJECT DEFINITIONS */
OBJECT = IMAGE
  INTERCHANGE_FORMAT = BINARY
  LINES = 12301
  LINE_SAMPLES = 7884
  SAMPLE_TYPE = UNSIGNED_INTEGER
  SAMPLE_BITS = 8
  BANDS = 1
  BAND_STORAGE_TYPE = BAND_SEQUENTIAL
  MAXIMUM = 255
  MEAN = 111.476
  MINIMUM = 1
  STANDARD_DEVIATION = 41.4825
END_OBJECT = IMAGE
/* MAP OBJECT DEFINITIONS */
OBJECT = IMAGE_MAP_PROJECTION
  ^DATA_SET_MAP_PROJECTION_CATALOG= "DSMAP.CAT"
  A_AXIS_RADIUS = 3396.0
  B_AXIS_RADIUS = 3396.0
  C_AXIS_RADIUS = 3396.0
  CENTER_LATITUDE = 0.0
  CENTER_LONGITUDE = 169.0
  COORDINATE_SYSTEM_NAME = PLANETOGRAPHIC
  COORDINATE_SYSTEM_TYPE = "BODY-FIXED ROTATING"
  EASTERNMOST_LONGITUDE = 184.381
  FIRST_STANDARD_PARALLEL = "N/A"
  LINE_FIRST_PIXEL = 1
  LINE_LAST_PIXEL = 12301
  LINE_PROJECTION_OFFSET = -91016.625
  MAP_PROJECTION_ROTATION = 0.0
  MAP_PROJECTION_TYPE = SINUSOIDAL
  MAP_RESOLUTION = 1185.42760773333
  MAP_SCALE = 0.05
  MAXIMUM_LATITUDE = -76.78270000000001
  MINIMUM_LATITUDE = -87.1427
  POSITIVE_LONGITUDE_DIRECTION = EAST
  REFERENCE_LATITUDE = "N/A"
  REFERENCE_LONGITUDE = "N/A"
  SAMPLE_FIRST_PIXEL = 1
  SAMPLE_LAST_PIXEL = 7884
  SAMPLE_PROJECTION_OFFSET = 3816.625
  SECOND_STANDARD_PARALLEL = "N/A"
  WESTERNMOST_LONGITUDE = 123.43
END_OBJECT = IMAGE_MAP_PROJECTION
END
