PDS_VERSION_ID = PDS3
/* FILE DATA ELEMENTS */
RECORD_TYPE = UNDEFINED
/* POINTERS TO DATA OBJECTS */
^IMAGE = ("H4700_0000_P24.TIF")
/* IDENTIFICATION DATA ELEMENTS */
DATA_SET_ID = "MEX-M-HRSC-4-REFDR-MAPPROJECT-EXT1-V4.0"
DATA_SET_NAME = "MARS EXPRESS HRSC MAP PROJECTED REFDR EXTENSION1 V4.0"
DETECTOR_ID = MEX_HRSC_P2
EVENT_TYPE = "MARS-REGIONAL-MAPPING-Gl-La"
INSTRUMENT_HOST_ID = MEX
INSTRUMENT_HOST_NAME = "MARS EXPRESS"
INSTRUMENT_ID = HRSC
INSTRUMENT_NAME = "HIGH RESOLUTION STEREO CAMERA"
MISSION_NAME = "MARS EXPRESS"
MISSION_PHASE_NAME = ME_Phase_9
PROCESSING_LEVEL_ID = 4
PRODUCT_CREATION_TIME = 2023-02-11T00:15:54.000Z
PRODUCT_ID = "H4700_0000_P24.TIF"
RELEASE_ID = 0007
REVISION_ID = 0000
/* QUALITY DATA ELEMENTS */
DATA_QUALITY_ID = 1
DATA_QUALITY_DESC = "Data calculated based on original SPICE kernels"
/* TIME DATA ELEMENTS */
SPACECRAFT_CLOCK_START_COUNT = "1/0136662442.09050"
SPACECRAFT_CLOCK_STOP_COUNT = "1/0136662714.29636"
START_TIME = 2007-08-31T17:48:41.142Z
STOP_TIME = 2007-08-31T17:51:29.064Z
/* ORBITAL DATA ELEMENTS */
ASCENDING_NODE_LONGITUDE = 130.13
MAXIMUM_RESOLUTION = 0.0409
FOOTPRINT_POINT_LATITUDE = (-79.0444,-79.121,-79.2369,-79.294, -79.3723,-79.4794,-79.5476,-79.5514, -79.6208,-79.3823,-79.0615,-78.7377, -78.4948,-78.1686,-77.9185,-77.7484, -77.4129,-77.1573,-76.9863,-76.8157, -76.5565,-76.3833,-76.2103,-76.0351, -75.8594,-75.6841,-75.5073,-75.2395, -74.9707,-74.7897,-74.6095,-74.427, -74.154,-73.8775,-73.6923,-73.4141, -73.2271,-73.0406,-72.7562,-72.5663, -72.3748,-72.0875,-71.8947,-71.7014, -71.5064,-71.3094,-71.113,-70.8145, -70.7147,-70.7133,-70.6679,-70.6443, -70.6012,-70.5661,-70.5354,-70.4958, -70.4612,-70.3874,-70.3831,-70.3823, -70.5783,-70.8714,-71.0649,-71.2583, -71.4497,-71.7361,-71.9234,-72.1141, -72.3023,-72.4893,-72.6756,-72.8599, -73.0434,-73.2243,-73.4079,-73.5886, -73.7665,-74.0352,-74.2141,-74.3907, -74.5679,-74.7455,-74.9213,-75.0946, -75.3527,-75.5246,-75.6956,-75.9499, -76.1189,-76.3718,-76.7042,-76.9526, -77.1985,-77.5242,-77.844,-78.2405, -78.5538,-79.0159,-79.0923,-79.0444)
FOOTPRINT_POINT_LONGITUDE = (139.067,140.119,141.842,142.758, 144.105,146.157,147.635,147.723,147.805 ,148.153,148.597,149.018,149.321, 149.711,149.985,150.163,150.507,150.756 ,150.917,151.073,151.304,151.452, 151.597,151.74,151.88,152.016,152.15, 152.345,152.535,152.658,152.778,152.896 ,153.071,153.238,153.348,153.508, 153.614,153.717,153.867,153.965,154.061 ,154.202,154.295,154.386,154.475, 154.562,154.647,154.772,154.813,154.814 ,153.483,152.885,151.893,151.167, 150.574,149.852,149.263,148.088,148.022 ,147.998,147.892,147.729,147.618, 147.505,147.39,147.213,147.096,146.969, 146.84,146.711,146.58,146.446,146.313, 146.179,146.033,145.891,145.75,145.524, 145.367,145.209,145.046,144.875,144.7, 144.531,144.268,144.084,143.899,143.612 ,143.414,143.107,142.684,142.351, 142.004,141.527,141.031,140.373,139.817 ,138.932,138.778,139.067)
ORBIT_NUMBER = 4700
ORBITAL_ECCENTRICITY = 0.57
ORBITAL_INCLINATION = 86.68
ORBITAL_SEMIMAJOR_AXIS = 8540.04
PERIAPSIS_ALTITUDE = 297.53
PERIAPSIS_ARGUMENT_ANGLE = 251.16
PERIAPSIS_TIME = 2007-08-31T17:40:41.000Z
SPACECRAFT_ORIENTATION = (0.0,-1.0,0.0)
^MEX_ORIENTATION_DESC = "MEX_ORIENTATION_DESC.TXT"
SPACECRAFT_POINTING_MODE = ACROSSTRACK
^MEX_POINTING_DESC = "MEX_POINTING_DESC.TXT"
RIGHT_ASCENSION = -1e+32
DECLINATION = -1e+32
OFFSET_ANGLE = 0.1
SPACECRAFT_SOLAR_DISTANCE = 2.1436e+08
TARGET_NAME = MARS
/* CAMERA DATA ELEMENTS */
DETECTOR_TEMPERATURE = 19.1861
FOCAL_PLANE_TEMPERATURE = 10.0106
INST_CMPRS_NAME = "DISCRETE COSINE TRANSFORMATION (DCT)"
INST_CMPRS_RATIO = 7.43859
INST_CMPRS_QUALITY = 0
INST_CMPRS_QUANTZ_TBL_ID = 0
INSTRUMENT_TEMPERATURE = 11.6418
LENS_TEMPERATURE = 10.0106
MACROPIXEL_SIZE = 2
MISSING_FRAMES = 0
PIXEL_SUBSAMPLING_FLAG = N
SIGNAL_CHAIN_ID = 3
/* RADIOMETRIC DATA ELEMENTS */
BANDWIDTH = 177.0
CENTER_FILTER_WAVELENGTH = 676.5
RADIANCE_OFFSET = 4.34759
RADIANCE_SCALING_FACTOR = 0.0129632
REFLECTANCE_SCALING_FACTOR = 0.000315835
MEX:REFLECTANCE_OFFSET = 0.105925
/* IMAGE OBJECT DEFINITIONS */
OBJECT = IMAGE
  INTERCHANGE_FORMAT = BINARY
  LINES = 10958
  LINE_SAMPLES = 4575
  SAMPLE_TYPE = UNSIGNED_INTEGER
  SAMPLE_BITS = 8
  BANDS = 1
  BAND_STORAGE_TYPE = BAND_SEQUENTIAL
  MAXIMUM = 254
  MEAN = 119.673
  MINIMUM = 1
  STANDARD_DEVIATION = 49.8168
END_OBJECT = IMAGE
/* MAP OBJECT DEFINITIONS */
OBJECT = IMAGE_MAP_PROJECTION
  ^DATA_SET_MAP_PROJECTION_CATALOG= "DSMAP.CAT"
  A_AXIS_RADIUS = 3396.0
  B_AXIS_RADIUS = 3396.0
  C_AXIS_RADIUS = 3396.0
  CENTER_LATITUDE = 0.0
  CENTER_LONGITUDE = 148.0
  COORDINATE_SYSTEM_NAME = PLANETOGRAPHIC
  COORDINATE_SYSTEM_TYPE = "BODY-FIXED ROTATING"
  EASTERNMOST_LONGITUDE = 154.814
  FIRST_STANDARD_PARALLEL = "N/A"
  LINE_FIRST_PIXEL = 1
  LINE_LAST_PIXEL = 10958
  LINE_PROJECTION_OFFSET = -83451.75
  MAP_PROJECTION_ROTATION = 0.0
  MAP_PROJECTION_TYPE = SINUSOIDAL
  MAP_RESOLUTION = 1185.42760773333
  MAP_SCALE = 0.05
  MAXIMUM_LATITUDE = -70.3823
  MINIMUM_LATITUDE = -79.6208
  POSITIVE_LONGITUDE_DIRECTION = EAST
  REFERENCE_LATITUDE = "N/A"
  REFERENCE_LONGITUDE = "N/A"
  SAMPLE_FIRST_PIXEL = 1
  SAMPLE_LAST_PIXEL = 4575
  SAMPLE_PROJECTION_OFFSET = 2023.25
  SECOND_STANDARD_PARALLEL = "N/A"
  WESTERNMOST_LONGITUDE = 138.778
END_OBJECT = IMAGE_MAP_PROJECTION
END
