PDS_VERSION_ID = PDS3
/* FILE DATA ELEMENTS */
RECORD_TYPE = UNDEFINED
/* POINTERS TO DATA OBJECTS */
^IMAGE = ("H4706_0000_ND4.TIF")
/* IDENTIFICATION DATA ELEMENTS */
DATA_SET_ID = "MEX-M-HRSC-4-REFDR-MAPPROJECT-EXT1-V4.0"
DATA_SET_NAME = "MARS EXPRESS HRSC MAP PROJECTED REFDR EXTENSION1 V4.0"
DETECTOR_ID = MEX_HRSC_NADIR
EVENT_TYPE = "MARS-LOCAL-STEREO-Gl-Eo-La"
INSTRUMENT_HOST_ID = MEX
INSTRUMENT_HOST_NAME = "MARS EXPRESS"
INSTRUMENT_ID = HRSC
INSTRUMENT_NAME = "HIGH RESOLUTION STEREO CAMERA"
MISSION_NAME = "MARS EXPRESS"
MISSION_PHASE_NAME = ME_Phase_9
PROCESSING_LEVEL_ID = 4
PRODUCT_CREATION_TIME = 2023-02-11T00:15:54.000Z
PRODUCT_ID = "H4706_0000_ND4.TIF"
RELEASE_ID = 0007
REVISION_ID = 0000
/* QUALITY DATA ELEMENTS */
DATA_QUALITY_ID = 1
DATA_QUALITY_DESC = "Data calculated based on original SPICE kernels"
/* TIME DATA ELEMENTS */
SPACECRAFT_CLOCK_START_COUNT = "1/0136807428.08229"
SPACECRAFT_CLOCK_STOP_COUNT = "1/0136807585.41353"
START_TIME = 2007-09-02T10:04:23.353Z
STOP_TIME = 2007-09-02T10:05:49.369Z
/* ORBITAL DATA ELEMENTS */
ASCENDING_NODE_LONGITUDE = 130.01
MAXIMUM_RESOLUTION = 0.0151
FOOTPRINT_POINT_LATITUDE = (-86.8902,-86.9708,-87.0401,-87.096, -87.1357,-87.1487,-87.1566,-87.1592, -87.1523,-87.1511,-87.1255,-87.3557, -87.6428,-87.9287,-88.1564,-88.3826, -88.5508,-88.8323,-89.0523,-89.2095, -89.4412,-89.5407,-89.5801,-89.5495, -89.4539,-89.3673,-89.2701,-89.1125, -88.946,-88.832,-88.7145,-88.5947, -88.4131,-88.2912,-88.1688,-88.0458, -87.9222,-87.7982,-87.6726,-87.5456, -87.4183,-87.2907,-87.1627,-87.0345, -86.9066,-86.7787,-86.7145,-86.7127, -86.7402,-86.7511,-86.7533,-86.7458, -86.7333,-86.7099,-86.675,-86.6441, -86.5851,-86.533,-86.5275,-86.5251, -86.7054,-86.8247,-86.9432,-87.0609, -87.1776,-87.2931,-87.4074,-87.5188, -87.6274,-87.7869,-87.8904,-87.9918, -88.0901,-88.2309,-88.3199,-88.4023, -88.4787,-88.5813,-88.64,-88.6899, -88.7449,-88.7684,-88.7784,-88.7773, -88.74,-88.6841,-88.6072,-88.5137, -88.367,-88.2435,-88.0692,-87.9315, -87.7889,-87.5921,-87.3894,-87.1823, -86.9714,-86.9181,-86.8902)
FOOTPRINT_POINT_LONGITUDE = (139.888,136.196,132.187,127.858,123.23 ,120.812,118.331,115.79,111.895,111.566 ,108.288,107.559,106.47,105.059,103.632 ,101.813,100.054,95.9184,90.8261, 85.1124,68.7868,51.856,20.3864,4.6869, 346.451,337.979,331.655,324.892,320.232 ,317.889,315.905,314.257,312.27,311.179 ,310.222,309.409,308.702,308.097, 307.545,306.997,306.519,306.083,305.716 ,305.38,305.05,304.733,304.598,304.594, 300.672,297.695,295.117,291.653,289.218 ,286.257,283.116,280.922,277.521, 275.045,274.804,274.685,273.498,272.635 ,271.703,270.697,269.608,268.426, 267.136,265.751,264.256,261.741,259.849 ,257.785,255.491,251.583,248.635, 245.431,241.913,235.963,231.525,226.721 ,218.878,213.335,207.627,201.919, 191.018,183.445,176.6,170.517,163.59, 159.205,154.367,151.303,148.616,145.541 ,142.941,140.707,138.787,138.35, 139.888)
ORBIT_NUMBER = 4706
ORBITAL_ECCENTRICITY = 0.57
ORBITAL_INCLINATION = 86.68
ORBITAL_SEMIMAJOR_AXIS = 8542.77
PERIAPSIS_ALTITUDE = 296.98
PERIAPSIS_ARGUMENT_ANGLE = 250.13
PERIAPSIS_TIME = 2007-09-02T09:59:59.000Z
SPACECRAFT_ORIENTATION = (0.0,-1.0,0.0)
^MEX_ORIENTATION_DESC = "MEX_ORIENTATION_DESC.TXT"
SPACECRAFT_POINTING_MODE = INERT
^MEX_POINTING_DESC = "MEX_POINTING_DESC.TXT"
RIGHT_ASCENSION = 283.725
DECLINATION = 62.214
OFFSET_ANGLE = -1e+32
SPACECRAFT_SOLAR_DISTANCE = 2.14629e+08
TARGET_NAME = MARS
/* CAMERA DATA ELEMENTS */
DETECTOR_TEMPERATURE = 18.3705
FOCAL_PLANE_TEMPERATURE = 8.9911
INST_CMPRS_NAME = "DISCRETE COSINE TRANSFORMATION (DCT)"
INST_CMPRS_RATIO = 6.15725
INST_CMPRS_QUALITY = 0
INST_CMPRS_QUANTZ_TBL_ID = 0
INSTRUMENT_TEMPERATURE = 11.4379
LENS_TEMPERATURE = 9.3989
MACROPIXEL_SIZE = 1
MISSING_FRAMES = 0
PIXEL_SUBSAMPLING_FLAG = N
SIGNAL_CHAIN_ID = 0
/* RADIOMETRIC DATA ELEMENTS */
BANDWIDTH = 177.0
CENTER_FILTER_WAVELENGTH = 677.5
RADIANCE_OFFSET = 3.65316
RADIANCE_SCALING_FACTOR = 0.0350886
REFLECTANCE_SCALING_FACTOR = 0.000858679
MEX:REFLECTANCE_OFFSET = 0.0893992
/* IMAGE OBJECT DEFINITIONS */
OBJECT = IMAGE
  INTERCHANGE_FORMAT = BINARY
  LINES = 19777
  LINE_SAMPLES = 29377
  SAMPLE_TYPE = UNSIGNED_INTEGER
  SAMPLE_BITS = 8
  BANDS = 1
  BAND_STORAGE_TYPE = BAND_SEQUENTIAL
  MAXIMUM = 255
  MEAN = 101.563
  MINIMUM = 1
  STANDARD_DEVIATION = 84.8933
END_OBJECT = IMAGE
/* MAP OBJECT DEFINITIONS */
OBJECT = IMAGE_MAP_PROJECTION
  ^DATA_SET_MAP_PROJECTION_CATALOG= "DSMAP.CAT"
  A_AXIS_RADIUS = 3396.0
  B_AXIS_RADIUS = 3396.0
  C_AXIS_RADIUS = 3396.0
  CENTER_LATITUDE = -90.0
  CENTER_LONGITUDE = 0.0
  COORDINATE_SYSTEM_NAME = PLANETOGRAPHIC
  COORDINATE_SYSTEM_TYPE = "BODY-FIXED ROTATING"
  EASTERNMOST_LONGITUDE = 360.0
  FIRST_STANDARD_PARALLEL = "N/A"
  LINE_FIRST_PIXEL = 1
  LINE_LAST_PIXEL = 19777
  LINE_PROJECTION_OFFSET = 8876.0
  MAP_PROJECTION_ROTATION = 0.0
  MAP_PROJECTION_TYPE = STEREOGRAPHIC
  MAP_RESOLUTION = 4741.71043093333
  MAP_SCALE = 0.0125
  MAXIMUM_LATITUDE = -86.52509999999999
  MINIMUM_LATITUDE = -90.0
  POSITIVE_LONGITUDE_DIRECTION = EAST
  REFERENCE_LATITUDE = "N/A"
  REFERENCE_LONGITUDE = "N/A"
  SAMPLE_FIRST_PIXEL = 1
  SAMPLE_LAST_PIXEL = 29377
  SAMPLE_PROJECTION_OFFSET = 16456.0
  SECOND_STANDARD_PARALLEL = "N/A"
  WESTERNMOST_LONGITUDE = 0.0
END_OBJECT = IMAGE_MAP_PROJECTION
END
