PDS_VERSION_ID = PDS3
/* FILE DATA ELEMENTS */
RECORD_TYPE = UNDEFINED
/* POINTERS TO DATA OBJECTS */
^IMAGE = ("H4706_0000_S24.TIF")
/* IDENTIFICATION DATA ELEMENTS */
DATA_SET_ID = "MEX-M-HRSC-4-REFDR-MAPPROJECT-EXT1-V4.0"
DATA_SET_NAME = "MARS EXPRESS HRSC MAP PROJECTED REFDR EXTENSION1 V4.0"
DETECTOR_ID = MEX_HRSC_S2
EVENT_TYPE = "MARS-LOCAL-STEREO-Gl-Eo-La"
INSTRUMENT_HOST_ID = MEX
INSTRUMENT_HOST_NAME = "MARS EXPRESS"
INSTRUMENT_ID = HRSC
INSTRUMENT_NAME = "HIGH RESOLUTION STEREO CAMERA"
MISSION_NAME = "MARS EXPRESS"
MISSION_PHASE_NAME = ME_Phase_9
PROCESSING_LEVEL_ID = 4
PRODUCT_CREATION_TIME = 2023-02-11T00:15:54.000Z
PRODUCT_ID = "H4706_0000_S24.TIF"
RELEASE_ID = 0007
REVISION_ID = 0000
/* QUALITY DATA ELEMENTS */
DATA_QUALITY_ID = 1
DATA_QUALITY_DESC = "Data calculated based on original SPICE kernels"
/* TIME DATA ELEMENTS */
SPACECRAFT_CLOCK_START_COUNT = "1/0136807428.08229"
SPACECRAFT_CLOCK_STOP_COUNT = "1/0136807585.41353"
START_TIME = 2007-09-02T10:04:57.856Z
STOP_TIME = 2007-09-02T10:06:27.622Z
/* ORBITAL DATA ELEMENTS */
ASCENDING_NODE_LONGITUDE = 130.01
MAXIMUM_RESOLUTION = 0.0168
FOOTPRINT_POINT_LATITUDE = (-87.0924,-87.1536,-87.1983,-87.2137, -87.2239,-87.2285,-87.2273,-87.22, -87.2062,-87.1856,-87.1416,-87.1372, -87.008,-87.1771,-87.4039,-87.5763, -87.8057,-88.0347,-88.2055,-88.4312, -88.7722,-88.9924,-89.1509,-89.3439, -89.4995,-89.5597,-89.5492,-89.4715, -89.3944,-89.3038,-89.2029,-89.0957, -88.9845,-88.8129,-88.6372,-88.4591, -88.3375,-88.2142,-88.0285,-87.9046, -87.7806,-87.6558,-87.5304,-87.4022, -87.2745,-87.1463,-87.0178,-86.8891, -86.8247,-86.8215,-86.8099,-86.7929, -86.7515,-86.6998,-86.6598,-86.5773, -86.4543,-86.3552,-86.3473,-86.3437, -86.526,-86.6467,-86.7668,-86.8861, -87.0047,-87.1197,-87.2898,-87.4015, -87.5117,-87.6207,-87.7274,-87.8311, -87.9312,-88.0279,-88.1218,-88.2123, -88.2983,-88.3794,-88.4542,-88.5218, -88.5812,-88.6323,-88.6901,-88.7266, -88.7307,-88.7053,-88.6569,-88.5876, -88.5002,-88.3977,-88.2421,-88.0293, -87.8925,-87.7018,-87.5036,-87.3008, -87.0974,-87.046,-87.0924)
FOOTPRINT_POINT_LONGITUDE = (142.128,137.747,133.04,130.574,128.041 ,125.45,122.811,120.129,117.417,114.684 ,110.576,110.234,107.213,106.716, 105.951,105.257,104.169,102.845,101.631 ,99.5861,95.0049,90.2228,85.0396, 74.3208,55.6207,34.4795,10.8303,351.28, 341.61,334.426,328.831,324.561,321.209, 317.392,314.532,312.346,311.133,310.071 ,308.747,308.029,307.407,306.807, 306.265,305.761,305.344,304.945,304.567 ,304.214,304.052,304.038,299.128, 296.395,292.138,288.429,286.089,282.198 ,277.634,274.629,274.408,274.298, 273.183,272.371,271.499,270.561,269.549 ,268.473,266.696,265.382,263.95,262.39, 260.678,258.815,256.802,254.585,252.143 ,249.451,246.478,243.197,239.585, 235.684,231.469,226.911,219.515,211.498 ,200.595,192.666,185.219,178.377, 172.253,166.821,160.613,154.511,151.434 ,147.908,144.932,142.406,140.271, 139.787,142.128)
ORBIT_NUMBER = 4706
ORBITAL_ECCENTRICITY = 0.57
ORBITAL_INCLINATION = 86.68
ORBITAL_SEMIMAJOR_AXIS = 8542.77
PERIAPSIS_ALTITUDE = 296.98
PERIAPSIS_ARGUMENT_ANGLE = 250.13
PERIAPSIS_TIME = 2007-09-02T09:59:59.000Z
SPACECRAFT_ORIENTATION = (0.0,-1.0,0.0)
^MEX_ORIENTATION_DESC = "MEX_ORIENTATION_DESC.TXT"
SPACECRAFT_POINTING_MODE = INERT
^MEX_POINTING_DESC = "MEX_POINTING_DESC.TXT"
RIGHT_ASCENSION = 283.725
DECLINATION = 62.214
OFFSET_ANGLE = -1e+32
SPACECRAFT_SOLAR_DISTANCE = 2.14629e+08
TARGET_NAME = MARS
/* CAMERA DATA ELEMENTS */
DETECTOR_TEMPERATURE = 18.7783
FOCAL_PLANE_TEMPERATURE = 8.9911
INST_CMPRS_NAME = "DISCRETE COSINE TRANSFORMATION (DCT)"
INST_CMPRS_RATIO = 6.38046
INST_CMPRS_QUALITY = 0
INST_CMPRS_QUANTZ_TBL_ID = 0
INSTRUMENT_TEMPERATURE = 11.4379
LENS_TEMPERATURE = 9.3989
MACROPIXEL_SIZE = 1
MISSING_FRAMES = 0
PIXEL_SUBSAMPLING_FLAG = N
SIGNAL_CHAIN_ID = 1
/* RADIOMETRIC DATA ELEMENTS */
BANDWIDTH = 178.0
CENTER_FILTER_WAVELENGTH = 679.0
RADIANCE_OFFSET = 3.947
RADIANCE_SCALING_FACTOR = 0.0343545
REFLECTANCE_SCALING_FACTOR = 0.000838099
MEX:REFLECTANCE_OFFSET = 0.0962893
/* IMAGE OBJECT DEFINITIONS */
OBJECT = IMAGE
  INTERCHANGE_FORMAT = BINARY
  LINES = 19777
  LINE_SAMPLES = 29377
  SAMPLE_TYPE = UNSIGNED_INTEGER
  SAMPLE_BITS = 8
  BANDS = 1
  BAND_STORAGE_TYPE = BAND_SEQUENTIAL
  MAXIMUM = 255
  MEAN = 102.279
  MINIMUM = 1
  STANDARD_DEVIATION = 84.5828
END_OBJECT = IMAGE
/* MAP OBJECT DEFINITIONS */
OBJECT = IMAGE_MAP_PROJECTION
  ^DATA_SET_MAP_PROJECTION_CATALOG= "DSMAP.CAT"
  A_AXIS_RADIUS = 3396.0
  B_AXIS_RADIUS = 3396.0
  C_AXIS_RADIUS = 3396.0
  CENTER_LATITUDE = -90.0
  CENTER_LONGITUDE = 0.0
  COORDINATE_SYSTEM_NAME = PLANETOGRAPHIC
  COORDINATE_SYSTEM_TYPE = "BODY-FIXED ROTATING"
  EASTERNMOST_LONGITUDE = 360.0
  FIRST_STANDARD_PARALLEL = "N/A"
  LINE_FIRST_PIXEL = 1
  LINE_LAST_PIXEL = 19777
  LINE_PROJECTION_OFFSET = 8876.0
  MAP_PROJECTION_ROTATION = 0.0
  MAP_PROJECTION_TYPE = STEREOGRAPHIC
  MAP_RESOLUTION = 4741.71043093333
  MAP_SCALE = 0.0125
  MAXIMUM_LATITUDE = -86.3437
  MINIMUM_LATITUDE = -90.0
  POSITIVE_LONGITUDE_DIRECTION = EAST
  REFERENCE_LATITUDE = "N/A"
  REFERENCE_LONGITUDE = "N/A"
  SAMPLE_FIRST_PIXEL = 1
  SAMPLE_LAST_PIXEL = 29377
  SAMPLE_PROJECTION_OFFSET = 16456.0
  SECOND_STANDARD_PARALLEL = "N/A"
  WESTERNMOST_LONGITUDE = 0.0
END_OBJECT = IMAGE_MAP_PROJECTION
END
