PDS_VERSION_ID = PDS3
/* FILE DATA ELEMENTS */
RECORD_TYPE = UNDEFINED
/* POINTERS TO DATA OBJECTS */
^IMAGE = ("H4707_0000_IR4.TIF")
/* IDENTIFICATION DATA ELEMENTS */
DATA_SET_ID = "MEX-M-HRSC-4-REFDR-MAPPROJECT-EXT1-V4.0"
DATA_SET_NAME = "MARS EXPRESS HRSC MAP PROJECTED REFDR EXTENSION1 V4.0"
DETECTOR_ID = MEX_HRSC_IR
EVENT_TYPE = "MARS-REGIONAL-MAPPING-Gl-La"
INSTRUMENT_HOST_ID = MEX
INSTRUMENT_HOST_NAME = "MARS EXPRESS"
INSTRUMENT_ID = HRSC
INSTRUMENT_NAME = "HIGH RESOLUTION STEREO CAMERA"
MISSION_NAME = "MARS EXPRESS"
MISSION_PHASE_NAME = ME_Phase_9
PROCESSING_LEVEL_ID = 4
PRODUCT_CREATION_TIME = 2023-02-11T00:15:54.000Z
PRODUCT_ID = "H4707_0000_IR4.TIF"
RELEASE_ID = 0007
REVISION_ID = 0000
/* QUALITY DATA ELEMENTS */
DATA_QUALITY_ID = 1
DATA_QUALITY_DESC = "Data calculated based on original SPICE kernels"
/* TIME DATA ELEMENTS */
SPACECRAFT_CLOCK_START_COUNT = "1/0136831679.08421"
SPACECRAFT_CLOCK_STOP_COUNT = "1/0136831958.32412"
START_TIME = 2007-09-02T16:48:08.978Z
STOP_TIME = 2007-09-02T16:51:00.804Z
/* ORBITAL DATA ELEMENTS */
ASCENDING_NODE_LONGITUDE = 129.99
MAXIMUM_RESOLUTION = 0.0624
FOOTPRINT_POINT_LATITUDE = (-84.962,-85.4654,-85.8371,-86.1988, -86.21,-86.1767,-86.021,-85.9292, -85.7752,-85.663,-85.4195,-85.2227, -84.9411,-84.6404,-84.4826,-84.2402, -84.0753,-83.9067,-83.735,-83.5594, -83.3779,-83.1939,-83.0076,-82.8172, -82.6282,-82.4333,-82.1409,-81.8434, -81.6376,-81.432,-81.2258,-81.018, -80.8057,-80.5918,-80.3776,-80.1623, -79.9415,-79.609,-79.3868,-79.1601, -78.9319,-78.5877,-78.2378,-78.0032, -77.7686,-77.5286,-77.2884,-77.1681, -77.0504,-76.9795,-76.9096,-76.7986, -76.701,-76.604,-76.4543,-76.4475, -76.4464,-76.6802,-76.9136,-77.1455, -77.3731,-77.5996,-77.8257,-78.0443, -78.2665,-78.4877,-78.7046,-78.9178, -79.1293,-79.3403,-79.5486,-79.7527, -79.9552,-80.2563,-80.452,-80.7436, -80.9364,-81.1248,-81.3087,-81.4851, -81.754,-81.9326,-82.1073,-82.2777, -82.5272,-82.6878,-82.8441,-82.9968, -83.1459,-83.3536,-83.494,-83.6311, -83.8293,-84.0706,-84.3435,-84.5362, -84.705,-84.8122,-84.8442,-84.962)
FOOTPRINT_POINT_LONGITUDE = (119.091,120.428,121.641,123.067, 123.116,124.134,129.827,132.495,136.276 ,138.64,142.982,145.918,149.474,152.654 ,154.123,156.18,157.453,158.661,159.806 ,160.897,161.95,162.947,163.892,164.795 ,165.644,166.465,167.612,168.681, 169.369,170.02,170.639,171.231,171.805, 172.355,172.879,173.38,173.869,174.564, 175.002,175.429,175.839,176.425,176.983 ,177.337,177.678,178.011,178.332, 178.488,178.637,177.634,176.695,175.295 ,174.168,173.114,171.611,171.546, 171.523,171.15,170.762,170.36,169.951, 169.525,169.083,168.626,168.16,167.675, 167.17,166.654,166.116,165.555,164.98, 164.384,163.764,162.784,162.111,161.046 ,160.297,159.523,158.724,157.887, 156.565,155.646,154.697,153.703,152.127 ,151.023,149.89,148.706,147.469,145.519 ,144.161,142.752,140.521,137.336, 132.982,129.196,125.135,121.929,120.831 ,119.091)
ORBIT_NUMBER = 4707
ORBITAL_ECCENTRICITY = 0.57
ORBITAL_INCLINATION = 86.68
ORBITAL_SEMIMAJOR_AXIS = 8542.16
PERIAPSIS_ALTITUDE = 296.97
PERIAPSIS_ARGUMENT_ANGLE = 249.95
PERIAPSIS_TIME = 2007-09-02T16:43:11.000Z
SPACECRAFT_ORIENTATION = (0.0,-1.0,0.0)
^MEX_ORIENTATION_DESC = "MEX_ORIENTATION_DESC.TXT"
SPACECRAFT_POINTING_MODE = ACROSSTRACK
^MEX_POINTING_DESC = "MEX_POINTING_DESC.TXT"
RIGHT_ASCENSION = -1e+32
DECLINATION = -1e+32
OFFSET_ANGLE = 0.9
SPACECRAFT_SOLAR_DISTANCE = 2.14675e+08
TARGET_NAME = MARS
/* CAMERA DATA ELEMENTS */
DETECTOR_TEMPERATURE = 17.9627
FOCAL_PLANE_TEMPERATURE = 10.0106
INST_CMPRS_NAME = "DISCRETE COSINE TRANSFORMATION (DCT)"
INST_CMPRS_RATIO = 12.4522
INST_CMPRS_QUALITY = 0
INST_CMPRS_QUANTZ_TBL_ID = 0
INSTRUMENT_TEMPERATURE = 11.4379
LENS_TEMPERATURE = 10.2145
MACROPIXEL_SIZE = 4
MISSING_FRAMES = 0
PIXEL_SUBSAMPLING_FLAG = N
SIGNAL_CHAIN_ID = 2
/* RADIOMETRIC DATA ELEMENTS */
BANDWIDTH = 81.0
CENTER_FILTER_WAVELENGTH = 955.5
RADIANCE_OFFSET = 0.843515
RADIANCE_SCALING_FACTOR = 0.00285996
REFLECTANCE_SCALING_FACTOR = 0.000284349
MEX:REFLECTANCE_OFFSET = 0.0838657
/* IMAGE OBJECT DEFINITIONS */
OBJECT = IMAGE
  INTERCHANGE_FORMAT = BINARY
  LINES = 11557
  LINE_SAMPLES = 9194
  SAMPLE_TYPE = UNSIGNED_INTEGER
  SAMPLE_BITS = 8
  BANDS = 1
  BAND_STORAGE_TYPE = BAND_SEQUENTIAL
  MAXIMUM = 255
  MEAN = 115.69
  MINIMUM = 1
  STANDARD_DEVIATION = 58.0901
END_OBJECT = IMAGE
/* MAP OBJECT DEFINITIONS */
OBJECT = IMAGE_MAP_PROJECTION
  ^DATA_SET_MAP_PROJECTION_CATALOG= "DSMAP.CAT"
  A_AXIS_RADIUS = 3396.0
  B_AXIS_RADIUS = 3396.0
  C_AXIS_RADIUS = 3396.0
  CENTER_LATITUDE = 0.0
  CENTER_LONGITUDE = 161.0
  COORDINATE_SYSTEM_NAME = PLANETOGRAPHIC
  COORDINATE_SYSTEM_TYPE = "BODY-FIXED ROTATING"
  EASTERNMOST_LONGITUDE = 178.637
  FIRST_STANDARD_PARALLEL = "N/A"
  LINE_FIRST_PIXEL = 1
  LINE_LAST_PIXEL = 11557
  LINE_PROJECTION_OFFSET = -90609.625
  MAP_PROJECTION_ROTATION = 0.0
  MAP_PROJECTION_TYPE = SINUSOIDAL
  MAP_RESOLUTION = 1185.42760773333
  MAP_SCALE = 0.05
  MAXIMUM_LATITUDE = -76.4464
  MINIMUM_LATITUDE = -86.20999999999999
  POSITIVE_LONGITUDE_DIRECTION = EAST
  REFERENCE_LATITUDE = "N/A"
  REFERENCE_LONGITUDE = "N/A"
  SAMPLE_FIRST_PIXEL = 1
  SAMPLE_LAST_PIXEL = 9194
  SAMPLE_PROJECTION_OFFSET = 4401.125
  SECOND_STANDARD_PARALLEL = "N/A"
  WESTERNMOST_LONGITUDE = 119.091
END_OBJECT = IMAGE_MAP_PROJECTION
END
