PDS_VERSION_ID = PDS3
/* FILE DATA ELEMENTS */
RECORD_TYPE = UNDEFINED
/* POINTERS TO DATA OBJECTS */
^IMAGE = ("H4715_0000_GR4.TIF")
/* IDENTIFICATION DATA ELEMENTS */
DATA_SET_ID = "MEX-M-HRSC-4-REFDR-MAPPROJECT-EXT1-V4.0"
DATA_SET_NAME = "MARS EXPRESS HRSC MAP PROJECTED REFDR EXTENSION1 V4.0"
DETECTOR_ID = MEX_HRSC_GREEN
EVENT_TYPE = "MARS-REGIONAL-MAPPING-Fl-Gl-La"
INSTRUMENT_HOST_ID = MEX
INSTRUMENT_HOST_NAME = "MARS EXPRESS"
INSTRUMENT_ID = HRSC
INSTRUMENT_NAME = "HIGH RESOLUTION STEREO CAMERA"
MISSION_NAME = "MARS EXPRESS"
MISSION_PHASE_NAME = ME_Phase_9
PROCESSING_LEVEL_ID = 4
PRODUCT_CREATION_TIME = 2023-02-11T00:15:54.000Z
PRODUCT_ID = "H4715_0000_GR4.TIF"
RELEASE_ID = 0007
REVISION_ID = 0000
/* QUALITY DATA ELEMENTS */
DATA_QUALITY_ID = 1
DATA_QUALITY_DESC = "Data calculated based on original SPICE kernels"
/* TIME DATA ELEMENTS */
SPACECRAFT_CLOCK_START_COUNT = "1/0137025250.09055"
SPACECRAFT_CLOCK_STOP_COUNT = "1/0137025596.01746"
START_TIME = 2007-09-04T22:34:44.124Z
STOP_TIME = 2007-09-04T22:38:36.573Z
/* ORBITAL DATA ELEMENTS */
ASCENDING_NODE_LONGITUDE = 129.83
MAXIMUM_RESOLUTION = 0.0647
FOOTPRINT_POINT_LATITUDE = (-85.6713,-85.9625,-86.2699,-86.6106, -86.8166,-86.8267,-86.8448,-86.6128, -86.2702,-85.8899,-85.3809,-85.1656, -84.9468,-84.7252,-84.4965,-84.2644, -83.905,-83.6633,-83.4197,-83.1749, -82.9251,-82.6724,-82.4191,-82.1611, -81.9006,-81.6396,-81.374,-81.1063, -80.8383,-80.4274,-80.1527,-79.7337, -79.4535,-79.0252,-78.7392,-78.4478, -78.1559,-77.7122,-77.4153,-77.1134, -76.812,-76.5045,-76.1973,-75.8857, -75.5735,-75.2568,-74.779,-74.4573, -73.9684,-73.8052,-73.7693,-73.7328, -73.6792,-73.5893,-73.5375,-73.4075, -73.4029,-73.4028,-73.7238,-74.0443, -74.3598,-74.8293,-75.1415,-75.4466, -75.9027,-76.2016,-76.6464,-76.9413, -77.2304,-77.6624,-77.9455,-78.2286, -78.5055,-78.9202,-79.3259,-79.5957, -79.859,-80.1216,-80.3807,-80.6357, -81.0154,-81.2621,-81.5072,-81.7495, -81.985,-82.2199,-82.4519,-82.6776, -82.9006,-83.2286,-83.441,-83.656, -83.8597,-84.2457,-84.4316,-84.7804, -85.1756,-85.5736,-85.6315,-85.6713)
FOOTPRINT_POINT_LONGITUDE = (64.3062,66.3694,68.9535,72.4775, 75.0689,75.2074,75.8008,80.7683,86.3494 ,91.0535,95.8502,97.4945,98.9916, 100.362,101.639,102.808,104.44,105.42, 106.332,107.177,107.975,108.722,109.415 ,110.071,110.689,111.268,111.819, 112.339,112.828,113.522,113.964,114.561 ,114.94,115.48,115.817,116.144,116.459, 116.9,117.177,117.443,117.687,117.947, 118.183,118.41,118.628,118.838,119.135, 119.323,119.6,119.689,119.708,118.692, 117.41,115.61,114.683,112.659,112.595, 112.572,112.325,112.07,111.803,111.386, 111.097,110.794,110.32,109.98,109.456, 109.087,108.705,108.099,107.676,107.231 ,106.77,106.035,105.255,104.701,104.125 ,103.516,102.877,102.209,101.135, 100.379,99.5752,98.7258,97.8347,96.892, 95.8941,94.8509,93.7372,91.9434,90.6695 ,89.257,87.7961,84.6356,82.8881,79.0882 ,73.6233,66.0408,64.6454,64.3062)
ORBIT_NUMBER = 4715
ORBITAL_ECCENTRICITY = 0.57
ORBITAL_INCLINATION = 86.69
ORBITAL_SEMIMAJOR_AXIS = 8541.16
PERIAPSIS_ALTITUDE = 296.99
PERIAPSIS_ARGUMENT_ANGLE = 248.56
PERIAPSIS_TIME = 2007-09-04T22:28:52.000Z
SPACECRAFT_ORIENTATION = (0.0,-1.0,0.0)
^MEX_ORIENTATION_DESC = "MEX_ORIENTATION_DESC.TXT"
SPACECRAFT_POINTING_MODE = ACROSSTRACK
^MEX_POINTING_DESC = "MEX_POINTING_DESC.TXT"
RIGHT_ASCENSION = -1e+32
DECLINATION = -1e+32
OFFSET_ANGLE = -0.1
SPACECRAFT_SOLAR_DISTANCE = 2.15039e+08
TARGET_NAME = MARS
/* CAMERA DATA ELEMENTS */
DETECTOR_TEMPERATURE = 20.0017
FOCAL_PLANE_TEMPERATURE = 8.9911
INST_CMPRS_NAME = "DISCRETE COSINE TRANSFORMATION (DCT)"
INST_CMPRS_RATIO = 16.1082
INST_CMPRS_QUALITY = 0
INST_CMPRS_QUANTZ_TBL_ID = 0
INSTRUMENT_TEMPERATURE = 11.6418
LENS_TEMPERATURE = 50.9945
MACROPIXEL_SIZE = 4
MISSING_FRAMES = 1
PIXEL_SUBSAMPLING_FLAG = N
SIGNAL_CHAIN_ID = 2
/* RADIOMETRIC DATA ELEMENTS */
BANDWIDTH = 88.0
CENTER_FILTER_WAVELENGTH = 538.0
RADIANCE_OFFSET = 1.45016
RADIANCE_SCALING_FACTOR = 0.00342827
REFLECTANCE_SCALING_FACTOR = 0.000136491
MEX:REFLECTANCE_OFFSET = 0.0577356
/* IMAGE OBJECT DEFINITIONS */
OBJECT = IMAGE
  INTERCHANGE_FORMAT = BINARY
  LINES = 15938
  LINE_SAMPLES = 8084
  SAMPLE_TYPE = UNSIGNED_INTEGER
  SAMPLE_BITS = 8
  BANDS = 1
  BAND_STORAGE_TYPE = BAND_SEQUENTIAL
  MAXIMUM = 255
  MEAN = 131.577
  MINIMUM = 1
  STANDARD_DEVIATION = 48.4575
END_OBJECT = IMAGE
/* MAP OBJECT DEFINITIONS */
OBJECT = IMAGE_MAP_PROJECTION
  ^DATA_SET_MAP_PROJECTION_CATALOG= "DSMAP.CAT"
  A_AXIS_RADIUS = 3396.0
  B_AXIS_RADIUS = 3396.0
  C_AXIS_RADIUS = 3396.0
  CENTER_LATITUDE = 0.0
  CENTER_LONGITUDE = 107.0
  COORDINATE_SYSTEM_NAME = PLANETOGRAPHIC
  COORDINATE_SYSTEM_TYPE = "BODY-FIXED ROTATING"
  EASTERNMOST_LONGITUDE = 119.708
  FIRST_STANDARD_PARALLEL = "N/A"
  LINE_FIRST_PIXEL = 1
  LINE_LAST_PIXEL = 15938
  LINE_PROJECTION_OFFSET = -87014.875
  MAP_PROJECTION_ROTATION = 0.0
  MAP_PROJECTION_TYPE = SINUSOIDAL
  MAP_RESOLUTION = 1185.42760773333
  MAP_SCALE = 0.05
  MAXIMUM_LATITUDE = -73.4028
  MINIMUM_LATITUDE = -86.84480000000001
  POSITIVE_LONGITUDE_DIRECTION = EAST
  REFERENCE_LATITUDE = "N/A"
  REFERENCE_LONGITUDE = "N/A"
  SAMPLE_FIRST_PIXEL = 1
  SAMPLE_LAST_PIXEL = 8084
  SAMPLE_PROJECTION_OFFSET = 3842.375
  SECOND_STANDARD_PARALLEL = "N/A"
  WESTERNMOST_LONGITUDE = 64.3062
END_OBJECT = IMAGE_MAP_PROJECTION
END
