PDS_VERSION_ID = PDS3
/* FILE DATA ELEMENTS */
RECORD_TYPE = UNDEFINED
/* POINTERS TO DATA OBJECTS */
^IMAGE = ("H4730_0000_S14.TIF")
/* IDENTIFICATION DATA ELEMENTS */
DATA_SET_ID = "MEX-M-HRSC-4-REFDR-MAPPROJECT-EXT1-V4.0"
DATA_SET_NAME = "MARS EXPRESS HRSC MAP PROJECTED REFDR EXTENSION1 V4.0"
DETECTOR_ID = MEX_HRSC_S1
EVENT_TYPE = "MARS-REGIONAL-MAPPING-Fl-Gl-La"
INSTRUMENT_HOST_ID = MEX
INSTRUMENT_HOST_NAME = "MARS EXPRESS"
INSTRUMENT_ID = HRSC
INSTRUMENT_NAME = "HIGH RESOLUTION STEREO CAMERA"
MISSION_NAME = "MARS EXPRESS"
MISSION_PHASE_NAME = ME_Phase_10
PROCESSING_LEVEL_ID = 4
PRODUCT_CREATION_TIME = 2023-02-11T00:15:54.000Z
PRODUCT_ID = "H4730_0000_S14.TIF"
RELEASE_ID = 0007
REVISION_ID = 0000
/* QUALITY DATA ELEMENTS */
DATA_QUALITY_ID = 1
DATA_QUALITY_DESC = "Data calculated based on original SPICE kernels"
/* TIME DATA ELEMENTS */
SPACECRAFT_CLOCK_START_COUNT = "1/0137388240.08540"
SPACECRAFT_CLOCK_STOP_COUNT = "1/0137388546.54431"
START_TIME = 2007-09-09T03:24:04.095Z
STOP_TIME = 2007-09-09T03:26:46.501Z
/* ORBITAL DATA ELEMENTS */
ASCENDING_NODE_LONGITUDE = 129.52
MAXIMUM_RESOLUTION = 0.0383
FOOTPRINT_POINT_LATITUDE = (-82.496,-82.7198,-82.8753,-83.0243, -83.1665,-83.302,-83.4307,-83.4385, -83.3575,-83.0348,-82.7048,-82.2817, -81.763,-81.5856,-81.4072,-81.0492, -80.8667,-80.6817,-80.404,-80.1221, -79.9322,-79.7421,-79.5516,-79.3582, -79.1629,-78.9675,-78.7721,-78.4732, -78.2725,-77.9727,-77.6688,-77.465, -77.2575,-77.0482,-76.7341,-76.5217, -76.3093,-76.0982,-75.8882,-75.56, -75.3413,-75.1193,-74.8982,-74.6756, -74.4511,-74.2282,-74.0031,-73.6588, -73.543,-73.5265,-73.4419,-73.3894, -73.3198,-73.2502,-73.1484,-73.0806, -72.9843,-72.9777,-72.9761,-73.3101, -73.6463,-73.9764,-74.1966,-74.4131, -74.6286,-74.8428,-75.0442,-75.2546, -75.5693,-75.7849,-75.992,-76.2985, -76.5018,-76.7033,-76.8963,-77.095, -77.3897,-77.5819,-77.7743,-77.9663, -78.1559,-78.4373,-78.624,-78.8094, -78.9916,-79.2632,-79.4433,-79.6196, -79.7945,-79.9691,-80.1429,-80.4811, -80.8984,-81.2202,-81.459,-81.769, -82.0698,-82.2906,-82.3624,-82.496)
FOOTPRINT_POINT_LONGITUDE = (53.473,55.4321,56.919,58.4602,60.0536, 61.7035,63.4089,63.5173,63.971,65.5224, 66.9452,68.5671,70.3011,70.8397,71.3565 ,72.3252,72.7872,73.2353,73.8727, 74.4801,74.8685,75.2419,75.6011,75.9518 ,76.2925,76.6202,76.9357,77.3962, 77.6916,78.1127,78.5171,78.7767,79.0323 ,79.2812,79.6392,79.871,80.0951,80.3105 ,80.5171,80.8292,81.0288,81.2251, 81.4143,81.5989,81.7793,81.9527,82.1226 ,82.3735,82.4556,82.4672,81.1043, 80.3562,79.4069,78.5275,77.3148,76.577, 75.5754,75.5088,75.4843,75.1713,74.8475 ,74.5122,74.2805,74.0456,73.8026, 73.5526,73.2923,73.0299,72.6257,72.3531 ,72.0661,71.6242,71.3196,71.0039, 70.6805,70.3511,69.8344,69.4824,69.119, 68.743,68.357,67.7608,67.3458,66.9178, 66.4823,65.7994,65.3235,64.8398,64.3396 ,63.821,63.2831,62.1702,60.6607,59.3751 ,58.3449,56.894,55.3441,54.101,53.6773, 53.473)
ORBIT_NUMBER = 4730
ORBITAL_ECCENTRICITY = 0.57
ORBITAL_INCLINATION = 86.7
ORBITAL_SEMIMAJOR_AXIS = 8544.01
PERIAPSIS_ALTITUDE = 296.75
PERIAPSIS_ARGUMENT_ANGLE = 245.96
PERIAPSIS_TIME = 2007-09-09T03:17:04.000Z
SPACECRAFT_ORIENTATION = (0.0,-1.0,0.0)
^MEX_ORIENTATION_DESC = "MEX_ORIENTATION_DESC.TXT"
SPACECRAFT_POINTING_MODE = ACROSSTRACK
^MEX_POINTING_DESC = "MEX_POINTING_DESC.TXT"
RIGHT_ASCENSION = -1e+32
DECLINATION = -1e+32
OFFSET_ANGLE = 0.75
SPACECRAFT_SOLAR_DISTANCE = 2.15737e+08
TARGET_NAME = MARS
/* CAMERA DATA ELEMENTS */
DETECTOR_TEMPERATURE = 17.7588
FOCAL_PLANE_TEMPERATURE = 8.9911
INST_CMPRS_NAME = "DISCRETE COSINE TRANSFORMATION (DCT)"
INST_CMPRS_RATIO = 10.7047
INST_CMPRS_QUALITY = 0
INST_CMPRS_QUANTZ_TBL_ID = 0
INSTRUMENT_TEMPERATURE = 11.6418
LENS_TEMPERATURE = 9.3989
MACROPIXEL_SIZE = 2
MISSING_FRAMES = 0
PIXEL_SUBSAMPLING_FLAG = N
SIGNAL_CHAIN_ID = 1
/* RADIOMETRIC DATA ELEMENTS */
BANDWIDTH = 180.0
CENTER_FILTER_WAVELENGTH = 677.0
RADIANCE_OFFSET = 4.8502
RADIANCE_SCALING_FACTOR = 0.00962479
REFLECTANCE_SCALING_FACTOR = 0.000233715
MEX:REFLECTANCE_OFFSET = 0.117776
/* IMAGE OBJECT DEFINITIONS */
OBJECT = IMAGE
  INTERCHANGE_FORMAT = BINARY
  LINES = 12284
  LINE_SAMPLES = 6437
  SAMPLE_TYPE = UNSIGNED_INTEGER
  SAMPLE_BITS = 8
  BANDS = 1
  BAND_STORAGE_TYPE = BAND_SEQUENTIAL
  MAXIMUM = 255
  MEAN = 105.212
  MINIMUM = 1
  STANDARD_DEVIATION = 35.4629
END_OBJECT = IMAGE
/* MAP OBJECT DEFINITIONS */
OBJECT = IMAGE_MAP_PROJECTION
  ^DATA_SET_MAP_PROJECTION_CATALOG= "DSMAP.CAT"
  A_AXIS_RADIUS = 3396.0
  B_AXIS_RADIUS = 3396.0
  C_AXIS_RADIUS = 3396.0
  CENTER_LATITUDE = 0.0
  CENTER_LONGITUDE = 73.0
  COORDINATE_SYSTEM_NAME = PLANETOGRAPHIC
  COORDINATE_SYSTEM_TYPE = "BODY-FIXED ROTATING"
  EASTERNMOST_LONGITUDE = 82.46720000000001
  FIRST_STANDARD_PARALLEL = "N/A"
  LINE_FIRST_PIXEL = 1
  LINE_LAST_PIXEL = 12284
  LINE_PROJECTION_OFFSET = -86501.75
  MAP_PROJECTION_ROTATION = 0.0
  MAP_PROJECTION_TYPE = SINUSOIDAL
  MAP_RESOLUTION = 1185.42760773333
  MAP_SCALE = 0.05
  MAXIMUM_LATITUDE = -72.9761
  MINIMUM_LATITUDE = -83.4385
  POSITIVE_LONGITUDE_DIRECTION = EAST
  REFERENCE_LATITUDE = "N/A"
  REFERENCE_LONGITUDE = "N/A"
  SAMPLE_FIRST_PIXEL = 1
  SAMPLE_LAST_PIXEL = 6437
  SAMPLE_PROJECTION_OFFSET = 3122.25
  SECOND_STANDARD_PARALLEL = "N/A"
  WESTERNMOST_LONGITUDE = 53.473
END_OBJECT = IMAGE_MAP_PROJECTION
END
