PDS_VERSION_ID = PDS3
/* FILE DATA ELEMENTS */
RECORD_TYPE = UNDEFINED
/* POINTERS TO DATA OBJECTS */
^IMAGE = ("H4731_0000_P24.TIF")
/* IDENTIFICATION DATA ELEMENTS */
DATA_SET_ID = "MEX-M-HRSC-4-REFDR-MAPPROJECT-EXT1-V4.0"
DATA_SET_NAME = "MARS EXPRESS HRSC MAP PROJECTED REFDR EXTENSION1 V4.0"
DETECTOR_ID = MEX_HRSC_P2
EVENT_TYPE = "MARS-REGIONAL-STEREO-Gl-La"
INSTRUMENT_HOST_ID = MEX
INSTRUMENT_HOST_NAME = "MARS EXPRESS"
INSTRUMENT_ID = HRSC
INSTRUMENT_NAME = "HIGH RESOLUTION STEREO CAMERA"
MISSION_NAME = "MARS EXPRESS"
MISSION_PHASE_NAME = ME_Phase_10
PROCESSING_LEVEL_ID = 4
PRODUCT_CREATION_TIME = 2023-02-11T00:15:54.000Z
PRODUCT_ID = "H4731_0000_P24.TIF"
RELEASE_ID = 0007
REVISION_ID = 0000
/* QUALITY DATA ELEMENTS */
DATA_QUALITY_ID = 1
DATA_QUALITY_DESC = "Data calculated based on original SPICE kernels"
/* TIME DATA ELEMENTS */
SPACECRAFT_CLOCK_START_COUNT = "1/0137412525.07294"
SPACECRAFT_CLOCK_STOP_COUNT = "1/0137412869.39474"
START_TIME = 2007-09-09T10:10:25.461Z
STOP_TIME = 2007-09-09T10:13:50.552Z
/* ORBITAL DATA ELEMENTS */
ASCENDING_NODE_LONGITUDE = 129.5
MAXIMUM_RESOLUTION = 0.0508
FOOTPRINT_POINT_LATITUDE = (-77.0569,-77.2163,-77.3227,-77.421, -77.5114,-77.594,-77.6686,-77.673, -77.7451,-77.3081,-76.9544,-76.5081, -76.2366,-75.9637,-75.5975,-75.2268, -74.8545,-74.6652,-74.4741,-74.1886, -73.9975,-73.7074,-73.5132,-73.3208, -73.1227,-72.9248,-72.7275,-72.5283, -72.3287,-72.1273,-71.8241,-71.6209, -71.4163,-71.2113,-71.0042,-70.7965, -70.5897,-70.3802,-70.1729,-69.9617, -69.6391,-69.3151,-69.0974,-68.8803, -68.6649,-68.4423,-68.2227,-68.0017, -67.8905,-67.8691,-67.8527,-67.8324, -67.81,-67.7688,-67.737,-67.6835, -67.6422,-67.6108,-67.5753,-67.5203, -67.4827,-67.4768,-67.4756,-67.8009, -68.1259,-68.3405,-68.5539,-68.7671, -68.9792,-69.1891,-69.5031,-69.8155, -70.022,-70.2258,-70.4293,-70.631, -70.933,-71.1338,-71.3329,-71.6298, -71.9245,-72.2188,-72.412,-72.6052, -72.7961,-72.9869,-73.1757,-73.3643, -73.7378,-74.1067,-74.564,-74.9236, -75.1904,-75.632,-76.0675,-76.4127, -76.751,-77.0018,-77.0853,-77.0569)
FOOTPRINT_POINT_LONGITUDE = (330.917,332.866,334.296,335.738, 337.189,338.649,340.119,340.211,340.181 ,340.753,341.186,341.699,341.994, 342.278,342.642,342.991,343.324,343.486 ,343.645,343.877,344.027,344.248, 344.391,344.531,344.668,344.804,344.936 ,345.066,345.193,345.319,345.502, 345.621,345.739,345.854,345.967,346.078 ,346.187,346.295,346.4,346.504,346.656, 346.804,346.9,346.996,347.09,347.181, 347.272,347.361,347.405,347.414,346.892 ,346.292,345.693,344.719,344.045, 342.995,342.242,341.717,341.11,340.281, 339.753,339.679,339.652,339.497,339.331 ,339.22,339.106,338.987,338.867,338.746 ,338.558,338.362,338.23,338.099,337.965 ,337.829,337.616,337.468,337.318, 337.088,336.85,336.597,336.43,336.257, 336.084,335.906,335.725,335.541,335.159 ,334.764,334.235,333.8,333.462,332.864, 332.23,331.688,331.143,330.711,330.563, 330.917)
ORBIT_NUMBER = 4731
ORBITAL_ECCENTRICITY = 0.57
ORBITAL_INCLINATION = 86.7
ORBITAL_SEMIMAJOR_AXIS = 8544.99
PERIAPSIS_ALTITUDE = 297.72
PERIAPSIS_ARGUMENT_ANGLE = 245.77
PERIAPSIS_TIME = 2007-09-09T10:00:14.000Z
SPACECRAFT_ORIENTATION = (0.0,-1.0,0.0)
^MEX_ORIENTATION_DESC = "MEX_ORIENTATION_DESC.TXT"
SPACECRAFT_POINTING_MODE = ACROSSTRACK
^MEX_POINTING_DESC = "MEX_POINTING_DESC.TXT"
RIGHT_ASCENSION = -1e+32
DECLINATION = -1e+32
OFFSET_ANGLE = 0.9
SPACECRAFT_SOLAR_DISTANCE = 2.15784e+08
TARGET_NAME = MARS
/* CAMERA DATA ELEMENTS */
DETECTOR_TEMPERATURE = 18.5744
FOCAL_PLANE_TEMPERATURE = 8.9911
INST_CMPRS_NAME = "DISCRETE COSINE TRANSFORMATION (DCT)"
INST_CMPRS_RATIO = 7.71086
INST_CMPRS_QUALITY = 0
INST_CMPRS_QUANTZ_TBL_ID = 0
INSTRUMENT_TEMPERATURE = 11.4379
LENS_TEMPERATURE = 9.195
MACROPIXEL_SIZE = 2
MISSING_FRAMES = 0
PIXEL_SUBSAMPLING_FLAG = N
SIGNAL_CHAIN_ID = 3
/* RADIOMETRIC DATA ELEMENTS */
BANDWIDTH = 177.0
CENTER_FILTER_WAVELENGTH = 676.5
RADIANCE_OFFSET = 4.17452
RADIANCE_SCALING_FACTOR = 0.0121143
REFLECTANCE_SCALING_FACTOR = 0.000299088
MEX:REFLECTANCE_OFFSET = 0.103064
/* IMAGE OBJECT DEFINITIONS */
OBJECT = IMAGE
  INTERCHANGE_FORMAT = BINARY
  LINES = 12221
  LINE_SAMPLES = 5539
  SAMPLE_TYPE = UNSIGNED_INTEGER
  SAMPLE_BITS = 8
  BANDS = 1
  BAND_STORAGE_TYPE = BAND_SEQUENTIAL
  MAXIMUM = 254
  MEAN = 130.767
  MINIMUM = 1
  STANDARD_DEVIATION = 26.0871
END_OBJECT = IMAGE
/* MAP OBJECT DEFINITIONS */
OBJECT = IMAGE_MAP_PROJECTION
  ^DATA_SET_MAP_PROJECTION_CATALOG= "DSMAP.CAT"
  A_AXIS_RADIUS = 3396.0
  B_AXIS_RADIUS = 3396.0
  C_AXIS_RADIUS = 3396.0
  CENTER_LATITUDE = 0.0
  CENTER_LONGITUDE = 340.0
  COORDINATE_SYSTEM_NAME = PLANETOGRAPHIC
  COORDINATE_SYSTEM_TYPE = "BODY-FIXED ROTATING"
  EASTERNMOST_LONGITUDE = 347.414
  FIRST_STANDARD_PARALLEL = "N/A"
  LINE_FIRST_PIXEL = 1
  LINE_LAST_PIXEL = 12221
  LINE_PROJECTION_OFFSET = -79978.75
  MAP_PROJECTION_ROTATION = 0.0
  MAP_PROJECTION_TYPE = SINUSOIDAL
  MAP_RESOLUTION = 1185.42760773333
  MAP_SCALE = 0.05
  MAXIMUM_LATITUDE = -67.4756
  MINIMUM_LATITUDE = -77.74509999999999
  POSITIVE_LONGITUDE_DIRECTION = EAST
  REFERENCE_LATITUDE = "N/A"
  REFERENCE_LONGITUDE = "N/A"
  SAMPLE_FIRST_PIXEL = 1
  SAMPLE_LAST_PIXEL = 5539
  SAMPLE_PROJECTION_OFFSET = 2417.75
  SECOND_STANDARD_PARALLEL = "N/A"
  WESTERNMOST_LONGITUDE = 330.563
END_OBJECT = IMAGE_MAP_PROJECTION
END
