PDS_VERSION_ID = PDS3
/* FILE DATA ELEMENTS */
RECORD_TYPE = UNDEFINED
/* POINTERS TO DATA OBJECTS */
^IMAGE = ("H4791_0000_S14.TIF")
/* IDENTIFICATION DATA ELEMENTS */
DATA_SET_ID = "MEX-M-HRSC-4-REFDR-MAPPROJECT-EXT1-V4.0"
DATA_SET_NAME = "MARS EXPRESS HRSC MAP PROJECTED REFDR EXTENSION1 V4.0"
DETECTOR_ID = MEX_HRSC_S1
EVENT_TYPE = "MARS-REGIONAL-MAPPING-Gl-La-Ot"
INSTRUMENT_HOST_ID = MEX
INSTRUMENT_HOST_NAME = "MARS EXPRESS"
INSTRUMENT_ID = HRSC
INSTRUMENT_NAME = "HIGH RESOLUTION STEREO CAMERA"
MISSION_NAME = "MARS EXPRESS"
MISSION_PHASE_NAME = ME_Phase_10
PROCESSING_LEVEL_ID = 4
PRODUCT_CREATION_TIME = 2023-02-11T00:15:54.000Z
PRODUCT_ID = "H4791_0000_S14.TIF"
RELEASE_ID = 0007
REVISION_ID = 0000
/* QUALITY DATA ELEMENTS */
DATA_QUALITY_ID = 1
DATA_QUALITY_DESC = "Data calculated based on original SPICE kernels"
/* TIME DATA ELEMENTS */
SPACECRAFT_CLOCK_START_COUNT = "1/0138864045.07276"
SPACECRAFT_CLOCK_STOP_COUNT = "1/0138864423.20227"
START_TIME = 2007-09-26T05:20:49.134Z
STOP_TIME = 2007-09-26T05:23:50.312Z
/* ORBITAL DATA ELEMENTS */
ASCENDING_NODE_LONGITUDE = 128.29
MAXIMUM_RESOLUTION = 0.0459
FOOTPRINT_POINT_LATITUDE = (-85.365,-85.7516,-86.0043,-86.4189, -86.685,-86.9268,-86.9406,-86.905, -86.5654,-86.3446,-86.1117,-85.7846, -85.5288,-85.1751,-84.9928,-84.8087, -84.6208,-84.4304,-84.2387,-83.9449, -83.7471,-83.5469,-83.3438,-83.1401, -82.9333,-82.7249,-82.5159,-82.3032, -81.983,-81.6574,-81.4396,-81.2184, -80.9962,-80.772,-80.5469,-80.3212, -80.0923,-79.8633,-79.6311,-79.3985, -79.0456,-78.8096,-78.449,-78.087, -77.7215,-77.3511,-77.1029,-76.729, -76.6018,-76.5928,-76.5392,-76.5012, -76.4292,-76.3458,-76.2929,-76.1953, -76.093,-76.0081,-75.9999,-75.9979, -76.2414,-76.4827,-76.7234,-76.9617, -77.1988,-77.4317,-77.6649,-77.8951, -78.2388,-78.4645,-78.6902,-78.9119, -79.2415,-79.4583,-79.7794,-80.098, -80.3068,-80.6168,-80.9202,-81.1213, -81.318,-81.5136,-81.8016,-81.9908, -82.1776,-82.4514,-82.6318,-82.8073, -82.9808,-83.1516,-83.3176,-83.4812, -83.6412,-83.9484,-84.3089,-84.5767, -84.9387,-85.2486,-85.2942,-85.365)
FOOTPRINT_POINT_LONGITUDE = (153.362,155.726,157.559,161.246, 164.221,167.508,167.718,169.561,176.02, 179.264,182.133,185.5,187.705,190.306, 191.481,192.573,193.597,194.557,195.452 ,196.702,197.471,198.198,198.886, 199.533,200.147,200.729,201.278,201.804 ,202.539,203.226,203.654,204.066,204.46 ,204.837,205.194,205.535,205.864, 206.178,206.481,206.771,207.186,207.448 ,207.829,208.184,208.521,208.844, 209.047,209.337,209.433,209.44,207.983, 207.048,205.507,203.986,203.081,201.59, 200.22,199.157,199.061,199.026,198.727, 198.421,198.103,197.776,197.436,197.086 ,196.723,196.349,195.761,195.352, 194.927,194.488,193.798,193.317,192.562 ,191.759,191.201,190.317,189.383, 188.725,188.045,187.331,186.208,185.416 ,184.589,183.285,182.361,181.404, 180.399,179.344,178.25,177.099,175.893, 173.322,169.763,166.612,161.354,155.412 ,154.362,153.362)
ORBIT_NUMBER = 4791
ORBITAL_ECCENTRICITY = 0.57
ORBITAL_INCLINATION = 86.7
ORBITAL_SEMIMAJOR_AXIS = 8561.98
PERIAPSIS_ALTITUDE = 298.23
PERIAPSIS_ARGUMENT_ANGLE = 235.37
PERIAPSIS_TIME = 2007-09-26T05:12:03.000Z
SPACECRAFT_ORIENTATION = (0.0,-1.0,0.0)
^MEX_ORIENTATION_DESC = "MEX_ORIENTATION_DESC.TXT"
SPACECRAFT_POINTING_MODE = NADIR
^MEX_POINTING_DESC = "MEX_POINTING_DESC.TXT"
RIGHT_ASCENSION = -1e+32
DECLINATION = -1e+32
OFFSET_ANGLE = -1e+32
SPACECRAFT_SOLAR_DISTANCE = 2.18744e+08
TARGET_NAME = MARS
/* CAMERA DATA ELEMENTS */
DETECTOR_TEMPERATURE = 17.9627
FOCAL_PLANE_TEMPERATURE = 8.5833
INST_CMPRS_NAME = "DISCRETE COSINE TRANSFORMATION (DCT)"
INST_CMPRS_RATIO = 12.0469
INST_CMPRS_QUALITY = 0
INST_CMPRS_QUANTZ_TBL_ID = 0
INSTRUMENT_TEMPERATURE = 11.234
LENS_TEMPERATURE = 8.7872
MACROPIXEL_SIZE = 2
MISSING_FRAMES = 0
PIXEL_SUBSAMPLING_FLAG = N
SIGNAL_CHAIN_ID = 1
/* RADIOMETRIC DATA ELEMENTS */
BANDWIDTH = 180.0
CENTER_FILTER_WAVELENGTH = 677.0
RADIANCE_OFFSET = 3.0895
RADIANCE_SCALING_FACTOR = 0.0108008
REFLECTANCE_SCALING_FACTOR = 0.000269635
MEX:REFLECTANCE_OFFSET = 0.0771273
/* IMAGE OBJECT DEFINITIONS */
OBJECT = IMAGE
  INTERCHANGE_FORMAT = BINARY
  LINES = 13040
  LINE_SAMPLES = 8365
  SAMPLE_TYPE = UNSIGNED_INTEGER
  SAMPLE_BITS = 8
  BANDS = 1
  BAND_STORAGE_TYPE = BAND_SEQUENTIAL
  MAXIMUM = 255
  MEAN = 96.3199
  MINIMUM = 1
  STANDARD_DEVIATION = 43.7471
END_OBJECT = IMAGE
/* MAP OBJECT DEFINITIONS */
OBJECT = IMAGE_MAP_PROJECTION
  ^DATA_SET_MAP_PROJECTION_CATALOG= "DSMAP.CAT"
  A_AXIS_RADIUS = 3396.0
  B_AXIS_RADIUS = 3396.0
  C_AXIS_RADIUS = 3396.0
  CENTER_LATITUDE = 0.0
  CENTER_LONGITUDE = 194.0
  COORDINATE_SYSTEM_NAME = PLANETOGRAPHIC
  COORDINATE_SYSTEM_TYPE = "BODY-FIXED ROTATING"
  EASTERNMOST_LONGITUDE = 209.44
  FIRST_STANDARD_PARALLEL = "N/A"
  LINE_FIRST_PIXEL = 1
  LINE_LAST_PIXEL = 13040
  LINE_PROJECTION_OFFSET = -90013.75
  MAP_PROJECTION_ROTATION = 0.0
  MAP_PROJECTION_TYPE = SINUSOIDAL
  MAP_RESOLUTION = 1185.42760773333
  MAP_SCALE = 0.05
  MAXIMUM_LATITUDE = -75.9979
  MINIMUM_LATITUDE = -86.9406
  POSITIVE_LONGITUDE_DIRECTION = EAST
  REFERENCE_LATITUDE = "N/A"
  REFERENCE_LONGITUDE = "N/A"
  SAMPLE_FIRST_PIXEL = 1
  SAMPLE_LAST_PIXEL = 8365
  SAMPLE_PROJECTION_OFFSET = 3957.25
  SECOND_STANDARD_PARALLEL = "N/A"
  WESTERNMOST_LONGITUDE = 153.362
END_OBJECT = IMAGE_MAP_PROJECTION
END
