PDS_VERSION_ID = PDS3
/* FILE DATA ELEMENTS */
RECORD_TYPE = UNDEFINED
/* POINTERS TO DATA OBJECTS */
^IMAGE = ("H4799_0000_S24.TIF")
/* IDENTIFICATION DATA ELEMENTS */
DATA_SET_ID = "MEX-M-HRSC-4-REFDR-MAPPROJECT-EXT1-V4.0"
DATA_SET_NAME = "MARS EXPRESS HRSC MAP PROJECTED REFDR EXTENSION1 V4.0"
DETECTOR_ID = MEX_HRSC_S2
EVENT_TYPE = "MARS-REGIONAL-MAPPING-Gl-Ot"
INSTRUMENT_HOST_ID = MEX
INSTRUMENT_HOST_NAME = "MARS EXPRESS"
INSTRUMENT_ID = HRSC
INSTRUMENT_NAME = "HIGH RESOLUTION STEREO CAMERA"
MISSION_NAME = "MARS EXPRESS"
MISSION_PHASE_NAME = ME_Phase_10
PROCESSING_LEVEL_ID = 4
PRODUCT_CREATION_TIME = 2023-02-11T00:15:54.000Z
PRODUCT_ID = "H4799_0000_S24.TIF"
RELEASE_ID = 0007
REVISION_ID = 0000
/* QUALITY DATA ELEMENTS */
DATA_QUALITY_ID = 1
DATA_QUALITY_DESC = "Data calculated based on original SPICE kernels"
/* TIME DATA ELEMENTS */
SPACECRAFT_CLOCK_START_COUNT = "1/0139057690.09068"
SPACECRAFT_CLOCK_STOP_COUNT = "1/0139058402.27718"
START_TIME = 2007-09-28T11:11:01.050Z
STOP_TIME = 2007-09-28T11:20:04.576Z
/* ORBITAL DATA ELEMENTS */
ASCENDING_NODE_LONGITUDE = 128.13
MAXIMUM_RESOLUTION = 0.0716
FOOTPRINT_POINT_LATITUDE = (-80.7184,-81.0222,-81.2036,-81.367, -81.5116,-81.6364,-81.7286,-81.7346, -81.8588,-80.8961,-80.233,-79.2222, -78.5417,-78.0195,-77.3109,-76.9523, -76.5922,-76.2291,-75.6805,-75.3134, -74.7528,-74.3769,-74.0001,-73.6174, -73.2337,-72.8517,-72.4595,-72.0696, -71.6803,-71.2809,-70.8793,-70.4737, -70.0657,-69.4467,-69.0344,-68.6117, -67.9779,-67.3452,-66.7027,-66.2813, -65.8659,-65.4531,-65.0526,-64.6495, -64.2428,-63.8514,-63.2731,-63.0809, -62.8925,-62.9117,-62.9152,-62.9146, -62.9035,-62.876,-62.855,-62.8264, -62.7848,-62.7541,-62.6874,-62.6818, -62.6807,-63.043,-63.408,-63.7805, -64.1614,-64.5484,-64.9398,-65.3326, -65.9191,-66.5426,-67.1613,-67.5768, -67.9867,-68.3917,-68.9937,-69.3954, -69.7933,-70.1867,-70.5757,-70.9602, -71.5354,-71.9072,-72.2928,-72.667, -73.0323,-73.5743,-74.117,-74.4785, -75.0085,-75.5354,-76.2266,-76.9013, -77.2408,-77.8898,-78.3768,-79.0087, -79.6203,-80.5141,-80.6598,-80.7184)
FOOTPRINT_POINT_LONGITUDE = (121.511,125.308,127.968,130.727,133.58 ,136.526,139.176,139.368,139.507, 141.149,142.072,143.268,143.966,144.44, 145.016,145.283,145.54,145.785,146.133, 146.356,146.668,146.868,147.061,147.245 ,147.423,147.599,147.763,147.926, 148.087,148.236,148.382,148.522,148.659 ,148.856,148.986,149.106,149.286, 149.466,149.631,149.736,149.838,149.935 ,150.035,150.126,150.208,150.295, 150.422,150.462,150.501,148.931,148.083 ,146.635,145.551,143.867,143.026, 141.944,140.623,139.782,138.22,138.1, 138.056,137.987,137.916,137.836,137.747 ,137.65,137.547,137.441,137.281,137.073 ,136.862,136.706,136.546,136.381, 136.119,135.929,135.731,135.526,135.315 ,135.096,134.743,134.509,134.232, 133.958,133.685,133.252,132.773,132.425 ,131.89,131.304,130.457,129.535,129.015 ,127.964,127.066,125.774,124.361, 121.892,121.436,121.511)
ORBIT_NUMBER = 4799
ORBITAL_ECCENTRICITY = 0.57
ORBITAL_INCLINATION = 86.69
ORBITAL_SEMIMAJOR_AXIS = 8561.35
PERIAPSIS_ALTITUDE = 299.79
PERIAPSIS_ARGUMENT_ANGLE = 233.95
PERIAPSIS_TIME = 2007-09-28T10:57:32.000Z
SPACECRAFT_ORIENTATION = (0.0,-1.0,0.0)
^MEX_ORIENTATION_DESC = "MEX_ORIENTATION_DESC.TXT"
SPACECRAFT_POINTING_MODE = NADIR
^MEX_POINTING_DESC = "MEX_POINTING_DESC.TXT"
RIGHT_ASCENSION = -1e+32
DECLINATION = -1e+32
OFFSET_ANGLE = -1e+32
SPACECRAFT_SOLAR_DISTANCE = 2.19155e+08
TARGET_NAME = MARS
/* CAMERA DATA ELEMENTS */
DETECTOR_TEMPERATURE = 18.7783
FOCAL_PLANE_TEMPERATURE = 8.1755
INST_CMPRS_NAME = "DISCRETE COSINE TRANSFORMATION (DCT)"
INST_CMPRS_RATIO = 10.883
INST_CMPRS_QUALITY = 0
INST_CMPRS_QUANTZ_TBL_ID = 0
INSTRUMENT_TEMPERATURE = 11.4379
LENS_TEMPERATURE = 8.9911
MACROPIXEL_SIZE = 2
MISSING_FRAMES = 0
PIXEL_SUBSAMPLING_FLAG = N
SIGNAL_CHAIN_ID = 1
/* RADIOMETRIC DATA ELEMENTS */
BANDWIDTH = 178.0
CENTER_FILTER_WAVELENGTH = 679.0
RADIANCE_OFFSET = 3.01989
RADIANCE_SCALING_FACTOR = 0.0152108
REFLECTANCE_SCALING_FACTOR = 0.000386895
MEX:REFLECTANCE_OFFSET = 0.0768124
/* IMAGE OBJECT DEFINITIONS */
OBJECT = IMAGE
  INTERCHANGE_FORMAT = BINARY
  LINES = 22769
  LINE_SAMPLES = 7995
  SAMPLE_TYPE = UNSIGNED_INTEGER
  SAMPLE_BITS = 8
  BANDS = 1
  BAND_STORAGE_TYPE = BAND_SEQUENTIAL
  MAXIMUM = 255
  MEAN = 105.54
  MINIMUM = 1
  STANDARD_DEVIATION = 40.3805
END_OBJECT = IMAGE
/* MAP OBJECT DEFINITIONS */
OBJECT = IMAGE_MAP_PROJECTION
  ^DATA_SET_MAP_PROJECTION_CATALOG= "DSMAP.CAT"
  A_AXIS_RADIUS = 3396.0
  B_AXIS_RADIUS = 3396.0
  C_AXIS_RADIUS = 3396.0
  CENTER_LATITUDE = 0.0
  CENTER_LONGITUDE = 140.0
  COORDINATE_SYSTEM_NAME = PLANETOGRAPHIC
  COORDINATE_SYSTEM_TYPE = "BODY-FIXED ROTATING"
  EASTERNMOST_LONGITUDE = 150.501
  FIRST_STANDARD_PARALLEL = "N/A"
  LINE_FIRST_PIXEL = 1
  LINE_LAST_PIXEL = 22769
  LINE_PROJECTION_OFFSET = -74263.75
  MAP_PROJECTION_ROTATION = 0.0
  MAP_PROJECTION_TYPE = SINUSOIDAL
  MAP_RESOLUTION = 1185.42760773333
  MAP_SCALE = 0.05
  MAXIMUM_LATITUDE = -62.6807
  MINIMUM_LATITUDE = -81.8588
  POSITIVE_LONGITUDE_DIRECTION = EAST
  REFERENCE_LATITUDE = "N/A"
  REFERENCE_LONGITUDE = "N/A"
  SAMPLE_FIRST_PIXEL = 1
  SAMPLE_LAST_PIXEL = 7995
  SAMPLE_PROJECTION_OFFSET = 3393.75
  SECOND_STANDARD_PARALLEL = "N/A"
  WESTERNMOST_LONGITUDE = 121.436
END_OBJECT = IMAGE_MAP_PROJECTION
END
