PDS_VERSION_ID = PDS3
/* FILE DATA ELEMENTS */
RECORD_TYPE = UNDEFINED
/* POINTERS TO DATA OBJECTS */
^IMAGE = ("H4802_0000_GR4.TIF")
/* IDENTIFICATION DATA ELEMENTS */
DATA_SET_ID = "MEX-M-HRSC-4-REFDR-MAPPROJECT-EXT1-V4.0"
DATA_SET_NAME = "MARS EXPRESS HRSC MAP PROJECTED REFDR EXTENSION1 V4.0"
DETECTOR_ID = MEX_HRSC_GREEN
EVENT_TYPE = "MARS-REGIONAL-MAPPING-Im-Gl-Eo"
INSTRUMENT_HOST_ID = MEX
INSTRUMENT_HOST_NAME = "MARS EXPRESS"
INSTRUMENT_ID = HRSC
INSTRUMENT_NAME = "HIGH RESOLUTION STEREO CAMERA"
MISSION_NAME = "MARS EXPRESS"
MISSION_PHASE_NAME = ME_Phase_10
PROCESSING_LEVEL_ID = 4
PRODUCT_CREATION_TIME = 2023-02-11T00:15:54.000Z
PRODUCT_ID = "H4802_0000_GR4.TIF"
RELEASE_ID = 0007
REVISION_ID = 0000
/* QUALITY DATA ELEMENTS */
DATA_QUALITY_ID = 1
DATA_QUALITY_DESC = "Data calculated based on original SPICE kernels"
/* TIME DATA ELEMENTS */
SPACECRAFT_CLOCK_START_COUNT = "1/0139130337.07303"
SPACECRAFT_CLOCK_STOP_COUNT = "1/0139130928.49121"
START_TIME = 2007-09-29T07:20:07.923Z
STOP_TIME = 2007-09-29T07:24:40.386Z
/* ORBITAL DATA ELEMENTS */
ASCENDING_NODE_LONGITUDE = 128.07
MAXIMUM_RESOLUTION = 0.0639
FOOTPRINT_POINT_LATITUDE = (-77.3581,-77.4951,-77.6286,-77.7631, -77.8681,-77.9593,-78.0575,-78.0616, -78.0509,-77.5957,-77.2509,-76.7869, -76.3172,-75.8418,-75.4818,-75.1188, -74.7526,-74.2597,-73.7602,-73.2554, -72.7444,-72.2282,-71.9678,-71.7056, -71.4419,-71.1768,-70.91,-70.6414, -70.3714,-70.0999,-69.8266,-69.5515, -69.2752,-68.997,-68.7168,-68.4353, -68.1518,-67.8666,-67.5796,-67.2909, -67.0005,-66.7085,-66.4144,-66.1187, -65.8211,-65.3712,-65.0706,-64.9208, -64.8147,-64.8042,-64.7928,-64.7691, -64.7475,-64.712,-64.6819,-64.6347, -64.5961,-64.5258,-64.4778,-64.4262, -64.4195,-64.4182,-64.7127,-65.0083, -65.4498,-65.7419,-66.032,-66.3205, -66.6071,-66.8923,-67.1753,-67.4566, -67.7361,-68.0139,-68.2901,-68.5645, -68.8372,-69.1082,-69.3775,-69.6453, -69.911,-70.1751,-70.4378,-70.6987, -70.9577,-71.2155,-71.7265,-72.2307, -72.7288,-73.2209,-73.706,-74.1833, -74.7745,-75.2394,-75.6981,-76.1504, -76.5968,-77.1467,-77.2551,-77.3581)
FOOTPRINT_POINT_LONGITUDE = (195.29,197.005,198.869,201.013,202.953 ,204.926,207.564,207.691,207.897, 208.294,208.576,208.927,209.262,209.575 ,209.798,210.01,210.214,210.47,210.714, 210.944,211.163,211.367,211.465,211.561 ,211.654,211.746,211.834,211.921, 212.006,212.089,212.17,212.251,212.327, 212.403,212.478,212.549,212.621,212.69, 212.758,212.824,212.887,212.949,213.011 ,213.071,213.13,213.214,213.269,213.295 ,213.314,212.496,211.858,210.86,210.136 ,209.143,208.423,207.434,206.716, 205.556,204.844,204.133,204.044,204.012 ,203.931,203.848,203.717,203.627, 203.534,203.438,203.34,203.239,203.136, 203.029,202.92,202.807,202.691,202.573, 202.45,202.325,202.196,202.064,201.927, 201.787,201.643,201.495,201.342,201.187 ,200.862,200.521,200.16,199.779,199.373 ,198.939,198.375,197.887,197.37,196.822 ,196.24,195.462,195.299,195.29)
ORBIT_NUMBER = 4802
ORBITAL_ECCENTRICITY = 0.57
ORBITAL_INCLINATION = 86.7
ORBITAL_SEMIMAJOR_AXIS = 8565.03
PERIAPSIS_ALTITUDE = 298.57
PERIAPSIS_ARGUMENT_ANGLE = 233.45
PERIAPSIS_TIME = 2007-09-29T07:07:06.000Z
SPACECRAFT_ORIENTATION = (0.0,-1.0,0.0)
^MEX_ORIENTATION_DESC = "MEX_ORIENTATION_DESC.TXT"
SPACECRAFT_POINTING_MODE = NADIR
^MEX_POINTING_DESC = "MEX_POINTING_DESC.TXT"
RIGHT_ASCENSION = -1e+32
DECLINATION = -1e+32
OFFSET_ANGLE = -1e+32
SPACECRAFT_SOLAR_DISTANCE = 2.1931e+08
TARGET_NAME = MARS
/* CAMERA DATA ELEMENTS */
DETECTOR_TEMPERATURE = 18.3705
FOCAL_PLANE_TEMPERATURE = 8.1755
INST_CMPRS_NAME = "DISCRETE COSINE TRANSFORMATION (DCT)"
INST_CMPRS_RATIO = 10.7691
INST_CMPRS_QUALITY = 0
INST_CMPRS_QUANTZ_TBL_ID = 0
INSTRUMENT_TEMPERATURE = 11.234
LENS_TEMPERATURE = 8.7872
MACROPIXEL_SIZE = 2
MISSING_FRAMES = 0
PIXEL_SUBSAMPLING_FLAG = N
SIGNAL_CHAIN_ID = 2
/* RADIOMETRIC DATA ELEMENTS */
BANDWIDTH = 88.0
CENTER_FILTER_WAVELENGTH = 538.0
RADIANCE_OFFSET = 1.04193
RADIANCE_SCALING_FACTOR = 0.00371453
REFLECTANCE_SCALING_FACTOR = 0.000153821
MEX:REFLECTANCE_OFFSET = 0.0431469
/* IMAGE OBJECT DEFINITIONS */
OBJECT = IMAGE
  INTERCHANGE_FORMAT = BINARY
  LINES = 16157
  LINE_SAMPLES = 6623
  SAMPLE_TYPE = UNSIGNED_INTEGER
  SAMPLE_BITS = 8
  BANDS = 1
  BAND_STORAGE_TYPE = BAND_SEQUENTIAL
  MAXIMUM = 255
  MEAN = 122.662
  MINIMUM = 1
  STANDARD_DEVIATION = 37.0033
END_OBJECT = IMAGE
/* MAP OBJECT DEFINITIONS */
OBJECT = IMAGE_MAP_PROJECTION
  ^DATA_SET_MAP_PROJECTION_CATALOG= "DSMAP.CAT"
  A_AXIS_RADIUS = 3396.0
  B_AXIS_RADIUS = 3396.0
  C_AXIS_RADIUS = 3396.0
  CENTER_LATITUDE = 0.0
  CENTER_LONGITUDE = 206.0
  COORDINATE_SYSTEM_NAME = PLANETOGRAPHIC
  COORDINATE_SYSTEM_TYPE = "BODY-FIXED ROTATING"
  EASTERNMOST_LONGITUDE = 213.314
  FIRST_STANDARD_PARALLEL = "N/A"
  LINE_FIRST_PIXEL = 1
  LINE_LAST_PIXEL = 16157
  LINE_PROJECTION_OFFSET = -76375.75
  MAP_PROJECTION_ROTATION = 0.0
  MAP_PROJECTION_TYPE = SINUSOIDAL
  MAP_RESOLUTION = 1185.42760773333
  MAP_SCALE = 0.05
  MAXIMUM_LATITUDE = -64.4182
  MINIMUM_LATITUDE = -78.0616
  POSITIVE_LONGITUDE_DIRECTION = EAST
  REFERENCE_LATITUDE = "N/A"
  REFERENCE_LONGITUDE = "N/A"
  SAMPLE_FIRST_PIXEL = 1
  SAMPLE_LAST_PIXEL = 6623
  SAMPLE_PROJECTION_OFFSET = 2853.25
  SECOND_STANDARD_PARALLEL = "N/A"
  WESTERNMOST_LONGITUDE = 195.29
END_OBJECT = IMAGE_MAP_PROJECTION
END
