PDS_VERSION_ID = PDS3
/* FILE DATA ELEMENTS */
RECORD_TYPE = UNDEFINED
/* POINTERS TO DATA OBJECTS */
^IMAGE = ("H4813_0000_BL4.TIF")
/* IDENTIFICATION DATA ELEMENTS */
DATA_SET_ID = "MEX-M-HRSC-4-REFDR-MAPPROJECT-EXT1-V4.0"
DATA_SET_NAME = "MARS EXPRESS HRSC MAP PROJECTED REFDR EXTENSION1 V4.0"
DETECTOR_ID = MEX_HRSC_BLUE
EVENT_TYPE = "MARS-REGIONAL-MAPPING-Im-Eo"
INSTRUMENT_HOST_ID = MEX
INSTRUMENT_HOST_NAME = "MARS EXPRESS"
INSTRUMENT_ID = HRSC
INSTRUMENT_NAME = "HIGH RESOLUTION STEREO CAMERA"
MISSION_NAME = "MARS EXPRESS"
MISSION_PHASE_NAME = ME_Phase_10
PROCESSING_LEVEL_ID = 4
PRODUCT_CREATION_TIME = 2023-02-11T00:15:54.000Z
PRODUCT_ID = "H4813_0000_BL4.TIF"
RELEASE_ID = 0007
REVISION_ID = 0000
/* QUALITY DATA ELEMENTS */
DATA_QUALITY_ID = 1
DATA_QUALITY_DESC = "Data calculated based on original SPICE kernels"
/* TIME DATA ELEMENTS */
SPACECRAFT_CLOCK_START_COUNT = "1/0139396682.09055"
SPACECRAFT_CLOCK_STOP_COUNT = "1/0139397649.23488"
START_TIME = 2007-10-02T09:20:50.148Z
STOP_TIME = 2007-10-02T09:26:46.868Z
/* ORBITAL DATA ELEMENTS */
ASCENDING_NODE_LONGITUDE = 127.84
MAXIMUM_RESOLUTION = 0.099
FOOTPRINT_POINT_LATITUDE = (-65.7295,-65.7865,-65.8393,-65.8823, -65.9276,-65.9688,-66.023,-66.0541, -66.0811,-66.104,-66.1228,-66.1374, -66.1508,-66.1516,-66.1714,-65.8825, -65.5948,-65.3081,-65.0226,-64.7385, -64.4556,-64.1738,-63.8933,-63.614, -63.3359,-63.059,-62.7833,-62.5086, -62.2351,-61.9626,-61.6916,-61.4216, -61.1528,-60.6191,-60.0899,-59.5654, -59.0454,-58.5299,-58.0187,-57.5118, -57.009,-56.5107,-56.0168,-55.5276, -55.0433,-54.6817,-54.2027,-53.7276, -53.2581,-53.1412,-53.0848,-53.1049, -53.1286,-53.1344,-53.1379,-53.1362, -53.1289,-53.1206,-53.107,-53.095, -53.0748,-53.0579,-53.0273,-53.0015, -52.9771,-52.972,-52.9711,-53.4281, -53.8859,-54.349,-54.8162,-55.2881, -55.7641,-56.2441,-56.7305,-57.2203, -57.8363,-58.3353,-58.8393,-59.3482, -59.8611,-60.3781,-60.9011,-61.4289, -61.9612,-62.2286,-62.4975,-62.7675, -63.0387,-63.3112,-63.585,-63.8599, -64.136,-64.4132,-64.6916,-64.9713, -65.252,-65.5341,-65.6756,-65.7295)
FOOTPRINT_POINT_LONGITUDE = (202.026,202.821,203.617,204.316, 205.117,205.921,207.13,207.938,208.747, 209.559,210.373,211.19,212.315,212.418, 212.53,212.587,212.641,212.693,212.744, 212.793,212.841,212.886,212.932,212.975 ,213.017,213.058,213.097,213.135, 213.172,213.207,213.242,213.276,213.309 ,213.373,213.433,213.49,213.545,213.596 ,213.644,213.69,213.733,213.773,213.812 ,213.851,213.89,213.915,213.945,213.973 ,214.005,214.012,214.016,213.223, 212.033,211.537,210.742,209.554,208.763 ,208.169,207.476,206.982,206.289, 205.795,205.005,204.411,203.917,203.818 ,203.782,203.762,203.749,203.731, 203.709,203.682,203.653,203.62,203.576, 203.531,203.479,203.426,203.368,203.301 ,203.231,203.158,203.071,202.977, 202.876,202.825,202.77,202.713,202.654, 202.592,202.527,202.46,202.39,202.318, 202.243,202.165,202.084,201.999,201.956 ,202.026)
ORBIT_NUMBER = 4813
ORBITAL_ECCENTRICITY = 0.57
ORBITAL_INCLINATION = 86.7
ORBITAL_SEMIMAJOR_AXIS = 8568.13
PERIAPSIS_ALTITUDE = 298.85
PERIAPSIS_ARGUMENT_ANGLE = 231.54
PERIAPSIS_TIME = 2007-10-02T09:02:08.000Z
SPACECRAFT_ORIENTATION = (0.0,-1.0,0.0)
^MEX_ORIENTATION_DESC = "MEX_ORIENTATION_DESC.TXT"
SPACECRAFT_POINTING_MODE = NADIR
^MEX_POINTING_DESC = "MEX_POINTING_DESC.TXT"
RIGHT_ASCENSION = -1e+32
DECLINATION = -1e+32
OFFSET_ANGLE = -1e+32
SPACECRAFT_SOLAR_DISTANCE = 2.19883e+08
TARGET_NAME = MARS
/* CAMERA DATA ELEMENTS */
DETECTOR_TEMPERATURE = 18.5744
FOCAL_PLANE_TEMPERATURE = 8.7872
INST_CMPRS_NAME = "DISCRETE COSINE TRANSFORMATION (DCT)"
INST_CMPRS_RATIO = 6.20946
INST_CMPRS_QUALITY = 0
INST_CMPRS_QUANTZ_TBL_ID = 0
INSTRUMENT_TEMPERATURE = 11.234
LENS_TEMPERATURE = 9.195
MACROPIXEL_SIZE = 2
MISSING_FRAMES = 0
PIXEL_SUBSAMPLING_FLAG = N
SIGNAL_CHAIN_ID = 2
/* RADIOMETRIC DATA ELEMENTS */
BANDWIDTH = 76.0
CENTER_FILTER_WAVELENGTH = 444.0
RADIANCE_OFFSET = 0.462582
RADIANCE_SCALING_FACTOR = 0.0016027
REFLECTANCE_SCALING_FACTOR = 7.96157e-05
MEX:REFLECTANCE_OFFSET = 0.0229792
/* IMAGE OBJECT DEFINITIONS */
OBJECT = IMAGE
  INTERCHANGE_FORMAT = BINARY
  LINES = 7837
  LINE_SAMPLES = 3500
  SAMPLE_TYPE = UNSIGNED_INTEGER
  SAMPLE_BITS = 8
  BANDS = 1
  BAND_STORAGE_TYPE = BAND_SEQUENTIAL
  MAXIMUM = 255
  MEAN = 139.072
  MINIMUM = 1
  STANDARD_DEVIATION = 30.2887
END_OBJECT = IMAGE
/* MAP OBJECT DEFINITIONS */
OBJECT = IMAGE_MAP_PROJECTION
  ^DATA_SET_MAP_PROJECTION_CATALOG= "DSMAP.CAT"
  A_AXIS_RADIUS = 3396.0
  B_AXIS_RADIUS = 3396.0
  C_AXIS_RADIUS = 3396.0
  CENTER_LATITUDE = 0.0
  CENTER_LONGITUDE = 208.0
  COORDINATE_SYSTEM_NAME = PLANETOGRAPHIC
  COORDINATE_SYSTEM_TYPE = "BODY-FIXED ROTATING"
  EASTERNMOST_LONGITUDE = 214.016
  FIRST_STANDARD_PARALLEL = "N/A"
  LINE_FIRST_PIXEL = 1
  LINE_LAST_PIXEL = 7837
  LINE_PROJECTION_OFFSET = -31392.25
  MAP_PROJECTION_ROTATION = 0.0
  MAP_PROJECTION_TYPE = SINUSOIDAL
  MAP_RESOLUTION = 592.713803866667
  MAP_SCALE = 0.1
  MAXIMUM_LATITUDE = -52.9711
  MINIMUM_LATITUDE = -66.17140000000001
  POSITIVE_LONGITUDE_DIRECTION = EAST
  REFERENCE_LATITUDE = "N/A"
  REFERENCE_LONGITUDE = "N/A"
  SAMPLE_FIRST_PIXEL = 1
  SAMPLE_LAST_PIXEL = 3500
  SAMPLE_PROJECTION_OFFSET = 1434.25
  SECOND_STANDARD_PARALLEL = "N/A"
  WESTERNMOST_LONGITUDE = 201.956
END_OBJECT = IMAGE_MAP_PROJECTION
END
