PDS_VERSION_ID = PDS3
/* FILE DATA ELEMENTS */
RECORD_TYPE = UNDEFINED
/* POINTERS TO DATA OBJECTS */
^IMAGE = ("H4817_0000_S24.TIF")
/* IDENTIFICATION DATA ELEMENTS */
DATA_SET_ID = "MEX-M-HRSC-4-REFDR-MAPPROJECT-EXT1-V4.0"
DATA_SET_NAME = "MARS EXPRESS HRSC MAP PROJECTED REFDR EXTENSION1 V4.0"
DETECTOR_ID = MEX_HRSC_S2
EVENT_TYPE = "MARS-REGIONAL-MAPPING-Im-Fl-Ot"
INSTRUMENT_HOST_ID = MEX
INSTRUMENT_HOST_NAME = "MARS EXPRESS"
INSTRUMENT_ID = HRSC
INSTRUMENT_NAME = "HIGH RESOLUTION STEREO CAMERA"
MISSION_NAME = "MARS EXPRESS"
MISSION_PHASE_NAME = ME_Phase_10
PROCESSING_LEVEL_ID = 4
PRODUCT_CREATION_TIME = 2023-02-11T00:15:54.000Z
PRODUCT_ID = "H4817_0000_S24.TIF"
RELEASE_ID = 0007
REVISION_ID = 0000
/* QUALITY DATA ELEMENTS */
DATA_QUALITY_ID = 1
DATA_QUALITY_DESC = "Data calculated based on original SPICE kernels"
/* TIME DATA ELEMENTS */
SPACECRAFT_CLOCK_START_COUNT = "1/0139493621.07276"
SPACECRAFT_CLOCK_STOP_COUNT = "1/0139494881.42654"
START_TIME = 2007-10-03T12:23:20.710Z
STOP_TIME = 2007-10-03T12:34:43.761Z
/* ORBITAL DATA ELEMENTS */
ASCENDING_NODE_LONGITUDE = 127.76
MAXIMUM_RESOLUTION = 0.1861
FOOTPRINT_POINT_LATITUDE = (-57.6216,-57.6365,-57.6468,-57.6555, -57.6627,-57.6684,-57.6727,-57.6755, -57.6769,-57.6768,-57.6723,-57.6621, -57.6463,-57.6247,-57.6118,-57.5974, -57.5814,-57.564,-57.5452,-57.5248, -57.5029,-57.4735,-57.4673,-57.5855, -56.7631,-56.229,-55.8355,-55.3246, -54.8237,-54.3325,-53.8535,-53.4998, -53.0387,-52.5864,-52.1515,-51.8285, -51.29,-50.7847,-50.1822,-49.6973, -49.3245,-48.9556,-48.5947,-48.2419, -47.8954,-47.3115,-46.9913,-46.9114, -46.9069,-46.9972,-47.0943,-47.1471, -47.2336,-47.2934,-47.3683,-47.4707, -47.5222,-47.5732,-47.6573,-47.773, -47.8494,-47.8965,-47.9573,-48.0025, -48.063,-48.1082,-48.1682,-48.2306, -48.3173,-48.3761,-48.4041,-48.4586, -48.4991,-48.5385,-48.5521,-48.5575, -49.0648,-49.3916,-49.7505,-50.2465, -50.5468,-50.8605,-51.1833,-51.5153, -51.857,-52.2084,-52.669,-53.042, -53.5326,-53.9307,-54.3455,-54.7725, -55.2118,-55.6622,-56.1262,-56.6021, -57.2324,-57.6089,-57.7457,-57.6216)
FOOTPRINT_POINT_LONGITUDE = (169.022,169.719,170.276,170.833, 171.389,171.944,172.499,173.053,173.607 ,174.16,175.266,176.371,177.474,178.577 ,179.129,179.681,180.234,180.787,181.34 ,181.895,182.449,183.143,183.282, 183.424,183.608,183.727,183.816,183.936 ,184.054,184.17,184.287,184.374,184.49, 184.605,184.726,184.815,184.953,185.107 ,185.282,185.43,185.554,185.675,185.797 ,185.92,186.043,186.265,186.396,186.428 ,186.429,185.583,184.739,184.23,183.563 ,182.882,182.212,181.202,180.699, 180.195,179.355,178.178,177.335,176.828 ,176.151,175.642,174.962,174.451, 173.768,173.082,172.049,171.355,170.837 ,170.14,169.614,169.087,168.91,168.846, 168.879,168.903,168.919,168.953,168.969 ,168.984,168.998,169.011,169.024, 169.035,169.044,169.053,169.057,169.061 ,169.06,169.056,169.049,169.039,169.024 ,169.006,168.964,168.943,168.928, 169.022)
ORBIT_NUMBER = 4817
ORBITAL_ECCENTRICITY = 0.57
ORBITAL_INCLINATION = 86.69
ORBITAL_SEMIMAJOR_AXIS = 8568.6
PERIAPSIS_ALTITUDE = 299.96
PERIAPSIS_ARGUMENT_ANGLE = 230.82
PERIAPSIS_TIME = 2007-10-03T11:54:53.000Z
SPACECRAFT_ORIENTATION = (0.0,-1.0,0.0)
^MEX_ORIENTATION_DESC = "MEX_ORIENTATION_DESC.TXT"
SPACECRAFT_POINTING_MODE = NADIR
^MEX_POINTING_DESC = "MEX_POINTING_DESC.TXT"
RIGHT_ASCENSION = -1e+32
DECLINATION = -1e+32
OFFSET_ANGLE = -1e+32
SPACECRAFT_SOLAR_DISTANCE = 2.20092e+08
TARGET_NAME = MARS
/* CAMERA DATA ELEMENTS */
DETECTOR_TEMPERATURE = 18.7783
FOCAL_PLANE_TEMPERATURE = 8.3794
INST_CMPRS_NAME = "DISCRETE COSINE TRANSFORMATION (DCT)"
INST_CMPRS_RATIO = 10.7237
INST_CMPRS_QUALITY = 0
INST_CMPRS_QUANTZ_TBL_ID = 0
INSTRUMENT_TEMPERATURE = 11.0301
LENS_TEMPERATURE = 8.7872
MACROPIXEL_SIZE = 2
MISSING_FRAMES = 0
PIXEL_SUBSAMPLING_FLAG = N
SIGNAL_CHAIN_ID = 1
/* RADIOMETRIC DATA ELEMENTS */
BANDWIDTH = 178.0
CENTER_FILTER_WAVELENGTH = 679.0
RADIANCE_OFFSET = 3.77331
RADIANCE_SCALING_FACTOR = 0.0188567
REFLECTANCE_SCALING_FACTOR = 0.000483741
MEX:REFLECTANCE_OFFSET = 0.0967986
/* IMAGE OBJECT DEFINITIONS */
OBJECT = IMAGE
  INTERCHANGE_FORMAT = BINARY
  LINES = 6099
  LINE_SAMPLES = 4093
  SAMPLE_TYPE = UNSIGNED_INTEGER
  SAMPLE_BITS = 8
  BANDS = 1
  BAND_STORAGE_TYPE = BAND_SEQUENTIAL
  MAXIMUM = 207
  MEAN = 114.662
  MINIMUM = 1
  STANDARD_DEVIATION = 33.5993
END_OBJECT = IMAGE
/* MAP OBJECT DEFINITIONS */
OBJECT = IMAGE_MAP_PROJECTION
  ^DATA_SET_MAP_PROJECTION_CATALOG= "DSMAP.CAT"
  A_AXIS_RADIUS = 3396.0
  B_AXIS_RADIUS = 3396.0
  C_AXIS_RADIUS = 3396.0
  CENTER_LATITUDE = 0.0
  CENTER_LONGITUDE = 176.0
  COORDINATE_SYSTEM_NAME = PLANETOGRAPHIC
  COORDINATE_SYSTEM_TYPE = "BODY-FIXED ROTATING"
  EASTERNMOST_LONGITUDE = 186.429
  FIRST_STANDARD_PARALLEL = "N/A"
  LINE_FIRST_PIXEL = 1
  LINE_LAST_PIXEL = 6099
  LINE_PROJECTION_OFFSET = -28171.25
  MAP_PROJECTION_ROTATION = 0.0
  MAP_PROJECTION_TYPE = SINUSOIDAL
  MAP_RESOLUTION = 592.713803866667
  MAP_SCALE = 0.1
  MAXIMUM_LATITUDE = -46.9069
  MINIMUM_LATITUDE = -57.7457
  POSITIVE_LONGITUDE_DIRECTION = EAST
  REFERENCE_LATITUDE = "N/A"
  REFERENCE_LONGITUDE = "N/A"
  SAMPLE_FIRST_PIXEL = 1
  SAMPLE_LAST_PIXEL = 4093
  SAMPLE_PROJECTION_OFFSET = 2112.25
  SECOND_STANDARD_PARALLEL = "N/A"
  WESTERNMOST_LONGITUDE = 168.846
END_OBJECT = IMAGE_MAP_PROJECTION
END
