PDS_VERSION_ID = PDS3
/* FILE DATA ELEMENTS */
RECORD_TYPE = UNDEFINED
/* POINTERS TO DATA OBJECTS */
^IMAGE = ("H4823_0000_IR4.TIF")
/* IDENTIFICATION DATA ELEMENTS */
DATA_SET_ID = "MEX-M-HRSC-4-REFDR-MAPPROJECT-EXT1-V4.0"
DATA_SET_NAME = "MARS EXPRESS HRSC MAP PROJECTED REFDR EXTENSION1 V4.0"
DETECTOR_ID = MEX_HRSC_IR
EVENT_TYPE = "MARS-REGIONAL-MAPPING-Im-Gl"
INSTRUMENT_HOST_ID = MEX
INSTRUMENT_HOST_NAME = "MARS EXPRESS"
INSTRUMENT_ID = HRSC
INSTRUMENT_NAME = "HIGH RESOLUTION STEREO CAMERA"
MISSION_NAME = "MARS EXPRESS"
MISSION_PHASE_NAME = ME_Phase_10
PROCESSING_LEVEL_ID = 4
PRODUCT_CREATION_TIME = 2023-02-11T00:15:54.000Z
PRODUCT_ID = "H4823_0000_IR4.TIF"
RELEASE_ID = 0007
REVISION_ID = 0000
/* QUALITY DATA ELEMENTS */
DATA_QUALITY_ID = 1
DATA_QUALITY_DESC = "Data calculated based on original SPICE kernels"
/* TIME DATA ELEMENTS */
SPACECRAFT_CLOCK_START_COUNT = "1/0139638392.08260"
SPACECRAFT_CLOCK_STOP_COUNT = "1/0139639145.61645"
START_TIME = 2007-10-05T04:26:50.025Z
STOP_TIME = 2007-10-05T04:31:49.728Z
/* ORBITAL DATA ELEMENTS */
ASCENDING_NODE_LONGITUDE = 127.64
MAXIMUM_RESOLUTION = 0.0663
FOOTPRINT_POINT_LATITUDE = (-78.4505,-78.6921,-78.8008,-78.9554, -79.0684,-79.2415,-79.2461,-79.1608, -78.6269,-78.2177,-77.6677,-76.9673, -76.399,-75.8229,-75.2393,-74.6468, -74.0472,-73.4379,-73.1301,-72.8205, -72.5099,-72.1965,-71.8796,-71.5613, -71.2399,-70.9162,-70.5904,-70.2617, -69.9315,-69.599,-69.2635,-68.7562, -68.4167,-68.074,-67.7277,-67.3786, -67.0248,-66.4951,-66.133,-65.772, -65.4127,-65.0454,-64.675,-64.3014, -63.9262,-63.3548,-63.1643,-63.1453, -63.1371,-63.1161,-63.0809,-63.0439, -63.0123,-62.9565,-62.9132,-62.8681, -62.8025,-62.7454,-62.7382,-62.7369, -63.2995,-63.6714,-64.0289,-64.3936, -64.7636,-65.3123,-65.659,-66.0123, -66.3656,-66.7128,-67.0521,-67.3941, -67.7346,-68.0713,-68.4039,-68.9021, -69.2296,-69.5549,-69.8779,-70.1972, -70.5143,-70.8295,-71.1421,-71.4529, -71.7614,-72.0671,-72.3706,-72.6717, -73.2674,-73.8538,-74.4303,-74.9999, -75.5593,-76.1106,-76.6508,-77.0442, -77.5725,-78.2136,-78.3403,-78.4505)
FOOTPRINT_POINT_LONGITUDE = (289.444,292.402,293.926,296.398,298.53 ,302.785,302.925,303.238,303.779, 304.165,304.637,305.181,305.576,305.942 ,306.281,306.597,306.891,307.165, 307.296,307.422,307.541,307.658,307.773 ,307.883,307.991,308.095,308.196, 308.294,308.389,308.48,308.569,308.696, 308.776,308.855,308.931,309.006,309.081 ,309.183,309.254,309.32,309.379,309.441 ,309.501,309.56,309.616,309.699,309.725 ,309.728,308.838,307.681,306.441, 305.472,304.768,303.716,303.017,302.32, 301.451,300.758,300.672,300.64,300.508, 300.417,300.317,300.218,300.118,299.962 ,299.847,299.732,299.614,299.491, 299.362,299.231,299.095,298.955,298.809 ,298.584,298.427,298.265,298.097, 297.924,297.745,297.56,297.37,297.173, 296.97,296.76,296.543,296.318,295.847, 295.343,294.804,294.226,293.607,292.942 ,292.227,291.655,290.84,289.731,289.495 ,289.444)
ORBIT_NUMBER = 4823
ORBITAL_ECCENTRICITY = 0.57
ORBITAL_INCLINATION = 86.69
ORBITAL_SEMIMAJOR_AXIS = 8570.53
PERIAPSIS_ALTITUDE = 299.8
PERIAPSIS_ARGUMENT_ANGLE = 229.8
PERIAPSIS_TIME = 2007-10-05T04:13:58.000Z
SPACECRAFT_ORIENTATION = (0.0,-1.0,0.0)
^MEX_ORIENTATION_DESC = "MEX_ORIENTATION_DESC.TXT"
SPACECRAFT_POINTING_MODE = NADIR
^MEX_POINTING_DESC = "MEX_POINTING_DESC.TXT"
RIGHT_ASCENSION = -1e+32
DECLINATION = -1e+32
OFFSET_ANGLE = -1e+32
SPACECRAFT_SOLAR_DISTANCE = 2.20407e+08
TARGET_NAME = MARS
/* CAMERA DATA ELEMENTS */
DETECTOR_TEMPERATURE = 17.7588
FOCAL_PLANE_TEMPERATURE = 8.7872
INST_CMPRS_NAME = "DISCRETE COSINE TRANSFORMATION (DCT)"
INST_CMPRS_RATIO = 8.08667
INST_CMPRS_QUALITY = 0
INST_CMPRS_QUANTZ_TBL_ID = 0
INSTRUMENT_TEMPERATURE = 11.234
LENS_TEMPERATURE = 10.2145
MACROPIXEL_SIZE = 2
MISSING_FRAMES = 0
PIXEL_SUBSAMPLING_FLAG = N
SIGNAL_CHAIN_ID = 3
/* RADIOMETRIC DATA ELEMENTS */
BANDWIDTH = 81.0
CENTER_FILTER_WAVELENGTH = 955.5
RADIANCE_OFFSET = 0.549673
RADIANCE_SCALING_FACTOR = 0.00437188
REFLECTANCE_SCALING_FACTOR = 0.0004582
MEX:REFLECTANCE_OFFSET = 0.057609
/* IMAGE OBJECT DEFINITIONS */
OBJECT = IMAGE
  INTERCHANGE_FORMAT = BINARY
  LINES = 19478
  LINE_SAMPLES = 7651
  SAMPLE_TYPE = UNSIGNED_INTEGER
  SAMPLE_BITS = 8
  BANDS = 1
  BAND_STORAGE_TYPE = BAND_SEQUENTIAL
  MAXIMUM = 255
  MEAN = 112.9
  MINIMUM = 1
  STANDARD_DEVIATION = 28.6528
END_OBJECT = IMAGE
/* MAP OBJECT DEFINITIONS */
OBJECT = IMAGE_MAP_PROJECTION
  ^DATA_SET_MAP_PROJECTION_CATALOG= "DSMAP.CAT"
  A_AXIS_RADIUS = 3396.0
  B_AXIS_RADIUS = 3396.0
  C_AXIS_RADIUS = 3396.0
  CENTER_LATITUDE = 0.0
  CENTER_LONGITUDE = 302.0
  COORDINATE_SYSTEM_NAME = PLANETOGRAPHIC
  COORDINATE_SYSTEM_TYPE = "BODY-FIXED ROTATING"
  EASTERNMOST_LONGITUDE = 309.728
  FIRST_STANDARD_PARALLEL = "N/A"
  LINE_FIRST_PIXEL = 1
  LINE_LAST_PIXEL = 19478
  LINE_PROJECTION_OFFSET = -74372.75
  MAP_PROJECTION_ROTATION = 0.0
  MAP_PROJECTION_TYPE = SINUSOIDAL
  MAP_RESOLUTION = 1185.42760773333
  MAP_SCALE = 0.05
  MAXIMUM_LATITUDE = -62.7369
  MINIMUM_LATITUDE = -79.2461
  POSITIVE_LONGITUDE_DIRECTION = EAST
  REFERENCE_LATITUDE = "N/A"
  REFERENCE_LONGITUDE = "N/A"
  SAMPLE_FIRST_PIXEL = 1
  SAMPLE_LAST_PIXEL = 7651
  SAMPLE_PROJECTION_OFFSET = 3202.75
  SECOND_STANDARD_PARALLEL = "N/A"
  WESTERNMOST_LONGITUDE = 289.444
END_OBJECT = IMAGE_MAP_PROJECTION
END
