PDS_VERSION_ID = PDS3
/* FILE DATA ELEMENTS */
RECORD_TYPE = UNDEFINED
/* POINTERS TO DATA OBJECTS */
^IMAGE = ("H4837_0000_BL4.TIF")
/* IDENTIFICATION DATA ELEMENTS */
DATA_SET_ID = "MEX-M-HRSC-4-REFDR-MAPPROJECT-EXT1-V4.0"
DATA_SET_NAME = "MARS EXPRESS HRSC MAP PROJECTED REFDR EXTENSION1 V4.0"
DETECTOR_ID = MEX_HRSC_BLUE
EVENT_TYPE = "MARS-REGIONAL-CARTOGRAPHY-Gl-La-At"
INSTRUMENT_HOST_ID = MEX
INSTRUMENT_HOST_NAME = "MARS EXPRESS"
INSTRUMENT_ID = HRSC
INSTRUMENT_NAME = "HIGH RESOLUTION STEREO CAMERA"
MISSION_NAME = "MARS EXPRESS"
MISSION_PHASE_NAME = ME_Phase_10
PROCESSING_LEVEL_ID = 4
PRODUCT_CREATION_TIME = 2023-02-11T00:15:54.000Z
PRODUCT_ID = "H4837_0000_BL4.TIF"
RELEASE_ID = 0007
REVISION_ID = 0000
/* QUALITY DATA ELEMENTS */
DATA_QUALITY_ID = 1
DATA_QUALITY_DESC = "Data calculated based on original SPICE kernels"
/* TIME DATA ELEMENTS */
SPACECRAFT_CLOCK_START_COUNT = "1/0139976862.09081"
SPACECRAFT_CLOCK_STOP_COUNT = "1/0139977234.42762"
START_TIME = 2007-10-09T02:28:47.882Z
STOP_TIME = 2007-10-09T02:32:44.106Z
/* ORBITAL DATA ELEMENTS */
ASCENDING_NODE_LONGITUDE = 127.36
MAXIMUM_RESOLUTION = 0.0511
FOOTPRINT_POINT_LATITUDE = (-84.7992,-84.8861,-84.9524,-84.996, -85.0147,-85.0065,-84.9485,-84.9445, -84.8984,-85.3912,-85.8873,-86.2627, -86.761,-87.262,-87.7535,-88.2302, -88.656,-88.8997,-89.0146,-88.8235, -88.6417,-88.4247,-88.1823,-87.926, -87.6557,-87.3766,-87.0904,-86.7961, -86.4974,-86.1955,-85.8875,-85.5747, -85.2586,-84.9392,-84.6143,-84.2866, -83.955,-83.62,-83.2798,-82.9373, -82.5905,-82.2402,-81.8867,-81.5281, -81.1661,-80.7999,-80.4294,-79.8643, -79.6756,-79.6246,-79.6833,-79.7076, -79.7151,-79.6968,-79.6636,-79.5997, -79.5191,-79.5131,-79.5122,-80.0728, -80.4403,-80.8038,-81.163,-81.5173, -81.8677,-82.2135,-82.5548,-82.8924, -83.2258,-83.555,-83.8799,-84.1999, -84.5153,-84.8258,-85.1317,-85.4312, -85.7249,-86.0127,-86.2936,-86.5659, -86.8297,-87.0832,-87.3236,-87.5486, -87.7547,-87.9366,-88.2063,-88.3022, -88.2651,-88.1247,-87.8264,-87.4484, -87.0251,-86.576,-85.9967,-85.5264, -84.9356,-84.817,-84.7992)
FOOTPRINT_POINT_LONGITUDE = (219.474,215.81,211.961,207.944,203.795 ,199.547,193.615,193.345,192.109, 190.914,189.376,187.976,185.476,182.162 ,177.205,169.603,156.495,140.345, 109.401,80.1738,69.8614,62.0871,56.2952 ,51.8148,48.3301,45.5589,43.3208, 41.5127,39.9804,38.6459,37.514,36.5665, 35.7252,34.9695,34.3266,33.7309,33.2046 ,32.7253,32.3245,31.9207,31.5596, 31.2303,30.9189,30.6432,30.3855,30.145, 29.923,29.6358,29.5256,29.5,26.4127, 24.1178,21.6698,18.5429,16.2028,13.4137 ,10.8854,10.7199,10.6593,10.135,9.76084 ,9.3577,8.92348,8.46362,7.96569,7.42826 ,6.85221,6.22703,5.53957,4.79404, 3.97264,3.06036,2.05431,0.92213,359.685 ,358.247,356.661,354.866,352.807, 350.449,347.715,344.517,340.78,336.356, 331.124,324.957,309.538,295.718,276.743 ,264.152,250.942,241.408,234.565, 229.562,224.978,222.212,219.529,219.068 ,219.474)
ORBIT_NUMBER = 4837
ORBITAL_ECCENTRICITY = 0.57
ORBITAL_INCLINATION = 86.69
ORBITAL_SEMIMAJOR_AXIS = 8572.28
PERIAPSIS_ALTITUDE = 300.42
PERIAPSIS_ARGUMENT_ANGLE = 227.32
PERIAPSIS_TIME = 2007-10-09T02:18:27.000Z
SPACECRAFT_ORIENTATION = (0.0,-1.0,0.0)
^MEX_ORIENTATION_DESC = "MEX_ORIENTATION_DESC.TXT"
SPACECRAFT_POINTING_MODE = INERT
^MEX_POINTING_DESC = "MEX_POINTING_DESC.TXT"
RIGHT_ASCENSION = 231.997
DECLINATION = 63.483
OFFSET_ANGLE = -1e+32
SPACECRAFT_SOLAR_DISTANCE = 2.21149e+08
TARGET_NAME = MARS
/* CAMERA DATA ELEMENTS */
DETECTOR_TEMPERATURE = 17.9627
FOCAL_PLANE_TEMPERATURE = 7.9716
INST_CMPRS_NAME = "DISCRETE COSINE TRANSFORMATION (DCT)"
INST_CMPRS_RATIO = 12.4018
INST_CMPRS_QUALITY = 0
INST_CMPRS_QUANTZ_TBL_ID = 0
INSTRUMENT_TEMPERATURE = 11.234
LENS_TEMPERATURE = 8.5833
MACROPIXEL_SIZE = 2
MISSING_FRAMES = 0
PIXEL_SUBSAMPLING_FLAG = N
SIGNAL_CHAIN_ID = 2
/* RADIOMETRIC DATA ELEMENTS */
BANDWIDTH = 76.0
CENTER_FILTER_WAVELENGTH = 444.0
RADIANCE_OFFSET = 0.295054
RADIANCE_SCALING_FACTOR = 0.00660212
REFLECTANCE_SCALING_FACTOR = 0.000331751
MEX:REFLECTANCE_OFFSET = 0.0148262
/* IMAGE OBJECT DEFINITIONS */
OBJECT = IMAGE
  INTERCHANGE_FORMAT = BINARY
  LINES = 18090
  LINE_SAMPLES = 10013
  SAMPLE_TYPE = UNSIGNED_INTEGER
  SAMPLE_BITS = 8
  BANDS = 1
  BAND_STORAGE_TYPE = BAND_SEQUENTIAL
  MAXIMUM = 255
  MEAN = 69.3827
  MINIMUM = 1
  STANDARD_DEVIATION = 52.6859
END_OBJECT = IMAGE
/* MAP OBJECT DEFINITIONS */
OBJECT = IMAGE_MAP_PROJECTION
  ^DATA_SET_MAP_PROJECTION_CATALOG= "DSMAP.CAT"
  A_AXIS_RADIUS = 3396.0
  B_AXIS_RADIUS = 3396.0
  C_AXIS_RADIUS = 3396.0
  CENTER_LATITUDE = -90.0
  CENTER_LONGITUDE = 0.0
  COORDINATE_SYSTEM_NAME = PLANETOGRAPHIC
  COORDINATE_SYSTEM_TYPE = "BODY-FIXED ROTATING"
  EASTERNMOST_LONGITUDE = 360.0
  FIRST_STANDARD_PARALLEL = "N/A"
  LINE_FIRST_PIXEL = 1
  LINE_LAST_PIXEL = 18090
  LINE_PROJECTION_OFFSET = 12187.75
  MAP_PROJECTION_ROTATION = 0.0
  MAP_PROJECTION_TYPE = STEREOGRAPHIC
  MAP_RESOLUTION = 1185.42760773333
  MAP_SCALE = 0.05
  MAXIMUM_LATITUDE = -79.51220000000001
  MINIMUM_LATITUDE = -90.0
  POSITIVE_LONGITUDE_DIRECTION = EAST
  REFERENCE_LATITUDE = "N/A"
  REFERENCE_LONGITUDE = "N/A"
  SAMPLE_FIRST_PIXEL = 1
  SAMPLE_LAST_PIXEL = 10013
  SAMPLE_PROJECTION_OFFSET = 3885.75
  SECOND_STANDARD_PARALLEL = "N/A"
  WESTERNMOST_LONGITUDE = 0.0
END_OBJECT = IMAGE_MAP_PROJECTION
END
