PDS_VERSION_ID = PDS3
/* FILE DATA ELEMENTS */
RECORD_TYPE = UNDEFINED
/* POINTERS TO DATA OBJECTS */
^IMAGE = ("H4888_0000_GR4.TIF")
/* IDENTIFICATION DATA ELEMENTS */
DATA_SET_ID = "MEX-M-HRSC-4-REFDR-MAPPROJECT-EXT1-V4.0"
DATA_SET_NAME = "MARS EXPRESS HRSC MAP PROJECTED REFDR EXTENSION1 V4.0"
DETECTOR_ID = MEX_HRSC_GREEN
EVENT_TYPE = "MARS-GLOBAL-VARIABLE-Gl-Ot-At"
INSTRUMENT_HOST_ID = MEX
INSTRUMENT_HOST_NAME = "MARS EXPRESS"
INSTRUMENT_ID = HRSC
INSTRUMENT_NAME = "HIGH RESOLUTION STEREO CAMERA"
MISSION_NAME = "MARS EXPRESS"
MISSION_PHASE_NAME = ME_Phase_10
PROCESSING_LEVEL_ID = 4
PRODUCT_CREATION_TIME = 2023-02-11T00:15:54.000Z
PRODUCT_ID = "H4888_0000_GR4.TIF"
RELEASE_ID = 0007
REVISION_ID = 0000
/* QUALITY DATA ELEMENTS */
DATA_QUALITY_ID = 1
DATA_QUALITY_DESC = "Data calculated based on original SPICE kernels"
/* TIME DATA ELEMENTS */
SPACECRAFT_CLOCK_START_COUNT = "1/0141210869.07296"
SPACECRAFT_CLOCK_STOP_COUNT = "1/0141211636.39746"
START_TIME = 2007-10-23T09:15:55.481Z
STOP_TIME = 2007-10-23T09:21:13.448Z
/* ORBITAL DATA ELEMENTS */
ASCENDING_NODE_LONGITUDE = 126.31
MAXIMUM_RESOLUTION = 0.0748
FOOTPRINT_POINT_LATITUDE = (-84.4887,-84.9053,-85.2306,-85.548, -85.8051,-86.1985,-86.5643,-86.9862, -87.0042,-87.0132,-86.5954,-86.1523, -85.6895,-85.2106,-84.719,-84.2151, -83.7013,-83.1782,-82.6463,-82.1056, -81.5571,-81.0007,-80.7196,-80.4362, -80.1511,-79.8639,-79.5751,-79.2844, -78.991,-78.6964,-78.3998,-78.101, -77.7998,-77.4972,-77.1927,-76.8861, -76.5775,-76.267,-75.9542,-75.6395, -75.323,-75.0047,-74.5283,-74.2123, -73.8975,-73.584,-73.2719,-73.1164, -73.0727,-73.0379,-73.0072,-72.9739, -72.9343,-72.8524,-72.7884,-72.6878, -72.5613,-72.4799,-72.3929,-72.2726, -72.2586,-72.2548,-72.5536,-72.8534, -73.1541,-73.4555,-73.7581,-74.2133, -74.5159,-74.8165,-75.1145,-75.4096, -75.702,-75.9924,-76.2805,-76.5639, -76.9871,-77.2658,-77.6826,-77.9542, -78.2235,-78.4904,-78.7551,-79.0161, -79.274,-79.5288,-80.0296,-80.5168, -80.9897,-81.4477,-81.8893,-82.3138, -82.7187,-83.1012,-83.4612,-83.7941, -84.0979,-84.371,-84.4335,-84.4887)
FOOTPRINT_POINT_LONGITUDE = (341.954,344.313,346.489,348.981, 351.342,355.764,361.173,370.183,370.674 ,371.461,376.494,380.442,383.577, 386.141,388.226,389.99,391.471,392.745, 393.839,394.795,395.631,396.37,396.708, 397.028,397.331,397.617,397.887,398.143 ,398.39,398.616,398.837,399.048,399.253 ,399.445,399.627,399.801,399.969, 400.128,400.282,400.429,400.569,400.703 ,400.893,401.012,401.126,401.234, 401.335,401.384,401.398,399.169,397.898 ,396.792,395.692,393.82,392.582,390.894 ,389.074,388.024,386.983,385.657, 385.511,385.457,385.217,384.966,384.703 ,384.428,384.141,383.683,383.36,383.025 ,382.676,382.314,381.934,381.542, 381.135,380.702,380.032,379.56,378.829, 378.305,377.759,377.191,376.601,375.98, 375.332,374.655,373.205,371.612,369.86, 367.934,365.81,363.468,360.876,358.011, 354.848,351.366,347.547,343.366,342.27, 341.954)
ORBIT_NUMBER = 4888
ORBITAL_ECCENTRICITY = 0.57
ORBITAL_INCLINATION = 86.69
ORBITAL_SEMIMAJOR_AXIS = 8590.87
PERIAPSIS_ALTITUDE = 301.87
PERIAPSIS_ARGUMENT_ANGLE = 218.43
PERIAPSIS_TIME = 2007-10-23T09:00:59.000Z
SPACECRAFT_ORIENTATION = (0.0,-1.0,0.0)
^MEX_ORIENTATION_DESC = "MEX_ORIENTATION_DESC.TXT"
SPACECRAFT_POINTING_MODE = NADIR
^MEX_POINTING_DESC = "MEX_POINTING_DESC.TXT"
RIGHT_ASCENSION = -1e+32
DECLINATION = -1e+32
OFFSET_ANGLE = -1e+32
SPACECRAFT_SOLAR_DISTANCE = 2.23898e+08
TARGET_NAME = MARS
/* CAMERA DATA ELEMENTS */
DETECTOR_TEMPERATURE = 18.3705
FOCAL_PLANE_TEMPERATURE = 8.1755
INST_CMPRS_NAME = "DISCRETE COSINE TRANSFORMATION (DCT)"
INST_CMPRS_RATIO = 13.0892
INST_CMPRS_QUALITY = 0
INST_CMPRS_QUANTZ_TBL_ID = 0
INSTRUMENT_TEMPERATURE = 11.234
LENS_TEMPERATURE = 8.7872
MACROPIXEL_SIZE = 2
MISSING_FRAMES = 0
PIXEL_SUBSAMPLING_FLAG = N
SIGNAL_CHAIN_ID = 2
/* RADIOMETRIC DATA ELEMENTS */
BANDWIDTH = 88.0
CENTER_FILTER_WAVELENGTH = 538.0
RADIANCE_OFFSET = 0.44395
RADIANCE_SCALING_FACTOR = 0.00640681
REFLECTANCE_SCALING_FACTOR = 0.000276528
MEX:REFLECTANCE_OFFSET = 0.0191616
/* IMAGE OBJECT DEFINITIONS */
OBJECT = IMAGE
  INTERCHANGE_FORMAT = BINARY
  LINES = 17531
  LINE_SAMPLES = 10770
  SAMPLE_TYPE = UNSIGNED_INTEGER
  SAMPLE_BITS = 8
  BANDS = 1
  BAND_STORAGE_TYPE = BAND_SEQUENTIAL
  MAXIMUM = 255
  MEAN = 55.9648
  MINIMUM = 1
  STANDARD_DEVIATION = 28.4629
END_OBJECT = IMAGE
/* MAP OBJECT DEFINITIONS */
OBJECT = IMAGE_MAP_PROJECTION
  ^DATA_SET_MAP_PROJECTION_CATALOG= "DSMAP.CAT"
  A_AXIS_RADIUS = 3396.0
  B_AXIS_RADIUS = 3396.0
  C_AXIS_RADIUS = 3396.0
  CENTER_LATITUDE = 0.0
  CENTER_LONGITUDE = 25.0
  COORDINATE_SYSTEM_NAME = PLANETOGRAPHIC
  COORDINATE_SYSTEM_TYPE = "BODY-FIXED ROTATING"
  EASTERNMOST_LONGITUDE = 41.398
  FIRST_STANDARD_PARALLEL = "N/A"
  LINE_FIRST_PIXEL = 1
  LINE_LAST_PIXEL = 17531
  LINE_PROJECTION_OFFSET = -85640.25
  MAP_PROJECTION_ROTATION = 0.0
  MAP_PROJECTION_TYPE = SINUSOIDAL
  MAP_RESOLUTION = 1185.42760773333
  MAP_SCALE = 0.05
  MAXIMUM_LATITUDE = -72.2548
  MINIMUM_LATITUDE = -87.0132
  POSITIVE_LONGITUDE_DIRECTION = EAST
  REFERENCE_LATITUDE = "N/A"
  REFERENCE_LONGITUDE = "N/A"
  SAMPLE_FIRST_PIXEL = 1
  SAMPLE_LAST_PIXEL = 10770
  SAMPLE_PROJECTION_OFFSET = 4993.75
  SECOND_STANDARD_PARALLEL = "N/A"
  WESTERNMOST_LONGITUDE = -18.046
END_OBJECT = IMAGE_MAP_PROJECTION
END
