PDS_VERSION_ID = PDS3
/* FILE DATA ELEMENTS */
RECORD_TYPE = UNDEFINED
/* POINTERS TO DATA OBJECTS */
^IMAGE = ("H4892_0000_ND4.TIF")
/* IDENTIFICATION DATA ELEMENTS */
DATA_SET_ID = "MEX-M-HRSC-4-REFDR-MAPPROJECT-EXT1-V4.0"
DATA_SET_NAME = "MARS EXPRESS HRSC MAP PROJECTED REFDR EXTENSION1 V4.0"
DETECTOR_ID = MEX_HRSC_NADIR
EVENT_TYPE = "MARS-GLOBAL-VARIABLE-Gl-Ot-At"
INSTRUMENT_HOST_ID = MEX
INSTRUMENT_HOST_NAME = "MARS EXPRESS"
INSTRUMENT_ID = HRSC
INSTRUMENT_NAME = "HIGH RESOLUTION STEREO CAMERA"
MISSION_NAME = "MARS EXPRESS"
MISSION_PHASE_NAME = ME_Phase_10
PROCESSING_LEVEL_ID = 4
PRODUCT_CREATION_TIME = 2023-02-11T00:15:54.000Z
PRODUCT_ID = "H4892_0000_ND4.TIF"
RELEASE_ID = 0007
REVISION_ID = 0000
/* QUALITY DATA ELEMENTS */
DATA_QUALITY_ID = 1
DATA_QUALITY_DESC = "Data calculated based on original SPICE kernels"
/* TIME DATA ELEMENTS */
SPACECRAFT_CLOCK_START_COUNT = "1/0141307686.09052"
SPACECRAFT_CLOCK_STOP_COUNT = "1/0141308611.34124"
START_TIME = 2007-10-24T12:10:01.847Z
STOP_TIME = 2007-10-24T12:16:28.863Z
/* ORBITAL DATA ELEMENTS */
ASCENDING_NODE_LONGITUDE = 126.23
MAXIMUM_RESOLUTION = 0.0414
FOOTPRINT_POINT_LATITUDE = (-83.3206,-83.584,-83.9608,-84.1991, -84.5543,-84.8155,-85.1914,-85.3793, -85.391,-85.4074,-84.877,-84.3343, -83.7785,-83.2113,-82.635,-82.0487, -81.4535,-80.8491,-80.2363,-79.6143, -78.9832,-78.6643,-78.3434,-78.0201, -77.6947,-77.367,-77.0374,-76.7055, -76.3708,-76.0343,-75.6956,-75.3544, -75.0107,-74.4959,-74.1547,-73.8152, -73.4773,-73.1411,-72.8065,-72.4736, -72.1422,-71.8125,-71.4844,-71.1579, -70.833,-70.5098,-70.188,-69.8679, -69.7084,-69.6629,-69.6536,-69.627, -69.5971,-69.5689,-69.4977,-69.4232, -69.3352,-69.2758,-69.1665,-68.9908, -68.9772,-68.9711,-69.587,-70.2081, -70.5207,-70.8345,-71.1499,-71.4666, -71.7845,-72.1035,-72.4239,-72.7458, -73.0688,-73.3927,-73.7179,-74.0443, -74.5326,-74.8545,-75.1736,-75.4904, -75.8041,-76.115,-76.4228,-76.7277, -77.0298,-77.3289,-77.6248,-78.2073, -78.7774,-79.3335,-79.8754,-80.4025, -80.9135,-81.407,-81.8815,-82.3348, -82.7649,-83.1698,-83.267,-83.3206)
FOOTPRINT_POINT_LONGITUDE = (322.484,324.547,327.962,330.477, 334.938,338.987,346.775,352.343,352.758 ,353.313,355.634,357.558,359.132, 360.441,361.572,362.541,363.387,364.131 ,364.783,365.365,365.881,366.118, 366.344,366.558,366.763,366.956,367.14, 367.316,367.484,367.647,367.8,367.947, 368.085,368.282,368.405,368.521,368.631 ,368.735,368.835,368.932,369.021, 369.108,369.19,369.269,369.343,369.414, 369.483,369.548,369.579,369.588,367.535 ,365.803,364.551,363.614,361.753, 360.211,358.679,357.766,356.257,354.163 ,354.014,353.941,353.617,353.259, 353.067,352.864,352.656,352.437,352.207 ,351.962,351.708,351.444,351.165, 350.867,350.558,350.233,349.713,349.346 ,348.965,348.569,348.155,347.725, 347.272,346.8,346.305,345.792,345.248, 344.09,342.827,341.435,339.901,338.208, 336.335,334.26,331.951,329.387,326.532, 323.36,322.512,322.484)
ORBIT_NUMBER = 4892
ORBITAL_ECCENTRICITY = 0.57
ORBITAL_INCLINATION = 86.69
ORBITAL_SEMIMAJOR_AXIS = 8587.61
PERIAPSIS_ALTITUDE = 302.5
PERIAPSIS_ARGUMENT_ANGLE = 217.7
PERIAPSIS_TIME = 2007-10-24T11:53:51.000Z
SPACECRAFT_ORIENTATION = (0.0,-1.0,0.0)
^MEX_ORIENTATION_DESC = "MEX_ORIENTATION_DESC.TXT"
SPACECRAFT_POINTING_MODE = NADIR
^MEX_POINTING_DESC = "MEX_POINTING_DESC.TXT"
RIGHT_ASCENSION = -1e+32
DECLINATION = -1e+32
OFFSET_ANGLE = -1e+32
SPACECRAFT_SOLAR_DISTANCE = 2.24116e+08
TARGET_NAME = MARS
/* CAMERA DATA ELEMENTS */
DETECTOR_TEMPERATURE = 18.5744
FOCAL_PLANE_TEMPERATURE = 8.9911
INST_CMPRS_NAME = "DISCRETE COSINE TRANSFORMATION (DCT)"
INST_CMPRS_RATIO = 8.03154
INST_CMPRS_QUALITY = 0
INST_CMPRS_QUANTZ_TBL_ID = 0
INSTRUMENT_TEMPERATURE = 11.234
LENS_TEMPERATURE = 9.3989
MACROPIXEL_SIZE = 1
MISSING_FRAMES = 0
PIXEL_SUBSAMPLING_FLAG = N
SIGNAL_CHAIN_ID = 0
/* RADIOMETRIC DATA ELEMENTS */
BANDWIDTH = 177.0
CENTER_FILTER_WAVELENGTH = 677.5
RADIANCE_OFFSET = 1.10163
RADIANCE_SCALING_FACTOR = 0.00974799
REFLECTANCE_SCALING_FACTOR = 0.000260107
MEX:REFLECTANCE_OFFSET = 0.0293951
/* IMAGE OBJECT DEFINITIONS */
OBJECT = IMAGE
  INTERCHANGE_FORMAT = BINARY
  LINES = 19485
  LINE_SAMPLES = 10268
  SAMPLE_TYPE = UNSIGNED_INTEGER
  SAMPLE_BITS = 8
  BANDS = 1
  BAND_STORAGE_TYPE = BAND_SEQUENTIAL
  MAXIMUM = 255
  MEAN = 100.578
  MINIMUM = 1
  STANDARD_DEVIATION = 43.1807
END_OBJECT = IMAGE
/* MAP OBJECT DEFINITIONS */
OBJECT = IMAGE_MAP_PROJECTION
  ^DATA_SET_MAP_PROJECTION_CATALOG= "DSMAP.CAT"
  A_AXIS_RADIUS = 3396.0
  B_AXIS_RADIUS = 3396.0
  C_AXIS_RADIUS = 3396.0
  CENTER_LATITUDE = 0.0
  CENTER_LONGITUDE = 356.0
  COORDINATE_SYSTEM_NAME = PLANETOGRAPHIC
  COORDINATE_SYSTEM_TYPE = "BODY-FIXED ROTATING"
  EASTERNMOST_LONGITUDE = 9.587999999999999
  FIRST_STANDARD_PARALLEL = "N/A"
  LINE_FIRST_PIXEL = 1
  LINE_LAST_PIXEL = 19485
  LINE_PROJECTION_OFFSET = -81761.0
  MAP_PROJECTION_ROTATION = 0.0
  MAP_PROJECTION_TYPE = SINUSOIDAL
  MAP_RESOLUTION = 1185.42760773333
  MAP_SCALE = 0.05
  MAXIMUM_LATITUDE = -68.97110000000001
  MINIMUM_LATITUDE = -85.4074
  POSITIVE_LONGITUDE_DIRECTION = EAST
  REFERENCE_LATITUDE = "N/A"
  REFERENCE_LONGITUDE = "N/A"
  SAMPLE_FIRST_PIXEL = 1
  SAMPLE_LAST_PIXEL = 10268
  SAMPLE_PROJECTION_OFFSET = 4669.0
  SECOND_STANDARD_PARALLEL = "N/A"
  WESTERNMOST_LONGITUDE = -37.516
END_OBJECT = IMAGE_MAP_PROJECTION
END
