PDS_VERSION_ID = PDS3
/* FILE DATA ELEMENTS */
RECORD_TYPE = UNDEFINED
/* POINTERS TO DATA OBJECTS */
^IMAGE = ("H4894_0000_ND4.TIF")
/* IDENTIFICATION DATA ELEMENTS */
DATA_SET_ID = "MEX-M-HRSC-4-REFDR-MAPPROJECT-EXT1-V4.0"
DATA_SET_NAME = "MARS EXPRESS HRSC MAP PROJECTED REFDR EXTENSION1 V4.0"
DETECTOR_ID = MEX_HRSC_NADIR
EVENT_TYPE = "MARS-GLOBAL-VARIABLE-Gl-Ot-At"
INSTRUMENT_HOST_ID = MEX
INSTRUMENT_HOST_NAME = "MARS EXPRESS"
INSTRUMENT_ID = HRSC
INSTRUMENT_NAME = "HIGH RESOLUTION STEREO CAMERA"
MISSION_NAME = "MARS EXPRESS"
MISSION_PHASE_NAME = ME_Phase_10
PROCESSING_LEVEL_ID = 4
PRODUCT_CREATION_TIME = 2023-02-11T00:15:54.000Z
PRODUCT_ID = "H4894_0000_ND4.TIF"
RELEASE_ID = 0007
REVISION_ID = 0000
/* QUALITY DATA ELEMENTS */
DATA_QUALITY_ID = 1
DATA_QUALITY_DESC = "Data calculated based on original SPICE kernels"
/* TIME DATA ELEMENTS */
SPACECRAFT_CLOCK_START_COUNT = "1/0141356077.07303"
SPACECRAFT_CLOCK_STOP_COUNT = "1/0141356999.47541"
START_TIME = 2007-10-25T01:36:34.607Z
STOP_TIME = 2007-10-25T01:42:55.576Z
/* ORBITAL DATA ELEMENTS */
ASCENDING_NODE_LONGITUDE = 126.19
MAXIMUM_RESOLUTION = 0.0419
FOOTPRINT_POINT_LATITUDE = (-83.3087,-83.5755,-83.9574,-84.1988, -84.5587,-84.8233,-85.2037,-85.3933, -85.4051,-85.4225,-84.9001,-84.3647, -83.8175,-83.2606,-82.6942,-82.1178, -81.5328,-80.9395,-80.337,-79.7262, -79.1067,-78.7938,-78.4789,-78.1618, -77.8428,-77.5213,-77.1979,-76.8723, -76.5444,-76.2144,-75.8821,-75.5477, -75.2111,-74.7061,-74.3715,-74.0384, -73.707,-73.3771,-73.0488,-72.7221, -72.3969,-72.0733,-71.7512,-71.4307, -71.1117,-70.7943,-70.4784,-70.164, -70.0073,-69.9666,-69.962,-69.9482, -69.9252,-69.8976,-69.8686,-69.8283, -69.7588,-69.6844,-69.6187,-69.5022, -69.4198,-69.2765,-69.2627,-69.2564, -69.8605,-70.4695,-71.0839,-71.393, -71.7035,-72.0153,-72.3282,-72.6423, -72.9575,-73.2739,-73.5916,-73.9102, -74.2297,-74.7075,-75.0225,-75.3349, -75.645,-75.9518,-76.256,-76.5574, -76.8558,-77.1513,-77.7333,-78.3035, -78.8625,-79.4071,-79.9377,-80.4523, -80.9536,-81.4365,-81.9008,-82.3457, -82.7678,-83.1646,-83.2596,-83.3087)
FOOTPRINT_POINT_LONGITUDE = (125.681,127.752,131.183,133.714, 138.209,142.296,150.169,155.807,156.227 ,156.815,159.104,160.973,162.514,163.83 ,164.966,165.922,166.763,167.512, 168.154,168.735,169.253,169.492,169.719 ,169.938,170.141,170.336,170.522, 170.699,170.868,171.029,171.183,171.331 ,171.472,171.67,171.793,171.909,172.025 ,172.129,172.23,172.325,172.415,172.503 ,172.587,172.665,172.74,172.813,172.882 ,172.947,172.978,172.986,171.544, 170.262,168.985,167.873,166.923,165.819 ,164.249,162.845,161.759,160.068, 159.003,157.34,157.189,157.115,156.78, 156.412,156.011,155.797,155.574,155.342 ,155.097,154.84,154.57,154.287,153.99, 153.678,153.346,152.822,152.453,152.068 ,151.668,151.251,150.815,150.359, 149.884,149.385,148.317,147.153,145.895 ,144.499,142.962,141.256,139.396,137.33 ,135.031,132.495,129.674,126.538, 125.702,125.681)
ORBIT_NUMBER = 4894
ORBITAL_ECCENTRICITY = 0.57
ORBITAL_INCLINATION = 86.69
ORBITAL_SEMIMAJOR_AXIS = 8590.58
PERIAPSIS_ALTITUDE = 302.9
PERIAPSIS_ARGUMENT_ANGLE = 217.36
PERIAPSIS_TIME = 2007-10-25T01:20:16.000Z
SPACECRAFT_ORIENTATION = (0.0,-1.0,0.0)
^MEX_ORIENTATION_DESC = "MEX_ORIENTATION_DESC.TXT"
SPACECRAFT_POINTING_MODE = NADIR
^MEX_POINTING_DESC = "MEX_POINTING_DESC.TXT"
RIGHT_ASCENSION = -1e+32
DECLINATION = -1e+32
OFFSET_ANGLE = -1e+32
SPACECRAFT_SOLAR_DISTANCE = 2.24225e+08
TARGET_NAME = MARS
/* CAMERA DATA ELEMENTS */
DETECTOR_TEMPERATURE = 18.3705
FOCAL_PLANE_TEMPERATURE = 8.7872
INST_CMPRS_NAME = "DISCRETE COSINE TRANSFORMATION (DCT)"
INST_CMPRS_RATIO = 7.80156
INST_CMPRS_QUALITY = 0
INST_CMPRS_QUANTZ_TBL_ID = 0
INSTRUMENT_TEMPERATURE = 11.234
LENS_TEMPERATURE = 9.195
MACROPIXEL_SIZE = 1
MISSING_FRAMES = 0
PIXEL_SUBSAMPLING_FLAG = N
SIGNAL_CHAIN_ID = 0
/* RADIOMETRIC DATA ELEMENTS */
BANDWIDTH = 177.0
CENTER_FILTER_WAVELENGTH = 677.5
RADIANCE_OFFSET = 0.811849
RADIANCE_SCALING_FACTOR = 0.00955117
REFLECTANCE_SCALING_FACTOR = 0.000255104
MEX:REFLECTANCE_OFFSET = 0.0216838
/* IMAGE OBJECT DEFINITIONS */
OBJECT = IMAGE
  INTERCHANGE_FORMAT = BINARY
  LINES = 19165
  LINE_SAMPLES = 10327
  SAMPLE_TYPE = UNSIGNED_INTEGER
  SAMPLE_BITS = 8
  BANDS = 1
  BAND_STORAGE_TYPE = BAND_SEQUENTIAL
  MAXIMUM = 255
  MEAN = 106.732
  MINIMUM = 1
  STANDARD_DEVIATION = 44.6005
END_OBJECT = IMAGE
/* MAP OBJECT DEFINITIONS */
OBJECT = IMAGE_MAP_PROJECTION
  ^DATA_SET_MAP_PROJECTION_CATALOG= "DSMAP.CAT"
  A_AXIS_RADIUS = 3396.0
  B_AXIS_RADIUS = 3396.0
  C_AXIS_RADIUS = 3396.0
  CENTER_LATITUDE = 0.0
  CENTER_LONGITUDE = 159.0
  COORDINATE_SYSTEM_NAME = PLANETOGRAPHIC
  COORDINATE_SYSTEM_TYPE = "BODY-FIXED ROTATING"
  EASTERNMOST_LONGITUDE = 172.986
  FIRST_STANDARD_PARALLEL = "N/A"
  LINE_FIRST_PIXEL = 1
  LINE_LAST_PIXEL = 19165
  LINE_PROJECTION_OFFSET = -82099.0
  MAP_PROJECTION_ROTATION = 0.0
  MAP_PROJECTION_TYPE = SINUSOIDAL
  MAP_RESOLUTION = 1185.42760773333
  MAP_SCALE = 0.05
  MAXIMUM_LATITUDE = -69.2564
  MINIMUM_LATITUDE = -85.4225
  POSITIVE_LONGITUDE_DIRECTION = EAST
  REFERENCE_LATITUDE = "N/A"
  REFERENCE_LONGITUDE = "N/A"
  SAMPLE_FIRST_PIXEL = 1
  SAMPLE_LAST_PIXEL = 10327
  SAMPLE_PROJECTION_OFFSET = 4646.0
  SECOND_STANDARD_PARALLEL = "N/A"
  WESTERNMOST_LONGITUDE = 125.681
END_OBJECT = IMAGE_MAP_PROJECTION
END
