PDS_VERSION_ID = PDS3
/* FILE DATA ELEMENTS */
RECORD_TYPE = UNDEFINED
/* POINTERS TO DATA OBJECTS */
^IMAGE = ("H5063_0001_BL4.TIF")
/* IDENTIFICATION DATA ELEMENTS */
DATA_SET_ID = "MEX-M-HRSC-4-REFDR-MAPPROJECT-EXT2-V4.0"
DATA_SET_NAME = "MARS EXPRESS HRSC MAP PROJECTED REFDR EXTENSION2 V4.0"
DETECTOR_ID = MEX_HRSC_BLUE
EVENT_TYPE = "MARS-LOCAL-STEREO-Vo"
INSTRUMENT_HOST_ID = MEX
INSTRUMENT_HOST_NAME = "MARS EXPRESS"
INSTRUMENT_ID = HRSC
INSTRUMENT_NAME = "HIGH RESOLUTION STEREO CAMERA"
MISSION_NAME = "MARS EXPRESS"
MISSION_PHASE_NAME = ME_Phase_11
PROCESSING_LEVEL_ID = 4
PRODUCT_CREATION_TIME = 2023-02-01T12:09:47.000Z
PRODUCT_ID = "H5063_0001_BL4.TIF"
RELEASE_ID = 0001
REVISION_ID = 0000
/* QUALITY DATA ELEMENTS */
DATA_QUALITY_ID = 1
DATA_QUALITY_DESC = "Data calculated based on original SPICE kernels"
/* TIME DATA ELEMENTS */
SPACECRAFT_CLOCK_START_COUNT = "1/0145455885.07285"
SPACECRAFT_CLOCK_STOP_COUNT = "1/0145456067.29060"
START_TIME = 2007-12-11T12:25:22.461Z
STOP_TIME = 2007-12-11T12:27:21.102Z
/* ORBITAL DATA ELEMENTS */
ASCENDING_NODE_LONGITUDE = 122.72
MAXIMUM_RESOLUTION = 0.1008
FOOTPRINT_POINT_LATITUDE = (-13.5891,-13.5864,-13.5836,-13.5806, -13.5774,-13.574,-13.5683,-13.5681, -13.5788,-13.797,-14.0151,-14.2401, -14.3903,-14.6156,-14.7658,-14.9159, -15.0659,-15.2158,-15.5903,-15.8897, -16.189,-16.4134,-16.7869,-17.0134, -17.1676,-17.3217,-17.4757,-17.6297, -17.7836,-17.9375,-18.0913,-18.245, -18.3986,-18.5522,-18.7058,-18.8592, -19.0126,-19.1659,-19.3191,-19.4722, -19.7018,-19.8547,-20.0076,-20.1605, -20.3132,-20.4659,-20.6186,-20.7711, -20.9235,-21.152,-21.2281,-21.2501, -21.2572,-21.2599,-21.2637,-21.2659, -21.269,-21.2691,-21.2675,-21.1153, -20.963,-20.8106,-20.6581,-20.5056, -20.2766,-20.124,-19.9711,-19.8182, -19.6653,-19.4357,-19.2826,-19.1293, -18.976,-18.8226,-18.6692,-18.5157, -18.3621,-18.2084,-17.9778,-17.824, -17.6701,-17.516,-17.285,-17.131, -16.9013,-16.5279,-16.2289,-15.9296, -15.7051,-15.4055,-15.1056,-14.9556, -14.8056,-14.6553,-14.4301,-14.28, -13.9817,-13.6909,-13.6182,-13.5891)
FOOTPRINT_POINT_LONGITUDE = (262.381,262.21,262.037,261.861,261.684 ,261.504,261.217,261.206,261.24,261.237 ,261.234,261.231,261.229,261.225, 261.224,261.221,261.219,261.216,261.209 ,261.204,261.199,261.196,261.188, 261.184,261.181,261.178,261.176,261.173 ,261.17,261.167,261.164,261.16,261.157, 261.154,261.151,261.148,261.145,261.142 ,261.139,261.136,261.131,261.127, 261.124,261.121,261.118,261.115,261.112 ,261.109,261.105,261.101,261.099, 261.099,261.508,261.685,261.947,262.132 ,262.411,262.423,262.431,262.43,262.428 ,262.427,262.425,262.424,262.422, 262.421,262.419,262.418,262.417,262.415 ,262.414,262.413,262.412,262.41,262.409 ,262.409,262.408,262.407,262.405, 262.404,262.404,262.403,262.402,262.401 ,262.4,262.398,262.397,262.396,262.396, 262.395,262.394,262.393,262.393,262.393 ,262.392,262.392,262.392,262.391, 262.391,262.381)
ORBIT_NUMBER = 5063
ORBITAL_ECCENTRICITY = 0.575
ORBITAL_INCLINATION = 86.71
ORBITAL_SEMIMAJOR_AXIS = 8720.69
PERIAPSIS_ALTITUDE = 312.0
PERIAPSIS_ARGUMENT_ANGLE = 187.63
PERIAPSIS_TIME = 2007-12-11T12:23:46.000Z
SPACECRAFT_ORIENTATION = (0.0,-1.0,0.0)
^MEX_ORIENTATION_DESC = "MEX_ORIENTATION_DESC.TXT"
SPACECRAFT_POINTING_MODE = ACROSSTRACK
^MEX_POINTING_DESC = "MEX_POINTING_DESC.TXT"
RIGHT_ASCENSION = -1e+32
DECLINATION = -1e+32
OFFSET_ANGLE = -1.0
SPACECRAFT_SOLAR_DISTANCE = 2.33346e+08
TARGET_NAME = MARS
/* CAMERA DATA ELEMENTS */
DETECTOR_TEMPERATURE = 19.1861
FOCAL_PLANE_TEMPERATURE = 7.9716
INST_CMPRS_NAME = "DISCRETE COSINE TRANSFORMATION (DCT)"
INST_CMPRS_RATIO = 12.5463
INST_CMPRS_QUALITY = 0
INST_CMPRS_QUANTZ_TBL_ID = 0
INSTRUMENT_TEMPERATURE = 12.4574
LENS_TEMPERATURE = 8.5833
MACROPIXEL_SIZE = 8
MISSING_FRAMES = 0
PIXEL_SUBSAMPLING_FLAG = N
SIGNAL_CHAIN_ID = 2
/* RADIOMETRIC DATA ELEMENTS */
BANDWIDTH = 76.0
CENTER_FILTER_WAVELENGTH = 444.0
RADIANCE_OFFSET = 0.202442
RADIANCE_SCALING_FACTOR = 0.00131084
REFLECTANCE_SCALING_FACTOR = 7.33344e-05
MEX:REFLECTANCE_OFFSET = 0.0113255
/* IMAGE OBJECT DEFINITIONS */
OBJECT = IMAGE
  INTERCHANGE_FORMAT = BINARY
  LINES = 4552
  LINE_SAMPLES = 743
  SAMPLE_TYPE = UNSIGNED_INTEGER
  SAMPLE_BITS = 8
  BANDS = 1
  BAND_STORAGE_TYPE = BAND_SEQUENTIAL
  MAXIMUM = 255
  MEAN = 102.743
  MINIMUM = 1
  STANDARD_DEVIATION = 28.1749
END_OBJECT = IMAGE
/* MAP OBJECT DEFINITIONS */
OBJECT = IMAGE_MAP_PROJECTION
  ^DATA_SET_MAP_PROJECTION_CATALOG= "DSMAP.CAT"
  A_AXIS_RADIUS = 3396.0
  B_AXIS_RADIUS = 3396.0
  C_AXIS_RADIUS = 3396.0
  CENTER_LATITUDE = 0.0
  CENTER_LONGITUDE = 262.0
  COORDINATE_SYSTEM_NAME = PLANETOGRAPHIC
  COORDINATE_SYSTEM_TYPE = "BODY-FIXED ROTATING"
  EASTERNMOST_LONGITUDE = 262.431
  FIRST_STANDARD_PARALLEL = "N/A"
  LINE_FIRST_PIXEL = 1
  LINE_LAST_PIXEL = 4552
  LINE_PROJECTION_OFFSET = -8041.9375
  MAP_PROJECTION_ROTATION = 0.0
  MAP_PROJECTION_TYPE = SINUSOIDAL
  MAP_RESOLUTION = 592.713803866667
  MAP_SCALE = 0.1
  MAXIMUM_LATITUDE = -13.5681
  MINIMUM_LATITUDE = -21.2691
  POSITIVE_LONGITUDE_DIRECTION = EAST
  REFERENCE_LATITUDE = "N/A"
  REFERENCE_LONGITUDE = "N/A"
  SAMPLE_FIRST_PIXEL = 1
  SAMPLE_LAST_PIXEL = 743
  SAMPLE_PROJECTION_OFFSET = 506.8125
  SECOND_STANDARD_PARALLEL = "N/A"
  WESTERNMOST_LONGITUDE = 261.099
END_OBJECT = IMAGE_MAP_PROJECTION
END
