PDS_VERSION_ID = PDS3
/* FILE DATA ELEMENTS */
RECORD_TYPE = UNDEFINED
/* POINTERS TO DATA OBJECTS */
^IMAGE = ("H5091_0000_BL4.TIF")
/* IDENTIFICATION DATA ELEMENTS */
DATA_SET_ID = "MEX-M-HRSC-4-REFDR-MAPPROJECT-EXT2-V4.0"
DATA_SET_NAME = "MARS EXPRESS HRSC MAP PROJECTED REFDR EXTENSION2 V4.0"
DETECTOR_ID = MEX_HRSC_BLUE
EVENT_TYPE = "MARS-REGIONAL-MAPPING-Im-Fl"
INSTRUMENT_HOST_ID = MEX
INSTRUMENT_HOST_NAME = "MARS EXPRESS"
INSTRUMENT_ID = HRSC
INSTRUMENT_NAME = "HIGH RESOLUTION STEREO CAMERA"
MISSION_NAME = "MARS EXPRESS"
MISSION_PHASE_NAME = ME_Phase_11
PROCESSING_LEVEL_ID = 4
PRODUCT_CREATION_TIME = 2023-02-01T12:09:47.000Z
PRODUCT_ID = "H5091_0000_BL4.TIF"
RELEASE_ID = 0001
REVISION_ID = 0000
/* QUALITY DATA ELEMENTS */
DATA_QUALITY_ID = 1
DATA_QUALITY_DESC = "Data calculated based on original SPICE kernels"
/* TIME DATA ELEMENTS */
SPACECRAFT_CLOCK_START_COUNT = "1/0146143732.08240"
SPACECRAFT_CLOCK_STOP_COUNT = "1/0146143977.23263"
START_TIME = 2007-12-19T11:29:31.890Z
STOP_TIME = 2007-12-19T11:32:35.701Z
/* ORBITAL DATA ELEMENTS */
ASCENDING_NODE_LONGITUDE = 122.16
MAXIMUM_RESOLUTION = 0.1017
FOOTPRINT_POINT_LATITUDE = (6.75866,6.76027,6.76124,6.76193, 6.76195,6.76306,6.51261,6.13554,5.75861 ,5.50724,5.25853,5.01528,4.77215, 4.52881,4.28538,4.04194,3.79835,3.5548, 3.31096,2.94546,2.70174,2.33614,2.09231 ,1.72639,1.48232,1.11642,0.756951, 0.521535,0.285945,0.0505661,-0.302904, -0.53876,-0.774258,-1.01008,-1.36362, -1.59921,-1.83466,-2.07025,-2.42338, -2.65883,-3.01177,-3.36519,-3.60043, -3.83573,-4.1888,-4.42396,-4.65907, -4.8941,-5.12914,-5.24665,-5.29997, -5.30135,-5.30184,-5.30211,-5.30216, -5.30061,-4.94802,-4.71296,-4.24298, -3.88965,-3.65349,-3.18404,-2.94863, -2.71333,-2.47772,-2.12434,-1.88882, -1.65345,-1.41827,-1.06459,-0.828937, -0.593585,-0.357953,-0.122237,0.113325, 0.349035,0.701903,0.937671,1.18169, 1.4257,1.79157,2.03544,2.40122,2.64492, 2.88852,3.25398,3.49897,3.74268,3.98597 ,4.35016,4.5936,4.83693,5.08018,5.32338 ,5.69999,5.95118,6.20252,6.57923, 6.70502,6.75866)
FOOTPRINT_POINT_LONGITUDE = (348.29,347.801,347.454,347.152,347.141 ,347.133,347.133,347.134,347.135, 347.135,347.136,347.136,347.136,347.137 ,347.137,347.137,347.137,347.137, 347.137,347.137,347.137,347.137,347.136 ,347.136,347.136,347.135,347.134, 347.134,347.133,347.132,347.131,347.131 ,347.13,347.129,347.128,347.127,347.126 ,347.125,347.123,347.122,347.12,347.119 ,347.117,347.116,347.114,347.112, 347.111,347.109,347.108,347.107,347.107 ,347.655,347.936,348.197,348.208, 348.215,348.215,348.215,348.216,348.217 ,348.22,348.219,348.219,348.22,348.221, 348.223,348.224,348.225,348.225,348.227 ,348.229,348.23,348.231,348.233,348.234 ,348.236,348.237,348.239,348.241, 348.243,348.246,348.248,348.251,348.253 ,348.255,348.258,348.263,348.266, 348.268,348.269,348.272,348.275,348.277 ,348.28,348.284,348.287,348.29,348.295, 348.297,348.29)
ORBIT_NUMBER = 5091
ORBITAL_ECCENTRICITY = 0.575
ORBITAL_INCLINATION = 86.71
ORBITAL_SEMIMAJOR_AXIS = 8726.4
PERIAPSIS_ALTITUDE = 315.03
PERIAPSIS_ARGUMENT_ANGLE = 182.67
PERIAPSIS_TIME = 2007-12-19T11:31:50.000Z
SPACECRAFT_ORIENTATION = (0.0,-1.0,0.0)
^MEX_ORIENTATION_DESC = "MEX_ORIENTATION_DESC.TXT"
SPACECRAFT_POINTING_MODE = ACROSSTRACK
^MEX_POINTING_DESC = "MEX_POINTING_DESC.TXT"
RIGHT_ASCENSION = -1e+32
DECLINATION = -1e+32
OFFSET_ANGLE = 0.15
SPACECRAFT_SOLAR_DISTANCE = 2.34791e+08
TARGET_NAME = MARS
/* CAMERA DATA ELEMENTS */
DETECTOR_TEMPERATURE = 18.3705
FOCAL_PLANE_TEMPERATURE = 7.9716
INST_CMPRS_NAME = "DISCRETE COSINE TRANSFORMATION (DCT)"
INST_CMPRS_RATIO = 26.422
INST_CMPRS_QUALITY = 0
INST_CMPRS_QUANTZ_TBL_ID = 0
INSTRUMENT_TEMPERATURE = 11.0301
LENS_TEMPERATURE = 8.1755
MACROPIXEL_SIZE = 8
MISSING_FRAMES = 0
PIXEL_SUBSAMPLING_FLAG = N
SIGNAL_CHAIN_ID = 2
/* RADIOMETRIC DATA ELEMENTS */
BANDWIDTH = 76.0
CENTER_FILTER_WAVELENGTH = 444.0
RADIANCE_OFFSET = 0.366694
RADIANCE_SCALING_FACTOR = 0.000868237
REFLECTANCE_SCALING_FACTOR = 4.91762e-05
MEX:REFLECTANCE_OFFSET = 0.0207693
/* IMAGE OBJECT DEFINITIONS */
OBJECT = IMAGE
  INTERCHANGE_FORMAT = BINARY
  LINES = 7151
  LINE_SAMPLES = 712
  SAMPLE_TYPE = UNSIGNED_INTEGER
  SAMPLE_BITS = 8
  BANDS = 1
  BAND_STORAGE_TYPE = BAND_SEQUENTIAL
  MAXIMUM = 255
  MEAN = 113.813
  MINIMUM = 5
  STANDARD_DEVIATION = 23.3115
END_OBJECT = IMAGE
/* MAP OBJECT DEFINITIONS */
OBJECT = IMAGE_MAP_PROJECTION
  ^DATA_SET_MAP_PROJECTION_CATALOG= "DSMAP.CAT"
  A_AXIS_RADIUS = 3396.0
  B_AXIS_RADIUS = 3396.0
  C_AXIS_RADIUS = 3396.0
  CENTER_LATITUDE = 0.0
  CENTER_LONGITUDE = 348.0
  COORDINATE_SYSTEM_NAME = PLANETOGRAPHIC
  COORDINATE_SYSTEM_TYPE = "BODY-FIXED ROTATING"
  EASTERNMOST_LONGITUDE = 348.297
  FIRST_STANDARD_PARALLEL = "N/A"
  LINE_FIRST_PIXEL = 1
  LINE_LAST_PIXEL = 7151
  LINE_PROJECTION_OFFSET = 4015.0625
  MAP_PROJECTION_ROTATION = 0.0
  MAP_PROJECTION_TYPE = SINUSOIDAL
  MAP_RESOLUTION = 592.713803866667
  MAP_SCALE = 0.1
  MAXIMUM_LATITUDE = 6.76306
  MINIMUM_LATITUDE = -5.30216
  POSITIVE_LONGITUDE_DIRECTION = EAST
  REFERENCE_LATITUDE = "N/A"
  REFERENCE_LONGITUDE = "N/A"
  SAMPLE_FIRST_PIXEL = 1
  SAMPLE_LAST_PIXEL = 712
  SAMPLE_PROJECTION_OFFSET = 535.4375
  SECOND_STANDARD_PARALLEL = "N/A"
  WESTERNMOST_LONGITUDE = 347.107
END_OBJECT = IMAGE_MAP_PROJECTION
END
