PDS_VERSION_ID = PDS3
/* FILE DATA ELEMENTS */
RECORD_TYPE = UNDEFINED
/* POINTERS TO DATA OBJECTS */
^IMAGE = ("H5091_0000_P14.TIF")
/* IDENTIFICATION DATA ELEMENTS */
DATA_SET_ID = "MEX-M-HRSC-4-REFDR-MAPPROJECT-EXT2-V4.0"
DATA_SET_NAME = "MARS EXPRESS HRSC MAP PROJECTED REFDR EXTENSION2 V4.0"
DETECTOR_ID = MEX_HRSC_P1
EVENT_TYPE = "MARS-REGIONAL-MAPPING-Im-Fl"
INSTRUMENT_HOST_ID = MEX
INSTRUMENT_HOST_NAME = "MARS EXPRESS"
INSTRUMENT_ID = HRSC
INSTRUMENT_NAME = "HIGH RESOLUTION STEREO CAMERA"
MISSION_NAME = "MARS EXPRESS"
MISSION_PHASE_NAME = ME_Phase_11
PROCESSING_LEVEL_ID = 4
PRODUCT_CREATION_TIME = 2023-02-01T12:09:47.000Z
PRODUCT_ID = "H5091_0000_P14.TIF"
RELEASE_ID = 0001
REVISION_ID = 0000
/* QUALITY DATA ELEMENTS */
DATA_QUALITY_ID = 1
DATA_QUALITY_DESC = "Data calculated based on original SPICE kernels"
/* TIME DATA ELEMENTS */
SPACECRAFT_CLOCK_START_COUNT = "1/0146143732.08240"
SPACECRAFT_CLOCK_STOP_COUNT = "1/0146143977.23263"
START_TIME = 2007-12-19T11:29:06.718Z
STOP_TIME = 2007-12-19T11:32:12.397Z
/* ORBITAL DATA ELEMENTS */
ASCENDING_NODE_LONGITUDE = 122.16
MAXIMUM_RESOLUTION = 0.0522
FOOTPRINT_POINT_LATITUDE = (6.76482,6.77172,6.7755,6.77782,6.77791 ,6.76614,6.51051,6.26133,6.01849, 5.77229,5.52585,5.28011,4.91035,4.53999 ,4.29306,4.04573,3.67718,3.43741, 3.19829,2.95889,2.71852,2.47777,2.23726 ,1.99655,1.63573,1.27428,0.912225, 0.549269,0.307631,0.0646372,-0.177292, -0.418637,-0.776281,-1.24369,-1.4781, -1.71262,-2.06497,-2.30031,-2.65269, -2.88746,-3.24015,-3.59357,-3.82913, -4.06429,-4.29997,-4.53575,-4.77196, -5.12578,-5.2437,-5.29871,-5.30241, -5.3101,-5.31014,-5.30939,-5.07342, -4.8382,-4.48412,-4.24791,-3.78107, -3.54298,-3.30739,-3.07185,-2.83672, -2.60112,-2.3676,-2.13278,-1.89815, -1.66303,-1.42726,-0.960286,-0.725654, -0.365841,-0.12427,0.117723,0.479795, 0.723347,0.964475,1.20566,1.44639, 1.68758,1.9281,2.2889,2.52965,2.77007, 3.01058,3.25026,3.48626,3.72438,3.97191 ,4.22406,4.59347,4.84036,5.08701,5.3332 ,5.70238,5.94861,6.19397,6.56816, 6.69393,6.76482)
FOOTPRINT_POINT_LONGITUDE = (348.305,347.77,347.404,347.128,347.116 ,347.11,347.11,347.111,347.113,347.114, 347.115,347.116,347.117,347.118,347.118 ,347.119,347.119,347.12,347.12,347.12, 347.121,347.121,347.121,347.121,347.121 ,347.121,347.12,347.12,347.119,347.119, 347.118,347.118,347.117,347.116,347.116 ,347.115,347.114,347.113,347.112, 347.111,347.109,347.108,347.107,347.106 ,347.104,347.103,347.102,347.1,347.099, 347.099,347.471,348.2,348.211,348.214, 348.214,348.215,348.216,348.216,348.22, 348.22,348.22,348.221,348.222,348.223, 348.225,348.226,348.227,348.228,348.229 ,348.233,348.234,348.236,348.238,348.24 ,348.243,348.244,348.246,348.248, 348.251,348.253,348.255,348.259,348.261 ,348.263,348.265,348.268,348.272, 348.276,348.278,348.278,348.283,348.286 ,348.289,348.292,348.297,348.3,348.303, 348.309,348.311,348.305)
ORBIT_NUMBER = 5091
ORBITAL_ECCENTRICITY = 0.575
ORBITAL_INCLINATION = 86.71
ORBITAL_SEMIMAJOR_AXIS = 8726.4
PERIAPSIS_ALTITUDE = 315.03
PERIAPSIS_ARGUMENT_ANGLE = 182.67
PERIAPSIS_TIME = 2007-12-19T11:31:50.000Z
SPACECRAFT_ORIENTATION = (0.0,-1.0,0.0)
^MEX_ORIENTATION_DESC = "MEX_ORIENTATION_DESC.TXT"
SPACECRAFT_POINTING_MODE = ACROSSTRACK
^MEX_POINTING_DESC = "MEX_POINTING_DESC.TXT"
RIGHT_ASCENSION = -1e+32
DECLINATION = -1e+32
OFFSET_ANGLE = 0.15
SPACECRAFT_SOLAR_DISTANCE = 2.34791e+08
TARGET_NAME = MARS
/* CAMERA DATA ELEMENTS */
DETECTOR_TEMPERATURE = 17.351
FOCAL_PLANE_TEMPERATURE = 7.9716
INST_CMPRS_NAME = "DISCRETE COSINE TRANSFORMATION (DCT)"
INST_CMPRS_RATIO = 22.1027
INST_CMPRS_QUALITY = 0
INST_CMPRS_QUANTZ_TBL_ID = 0
INSTRUMENT_TEMPERATURE = 11.0301
LENS_TEMPERATURE = 8.1755
MACROPIXEL_SIZE = 4
MISSING_FRAMES = 0
PIXEL_SUBSAMPLING_FLAG = N
SIGNAL_CHAIN_ID = 3
/* RADIOMETRIC DATA ELEMENTS */
BANDWIDTH = 174.0
CENTER_FILTER_WAVELENGTH = 675.0
RADIANCE_OFFSET = 2.01763
RADIANCE_SCALING_FACTOR = 0.0101729
REFLECTANCE_SCALING_FACTOR = 0.000301644
MEX:REFLECTANCE_OFFSET = 0.0598261
/* IMAGE OBJECT DEFINITIONS */
OBJECT = IMAGE
  INTERCHANGE_FORMAT = BINARY
  LINES = 14301
  LINE_SAMPLES = 1424
  SAMPLE_TYPE = UNSIGNED_INTEGER
  SAMPLE_BITS = 8
  BANDS = 1
  BAND_STORAGE_TYPE = BAND_SEQUENTIAL
  MAXIMUM = 255
  MEAN = 100.051
  MINIMUM = 1
  STANDARD_DEVIATION = 19.6319
END_OBJECT = IMAGE
/* MAP OBJECT DEFINITIONS */
OBJECT = IMAGE_MAP_PROJECTION
  ^DATA_SET_MAP_PROJECTION_CATALOG= "DSMAP.CAT"
  A_AXIS_RADIUS = 3396.0
  B_AXIS_RADIUS = 3396.0
  C_AXIS_RADIUS = 3396.0
  CENTER_LATITUDE = 0.0
  CENTER_LONGITUDE = 348.0
  COORDINATE_SYSTEM_NAME = PLANETOGRAPHIC
  COORDINATE_SYSTEM_TYPE = "BODY-FIXED ROTATING"
  EASTERNMOST_LONGITUDE = 348.311
  FIRST_STANDARD_PARALLEL = "N/A"
  LINE_FIRST_PIXEL = 1
  LINE_LAST_PIXEL = 14301
  LINE_PROJECTION_OFFSET = 8030.625
  MAP_PROJECTION_ROTATION = 0.0
  MAP_PROJECTION_TYPE = SINUSOIDAL
  MAP_RESOLUTION = 1185.42760773333
  MAP_SCALE = 0.05
  MAXIMUM_LATITUDE = 6.77791
  MINIMUM_LATITUDE = -5.31014
  POSITIVE_LONGITUDE_DIRECTION = EAST
  REFERENCE_LATITUDE = "N/A"
  REFERENCE_LONGITUDE = "N/A"
  SAMPLE_FIRST_PIXEL = 1
  SAMPLE_LAST_PIXEL = 1424
  SAMPLE_PROJECTION_OFFSET = 1071.375
  SECOND_STANDARD_PARALLEL = "N/A"
  WESTERNMOST_LONGITUDE = 347.099
END_OBJECT = IMAGE_MAP_PROJECTION
END
