PDS_VERSION_ID = PDS3
/* FILE DATA ELEMENTS */
RECORD_TYPE = UNDEFINED
/* POINTERS TO DATA OBJECTS */
^IMAGE = ("H5097_0000_RE4.TIF")
/* IDENTIFICATION DATA ELEMENTS */
DATA_SET_ID = "MEX-M-HRSC-4-REFDR-MAPPROJECT-EXT2-V4.0"
DATA_SET_NAME = "MARS EXPRESS HRSC MAP PROJECTED REFDR EXTENSION2 V4.0"
DETECTOR_ID = MEX_HRSC_RED
EVENT_TYPE = "MARS-REGIONAL-MAPPING-Vo-Pf-Mw"
INSTRUMENT_HOST_ID = MEX
INSTRUMENT_HOST_NAME = "MARS EXPRESS"
INSTRUMENT_ID = HRSC
INSTRUMENT_NAME = "HIGH RESOLUTION STEREO CAMERA"
MISSION_NAME = "MARS EXPRESS"
MISSION_PHASE_NAME = ME_Phase_11
PROCESSING_LEVEL_ID = 4
PRODUCT_CREATION_TIME = 2023-02-01T12:09:47.000Z
PRODUCT_ID = "H5097_0000_RE4.TIF"
RELEASE_ID = 0001
REVISION_ID = 0000
/* QUALITY DATA ELEMENTS */
DATA_QUALITY_ID = 1
DATA_QUALITY_DESC = "Data calculated based on original SPICE kernels"
/* TIME DATA ELEMENTS */
SPACECRAFT_CLOCK_START_COUNT = "1/0146291036.08231"
SPACECRAFT_CLOCK_STOP_COUNT = "1/0146291411.25054"
START_TIME = 2007-12-21T04:25:58.473Z
STOP_TIME = 2007-12-21T04:30:07.236Z
/* ORBITAL DATA ELEMENTS */
ASCENDING_NODE_LONGITUDE = 122.03
MAXIMUM_RESOLUTION = 0.1308
FOOTPRINT_POINT_LATITUDE = (34.4793,34.4765,34.473,34.4696,34.4637 ,34.4634,34.5181,33.9443,33.5673, 33.0081,32.6375,32.2728,31.9083,31.5496 ,31.1905,30.8381,30.3118,29.9651, 29.6198,29.28,28.7717,28.4382,27.9394, 27.612,27.1214,26.8006,26.4795,26.0044, 25.6898,25.3748,25.067,24.7589,24.299, 23.998,23.6967,23.3953,23.101,22.8063, 22.5116,22.22,21.9323,21.6442,21.2122, 20.5098,20.0877,19.6653,19.3837,19.1012 ,18.819,18.6776,18.5405,18.54,18.5387, 18.5387,18.5408,18.8232,19.1056,19.3879 ,19.6699,20.0928,20.5152,20.9374, 21.5063,21.7945,22.2266,22.5186,22.8136 ,23.1085,23.4031,23.7047,24.0061, 24.3077,24.6138,24.9225,25.2308,25.5424 ,25.8577,26.1726,26.4912,26.8126, 27.1338,27.6248,27.9524,28.4521,28.7861 ,29.2951,29.6354,29.9816,30.3284, 30.8559,31.2092,31.5692,31.9284,32.2935 ,32.6589,33.03,33.5907,34.1593,34.3514, 34.4793)
FOOTPRINT_POINT_LONGITUDE = (108.335,107.567,107.019,106.603, 106.032,106.01,105.973,106.005,106.025, 106.054,106.073,106.091,106.109,106.126 ,106.143,106.159,106.182,106.196, 106.211,106.224,106.244,106.257,106.276 ,106.288,106.305,106.316,106.326, 106.342,106.352,106.362,106.371,106.38, 106.393,106.401,106.409,106.417,106.425 ,106.432,106.44,106.447,106.453,106.46, 106.47,106.485,106.493,106.502,106.507, 106.512,106.517,106.52,106.522,107.097, 107.929,107.943,107.952,107.957,107.963 ,107.968,107.974,107.983,107.991,108.0, 108.013,108.019,108.028,108.035,108.041 ,108.048,108.055,108.062,108.069, 108.076,108.083,108.091,108.098,108.106 ,108.114,108.122,108.13,108.138,108.146 ,108.159,108.168,108.181,108.19,108.204 ,108.214,108.223,108.233,108.248, 108.259,108.269,108.28,108.291,108.302, 108.313,108.33,108.348,108.354,108.335)
ORBIT_NUMBER = 5097
ORBITAL_ECCENTRICITY = 0.575
ORBITAL_INCLINATION = 86.71
ORBITAL_SEMIMAJOR_AXIS = 8733.52
PERIAPSIS_ALTITUDE = 314.81
PERIAPSIS_ARGUMENT_ANGLE = 181.62
PERIAPSIS_TIME = 2007-12-21T04:34:49.000Z
SPACECRAFT_ORIENTATION = (0.0,-1.0,0.0)
^MEX_ORIENTATION_DESC = "MEX_ORIENTATION_DESC.TXT"
SPACECRAFT_POINTING_MODE = NADIR
^MEX_POINTING_DESC = "MEX_POINTING_DESC.TXT"
RIGHT_ASCENSION = -1e+32
DECLINATION = -1e+32
OFFSET_ANGLE = -1e+32
SPACECRAFT_SOLAR_DISTANCE = 2.35096e+08
TARGET_NAME = MARS
/* CAMERA DATA ELEMENTS */
DETECTOR_TEMPERATURE = 18.5744
FOCAL_PLANE_TEMPERATURE = 8.1755
INST_CMPRS_NAME = "DISCRETE COSINE TRANSFORMATION (DCT)"
INST_CMPRS_RATIO = 19.7821
INST_CMPRS_QUALITY = 0
INST_CMPRS_QUANTZ_TBL_ID = 0
INSTRUMENT_TEMPERATURE = 11.234
LENS_TEMPERATURE = 8.5833
MACROPIXEL_SIZE = 8
MISSING_FRAMES = 0
PIXEL_SUBSAMPLING_FLAG = N
SIGNAL_CHAIN_ID = 2
/* RADIOMETRIC DATA ELEMENTS */
BANDWIDTH = 48.0
CENTER_FILTER_WAVELENGTH = 748.0
RADIANCE_OFFSET = 0.643912
RADIANCE_SCALING_FACTOR = 0.00219721
REFLECTANCE_SCALING_FACTOR = 0.00027713
MEX:REFLECTANCE_OFFSET = 0.0812158
/* IMAGE OBJECT DEFINITIONS */
OBJECT = IMAGE
  INTERCHANGE_FORMAT = BINARY
  LINES = 9499
  LINE_SAMPLES = 1259
  SAMPLE_TYPE = UNSIGNED_INTEGER
  SAMPLE_BITS = 8
  BANDS = 1
  BAND_STORAGE_TYPE = BAND_SEQUENTIAL
  MAXIMUM = 255
  MEAN = 112.788
  MINIMUM = 1
  STANDARD_DEVIATION = 20.7425
END_OBJECT = IMAGE
/* MAP OBJECT DEFINITIONS */
OBJECT = IMAGE_MAP_PROJECTION
  ^DATA_SET_MAP_PROJECTION_CATALOG= "DSMAP.CAT"
  A_AXIS_RADIUS = 3396.0
  B_AXIS_RADIUS = 3396.0
  C_AXIS_RADIUS = 3396.0
  CENTER_LATITUDE = 0.0
  CENTER_LONGITUDE = 107.0
  COORDINATE_SYSTEM_NAME = PLANETOGRAPHIC
  COORDINATE_SYSTEM_TYPE = "BODY-FIXED ROTATING"
  EASTERNMOST_LONGITUDE = 108.354
  FIRST_STANDARD_PARALLEL = "N/A"
  LINE_FIRST_PIXEL = 1
  LINE_LAST_PIXEL = 9499
  LINE_PROJECTION_OFFSET = 20483.9375
  MAP_PROJECTION_ROTATION = 0.0
  MAP_PROJECTION_TYPE = SINUSOIDAL
  MAP_RESOLUTION = 592.713803866667
  MAP_SCALE = 0.1
  MAXIMUM_LATITUDE = 34.5181
  MINIMUM_LATITUDE = 18.5387
  POSITIVE_LONGITUDE_DIRECTION = EAST
  REFERENCE_LATITUDE = "N/A"
  REFERENCE_LONGITUDE = "N/A"
  SAMPLE_FIRST_PIXEL = 1
  SAMPLE_LAST_PIXEL = 1259
  SAMPLE_PROJECTION_OFFSET = 555.8125
  SECOND_STANDARD_PARALLEL = "N/A"
  WESTERNMOST_LONGITUDE = 105.973
END_OBJECT = IMAGE_MAP_PROJECTION
END
