PDS_VERSION_ID = PDS3
/* FILE DATA ELEMENTS */
RECORD_TYPE = UNDEFINED
/* POINTERS TO DATA OBJECTS */
^IMAGE = ("H5112_0000_P14.TIF")
/* IDENTIFICATION DATA ELEMENTS */
DATA_SET_ID = "MEX-M-HRSC-4-REFDR-MAPPROJECT-EXT2-V4.0"
DATA_SET_NAME = "MARS EXPRESS HRSC MAP PROJECTED REFDR EXTENSION2 V4.0"
DETECTOR_ID = MEX_HRSC_P1
EVENT_TYPE = "MARS-REGIONAL-MAPPING-Im-Fl"
INSTRUMENT_HOST_ID = MEX
INSTRUMENT_HOST_NAME = "MARS EXPRESS"
INSTRUMENT_ID = HRSC
INSTRUMENT_NAME = "HIGH RESOLUTION STEREO CAMERA"
MISSION_NAME = "MARS EXPRESS"
MISSION_PHASE_NAME = ME_Phase_11
PROCESSING_LEVEL_ID = 4
PRODUCT_CREATION_TIME = 2023-02-01T12:09:47.000Z
PRODUCT_ID = "H5112_0000_P14.TIF"
RELEASE_ID = 0001
REVISION_ID = 0000
/* QUALITY DATA ELEMENTS */
DATA_QUALITY_ID = 1
DATA_QUALITY_DESC = "Data calculated based on original SPICE kernels"
/* TIME DATA ELEMENTS */
SPACECRAFT_CLOCK_START_COUNT = "1/0146661027.08382"
SPACECRAFT_CLOCK_STOP_COUNT = "1/0146661278.14908"
START_TIME = 2007-12-25T11:10:40.918Z
STOP_TIME = 2007-12-25T11:13:50.580Z
/* ORBITAL DATA ELEMENTS */
ASCENDING_NODE_LONGITUDE = 121.73
MAXIMUM_RESOLUTION = 0.0515
FOOTPRINT_POINT_LATITUDE = (5.06178,5.07051,5.07696,5.07707, 5.08317,4.83423,4.58493,4.33529,4.08568 ,3.83591,3.5863,3.33629,3.08569,2.71067 ,2.45992,2.2124,1.72895,1.4862,1.24342, 0.758846,0.515845,0.0294987,-0.335793, -0.579636,-0.945351,-1.18924,-1.43276, -1.67689,-2.04251,-2.28569,-2.52971, -2.77392,-3.01928,-3.39878,-3.65236, -3.905,-4.28401,-4.66471,-4.91854, -5.29857,-5.55282,-5.80407,-6.05633, -6.31202,-6.56393,-6.8185,-7.19634, -7.32309,-7.37001,-7.37326,-7.38168, -7.38429,-7.38385,-7.38308,-7.12651, -6.87586,-6.62214,-6.37375,-6.12151, -5.86697,-5.60943,-5.3559,-5.1041, -4.85144,-4.5982,-4.21783,-3.96454, -3.71206,-3.45881,-3.20627,-2.95549, -2.4701,-2.22491,-1.9805,-1.61481, -1.37108,-1.00568,-0.761687,-0.276587, -0.0324367,0.210541,0.572549,0.815348, 1.05818,1.30327,1.54663,2.03039,2.39839 ,2.64853,2.89883,3.14907,3.39962, 3.64998,3.8999,4.14966,4.39982,4.64935, 4.89872,5.02334,5.06178)
FOOTPRINT_POINT_LONGITUDE = (47.1358,46.5547,46.0205,46.01,46.0095, 46.0096,46.0095,46.0094,46.0092,46.009, 46.0088,46.0085,46.0079,46.0074,46.0068 ,46.0065,46.0055,46.0046,46.0038, 46.0023,46.0013,45.9992,45.9974,45.9961 ,45.994,45.9926,45.9913,45.9898,45.9876 ,45.9863,45.9847,45.9831,45.9813, 45.9786,45.9765,45.9747,45.972,45.9686, 45.9664,45.9631,45.9606,45.9589,45.9569 ,45.9538,45.9519,45.9491,45.946,45.9447 ,45.9444,46.4092,46.7083,47.0715, 47.0819,47.0855,47.0827,47.0837,47.0829 ,47.0856,47.0858,47.0847,47.0817, 47.0813,47.082,47.0823,47.0822,47.0819, 47.0819,47.0825,47.0826,47.0832,47.0838 ,47.0865,47.0863,47.0866,47.0878, 47.0886,47.0899,47.0905,47.0937,47.0942 ,47.0955,47.099,47.1004,47.1017,47.1016 ,47.1026,47.1064,47.1089,47.111,47.113, 47.115,47.1168,47.1186,47.1207,47.1228, 47.1247,47.1269,47.1291,47.1303, 47.1358)
ORBIT_NUMBER = 5112
ORBITAL_ECCENTRICITY = 0.575
ORBITAL_INCLINATION = 86.72
ORBITAL_SEMIMAJOR_AXIS = 8734.02
PERIAPSIS_ALTITUDE = 316.05
PERIAPSIS_ARGUMENT_ANGLE = 179.03
PERIAPSIS_TIME = 2007-12-25T11:12:02.000Z
SPACECRAFT_ORIENTATION = (0.0,-1.0,0.0)
^MEX_ORIENTATION_DESC = "MEX_ORIENTATION_DESC.TXT"
SPACECRAFT_POINTING_MODE = ACROSSTRACK
^MEX_POINTING_DESC = "MEX_POINTING_DESC.TXT"
RIGHT_ASCENSION = -1e+32
DECLINATION = -1e+32
OFFSET_ANGLE = 0.2
SPACECRAFT_SOLAR_DISTANCE = 2.35849e+08
TARGET_NAME = MARS
/* CAMERA DATA ELEMENTS */
DETECTOR_TEMPERATURE = 17.351
FOCAL_PLANE_TEMPERATURE = 7.7677
INST_CMPRS_NAME = "DISCRETE COSINE TRANSFORMATION (DCT)"
INST_CMPRS_RATIO = 11.6584
INST_CMPRS_QUALITY = 0
INST_CMPRS_QUANTZ_TBL_ID = 0
INSTRUMENT_TEMPERATURE = 11.0301
LENS_TEMPERATURE = 6.7482
MACROPIXEL_SIZE = 4
MISSING_FRAMES = 0
PIXEL_SUBSAMPLING_FLAG = N
SIGNAL_CHAIN_ID = 3
/* RADIOMETRIC DATA ELEMENTS */
BANDWIDTH = 174.0
CENTER_FILTER_WAVELENGTH = 675.0
RADIANCE_OFFSET = 2.25859
RADIANCE_SCALING_FACTOR = 0.0123758
REFLECTANCE_SCALING_FACTOR = 0.000370278
MEX:REFLECTANCE_OFFSET = 0.0675757
/* IMAGE OBJECT DEFINITIONS */
OBJECT = IMAGE
  INTERCHANGE_FORMAT = BINARY
  LINES = 14767
  LINE_SAMPLES = 1402
  SAMPLE_TYPE = UNSIGNED_INTEGER
  SAMPLE_BITS = 8
  BANDS = 1
  BAND_STORAGE_TYPE = BAND_SEQUENTIAL
  MAXIMUM = 255
  MEAN = 119.649
  MINIMUM = 1
  STANDARD_DEVIATION = 23.8622
END_OBJECT = IMAGE
/* MAP OBJECT DEFINITIONS */
OBJECT = IMAGE_MAP_PROJECTION
  ^DATA_SET_MAP_PROJECTION_CATALOG= "DSMAP.CAT"
  A_AXIS_RADIUS = 3396.0
  B_AXIS_RADIUS = 3396.0
  C_AXIS_RADIUS = 3396.0
  CENTER_LATITUDE = 0.0
  CENTER_LONGITUDE = 47.0
  COORDINATE_SYSTEM_NAME = PLANETOGRAPHIC
  COORDINATE_SYSTEM_TYPE = "BODY-FIXED ROTATING"
  EASTERNMOST_LONGITUDE = 47.1358
  FIRST_STANDARD_PARALLEL = "N/A"
  LINE_FIRST_PIXEL = 1
  LINE_LAST_PIXEL = 14767
  LINE_PROJECTION_OFFSET = 6016.875
  MAP_PROJECTION_ROTATION = 0.0
  MAP_PROJECTION_TYPE = SINUSOIDAL
  MAP_RESOLUTION = 1185.42760773333
  MAP_SCALE = 0.05
  MAXIMUM_LATITUDE = 5.08317
  MINIMUM_LATITUDE = -7.38429
  POSITIVE_LONGITUDE_DIRECTION = EAST
  REFERENCE_LATITUDE = "N/A"
  REFERENCE_LONGITUDE = "N/A"
  SAMPLE_FIRST_PIXEL = 1
  SAMPLE_LAST_PIXEL = 1402
  SAMPLE_PROJECTION_OFFSET = 1256.125
  SECOND_STANDARD_PARALLEL = "N/A"
  WESTERNMOST_LONGITUDE = 45.9444
END_OBJECT = IMAGE_MAP_PROJECTION
END
