PDS_VERSION_ID = PDS3
/* FILE DATA ELEMENTS */
RECORD_TYPE = UNDEFINED
/* POINTERS TO DATA OBJECTS */
^IMAGE = ("H5151_0000_IR4.TIF")
/* IDENTIFICATION DATA ELEMENTS */
DATA_SET_ID = "MEX-M-HRSC-4-REFDR-MAPPROJECT-EXT2-V4.0"
DATA_SET_NAME = "MARS EXPRESS HRSC MAP PROJECTED REFDR EXTENSION2 V4.0"
DETECTOR_ID = MEX_HRSC_IR
EVENT_TYPE = "MARS-REGIONAL-MAPPING-Te-Pf-Mw"
INSTRUMENT_HOST_ID = MEX
INSTRUMENT_HOST_NAME = "MARS EXPRESS"
INSTRUMENT_ID = HRSC
INSTRUMENT_NAME = "HIGH RESOLUTION STEREO CAMERA"
MISSION_NAME = "MARS EXPRESS"
MISSION_PHASE_NAME = ME_Phase_11
PROCESSING_LEVEL_ID = 4
PRODUCT_CREATION_TIME = 2023-02-01T12:09:47.000Z
PRODUCT_ID = "H5151_0000_IR4.TIF"
RELEASE_ID = 0001
REVISION_ID = 0000
/* QUALITY DATA ELEMENTS */
DATA_QUALITY_ID = 1
DATA_QUALITY_DESC = "Data calculated based on original SPICE kernels"
/* TIME DATA ELEMENTS */
SPACECRAFT_CLOCK_START_COUNT = "1/0147621152.08254"
SPACECRAFT_CLOCK_STOP_COUNT = "1/0147621487.40341"
START_TIME = 2008-01-05T13:52:45.204Z
STOP_TIME = 2008-01-05T13:57:12.563Z
/* ORBITAL DATA ELEMENTS */
ASCENDING_NODE_LONGITUDE = 120.94
MAXIMUM_RESOLUTION = 0.1193
FOOTPRINT_POINT_LATITUDE = (34.4775,34.4835,34.4812,34.4769, 34.4767,34.4188,34.0824,33.7449,33.4062 ,33.0666,32.7258,32.3839,32.041,31.6971 ,31.3519,31.0057,30.487,30.1465,29.6364 ,29.1337,28.7984,28.4699,28.1402, 27.8127,27.4896,27.1653,26.8429,26.5259 ,26.208,25.8891,25.2664,24.9541,24.641, 24.3273,24.0132,23.6981,23.3823,23.0659 ,22.7489,22.4314,22.1132,21.7946, 21.4753,21.1552,20.697,20.0228,19.482, 18.6674,18.5313,18.508,18.5037,18.4977, 18.4881,18.4878,18.4893,19.033,19.5756, 20.2514,20.7908,21.1107,21.4311,21.7507 ,22.0699,22.3885,22.7063,23.0236, 23.3404,23.6561,23.9715,24.2862,24.6004 ,24.9137,25.2264,25.8499,26.1682, 26.4866,26.8042,27.1266,27.4511,27.7744 ,28.1021,28.4322,28.7618,29.2647, 29.6001,30.1104,30.4521,30.7973,31.1447 ,31.491,31.8363,32.1806,32.5237,32.8659 ,33.207,33.5471,33.8859,34.224,34.3924, 34.4775)
FOOTPRINT_POINT_LONGITUDE = (105.662,104.649,104.019,103.586, 103.567,103.543,103.561,103.579,103.596 ,103.613,103.629,103.645,103.661, 103.676,103.691,103.706,103.727,103.74, 103.76,103.778,103.79,103.802,103.813, 103.824,103.834,103.844,103.854,103.863 ,103.872,103.881,103.898,103.906, 103.914,103.921,103.929,103.936,103.943 ,103.95,103.956,103.963,103.969,103.975 ,103.981,103.986,103.994,104.005, 104.013,104.024,104.026,104.026,104.414 ,104.82,105.316,105.328,105.336,105.345 ,105.354,105.365,105.374,105.38,105.385 ,105.391,105.397,105.403,105.409, 105.415,105.421,105.427,105.434,105.44, 105.446,105.453,105.459,105.473,105.48, 105.487,105.494,105.501,105.509,105.516 ,105.524,105.532,105.54,105.553,105.561 ,105.574,105.583,105.592,105.601, 105.611,105.62,105.63,105.64,105.65, 105.659,105.669,105.68,105.69,105.695, 105.662)
ORBIT_NUMBER = 5151
ORBITAL_ECCENTRICITY = 0.574
ORBITAL_INCLINATION = 86.72
ORBITAL_SEMIMAJOR_AXIS = 8731.58
PERIAPSIS_ALTITUDE = 319.62
PERIAPSIS_ARGUMENT_ANGLE = 172.13
PERIAPSIS_TIME = 2008-01-05T14:00:22.000Z
SPACECRAFT_ORIENTATION = (0.0,-1.0,0.0)
^MEX_ORIENTATION_DESC = "MEX_ORIENTATION_DESC.TXT"
SPACECRAFT_POINTING_MODE = ACROSSTRACK
^MEX_POINTING_DESC = "MEX_POINTING_DESC.TXT"
RIGHT_ASCENSION = -1e+32
DECLINATION = -1e+32
OFFSET_ANGLE = 0.3
SPACECRAFT_SOLAR_DISTANCE = 2.37741e+08
TARGET_NAME = MARS
/* CAMERA DATA ELEMENTS */
DETECTOR_TEMPERATURE = 17.5549
FOCAL_PLANE_TEMPERATURE = 8.3794
INST_CMPRS_NAME = "DISCRETE COSINE TRANSFORMATION (DCT)"
INST_CMPRS_RATIO = 15.5216
INST_CMPRS_QUALITY = 0
INST_CMPRS_QUANTZ_TBL_ID = 0
INSTRUMENT_TEMPERATURE = 11.234
LENS_TEMPERATURE = 8.3794
MACROPIXEL_SIZE = 8
MISSING_FRAMES = 0
PIXEL_SUBSAMPLING_FLAG = N
SIGNAL_CHAIN_ID = 2
/* RADIOMETRIC DATA ELEMENTS */
BANDWIDTH = 81.0
CENTER_FILTER_WAVELENGTH = 955.5
RADIANCE_OFFSET = 0.687589
RADIANCE_SCALING_FACTOR = 0.00369203
REFLECTANCE_SCALING_FACTOR = 0.000450193
MEX:REFLECTANCE_OFFSET = 0.0838422
/* IMAGE OBJECT DEFINITIONS */
OBJECT = IMAGE
  INTERCHANGE_FORMAT = BINARY
  LINES = 9443
  LINE_SAMPLES = 996
  SAMPLE_TYPE = UNSIGNED_INTEGER
  SAMPLE_BITS = 8
  BANDS = 1
  BAND_STORAGE_TYPE = BAND_SEQUENTIAL
  MAXIMUM = 255
  MEAN = 122.436
  MINIMUM = 1
  STANDARD_DEVIATION = 13.72
END_OBJECT = IMAGE
/* MAP OBJECT DEFINITIONS */
OBJECT = IMAGE_MAP_PROJECTION
  ^DATA_SET_MAP_PROJECTION_CATALOG= "DSMAP.CAT"
  A_AXIS_RADIUS = 3396.0
  B_AXIS_RADIUS = 3396.0
  C_AXIS_RADIUS = 3396.0
  CENTER_LATITUDE = 0.0
  CENTER_LONGITUDE = 105.0
  COORDINATE_SYSTEM_NAME = PLANETOGRAPHIC
  COORDINATE_SYSTEM_TYPE = "BODY-FIXED ROTATING"
  EASTERNMOST_LONGITUDE = 105.695
  FIRST_STANDARD_PARALLEL = "N/A"
  LINE_FIRST_PIXEL = 1
  LINE_LAST_PIXEL = 9443
  LINE_PROJECTION_OFFSET = 20419.8125
  MAP_PROJECTION_ROTATION = 0.0
  MAP_PROJECTION_TYPE = SINUSOIDAL
  MAP_RESOLUTION = 592.713803866667
  MAP_SCALE = 0.1
  MAXIMUM_LATITUDE = 34.4835
  MINIMUM_LATITUDE = 18.4878
  POSITIVE_LONGITUDE_DIRECTION = EAST
  REFERENCE_LATITUDE = "N/A"
  REFERENCE_LONGITUDE = "N/A"
  SAMPLE_FIRST_PIXEL = 1
  SAMPLE_LAST_PIXEL = 996
  SAMPLE_PROJECTION_OFFSET = 692.9375
  SECOND_STANDARD_PARALLEL = "N/A"
  WESTERNMOST_LONGITUDE = 103.543
END_OBJECT = IMAGE_MAP_PROJECTION
END
