PDS_VERSION_ID = PDS3
/* FILE DATA ELEMENTS */
RECORD_TYPE = UNDEFINED
/* POINTERS TO DATA OBJECTS */
^IMAGE = ("H5177_0001_S14.TIF")
/* IDENTIFICATION DATA ELEMENTS */
DATA_SET_ID = "MEX-M-HRSC-4-REFDR-MAPPROJECT-EXT2-V4.0"
DATA_SET_NAME = "MARS EXPRESS HRSC MAP PROJECTED REFDR EXTENSION2 V4.0"
DETECTOR_ID = MEX_HRSC_S1
EVENT_TYPE = "MARS-LOCAL-MAPPING-Vo"
INSTRUMENT_HOST_ID = MEX
INSTRUMENT_HOST_NAME = "MARS EXPRESS"
INSTRUMENT_ID = HRSC
INSTRUMENT_NAME = "HIGH RESOLUTION STEREO CAMERA"
MISSION_NAME = "MARS EXPRESS"
MISSION_PHASE_NAME = ME_Phase_11
PROCESSING_LEVEL_ID = 4
PRODUCT_CREATION_TIME = 2023-02-01T12:09:47.000Z
PRODUCT_ID = "H5177_0001_S14.TIF"
RELEASE_ID = 0001
REVISION_ID = 0000
/* QUALITY DATA ELEMENTS */
DATA_QUALITY_ID = 1
DATA_QUALITY_DESC = "Data calculated based on original SPICE kernels"
/* TIME DATA ELEMENTS */
SPACECRAFT_CLOCK_START_COUNT = "1/0148262201.07281"
SPACECRAFT_CLOCK_STOP_COUNT = "1/0148262344.37031"
START_TIME = 2008-01-12T23:56:44.965Z
STOP_TIME = 2008-01-12T23:57:44.569Z
/* ORBITAL DATA ELEMENTS */
ASCENDING_NODE_LONGITUDE = 120.41
MAXIMUM_RESOLUTION = 0.0321
FOOTPRINT_POINT_LATITUDE = (-6.4259,-6.42345,-6.42105,-6.41864, -6.41629,-6.41397,-6.41172,-6.40952, -6.40736,-6.40524,-6.40318,-6.40116, -6.3977,-6.39746,-6.38415,-6.50123, -6.61811,-6.77444,-6.85379,-6.93371, -7.05288,-7.20949,-7.3272,-7.40566, -7.48395,-7.56208,-7.64027,-7.79633, -7.95182,-8.06885,-8.14737,-8.22594, -8.38048,-8.49839,-8.57732,-8.65531, -8.81143,-8.96699,-9.09062,-9.2111, -9.40218,-9.5547,-9.67072,-9.74901, -9.90495,-10.0608,-10.2552,-10.2939, -10.3199,-10.3226,-10.3244,-10.3266, -10.3288,-10.3309,-10.3331,-10.3349, -10.3369,-10.3404,-10.3423,-10.3441, -10.3445,-10.3454,-10.3446,-10.3442, -10.1887,-10.0328,-9.91579,-9.72172, -9.48874,-9.33287,-9.17712,-9.05925, -8.98066,-8.90201,-8.82301,-8.74386, -8.6653,-8.58569,-8.46631,-8.38826, -8.23547,-8.11967,-8.04171,-7.96377, -7.88566,-7.80752,-7.72931,-7.61152, -7.53316,-7.37706,-7.22118,-7.06524, -6.94782,-6.79169,-6.7134,-6.63493, -6.55663,-6.47842,-6.43893,-6.4259)
FOOTPRINT_POINT_LONGITUDE = (23.8453,23.7404,23.6357,23.5311, 23.4268,23.3226,23.2185,23.1146,23.011, 22.9075,22.804,22.7007,22.5201,22.5072, 22.5058,22.5036,22.5014,22.4984,22.4966 ,22.4948,22.4921,22.4889,22.4865, 22.4848,22.4832,22.4816,22.48,22.4769, 22.4738,22.4714,22.4697,22.468,22.465, 22.4624,22.4605,22.4589,22.4555,22.4523 ,22.4484,22.4451,22.4416,22.4388, 22.4364,22.4346,22.431,22.4275,22.4231, 22.4223,22.4217,22.519,22.6172,22.7295, 22.8419,22.9544,23.067,23.1798,23.2928, 23.4062,23.5477,23.6469,23.7317,23.8589 ,23.8727,23.8778,23.876,23.8742,23.8728 ,23.8709,23.8687,23.8671,23.8655, 23.8639,23.8629,23.8619,23.8607,23.8594 ,23.8584,23.857,23.8549,23.8542,23.8542 ,23.8536,23.853,23.8524,23.8517,23.851, 23.8503,23.849,23.8483,23.8471,23.846, 23.8449,23.844,23.8429,23.8423,23.8416, 23.841,23.8404,23.84,23.8453)
ORBIT_NUMBER = 5177
ORBITAL_ECCENTRICITY = 0.574
ORBITAL_INCLINATION = 86.72
ORBITAL_SEMIMAJOR_AXIS = 8727.43
PERIAPSIS_ALTITUDE = 322.62
PERIAPSIS_ARGUMENT_ANGLE = 167.58
PERIAPSIS_TIME = 2008-01-12T23:52:29.000Z
SPACECRAFT_ORIENTATION = (0.0,-1.0,0.0)
^MEX_ORIENTATION_DESC = "MEX_ORIENTATION_DESC.TXT"
SPACECRAFT_POINTING_MODE = ACROSSTRACK
^MEX_POINTING_DESC = "MEX_POINTING_DESC.TXT"
RIGHT_ASCENSION = -1e+32
DECLINATION = -1e+32
OFFSET_ANGLE = 0.25
SPACECRAFT_SOLAR_DISTANCE = 2.38944e+08
TARGET_NAME = MARS
/* CAMERA DATA ELEMENTS */
DETECTOR_TEMPERATURE = 18.5744
FOCAL_PLANE_TEMPERATURE = 8.5833
INST_CMPRS_NAME = "DISCRETE COSINE TRANSFORMATION (DCT)"
INST_CMPRS_RATIO = 11.8567
INST_CMPRS_QUALITY = 0
INST_CMPRS_QUANTZ_TBL_ID = 0
INSTRUMENT_TEMPERATURE = 13.0691
LENS_TEMPERATURE = 8.9911
MACROPIXEL_SIZE = 2
MISSING_FRAMES = 0
PIXEL_SUBSAMPLING_FLAG = N
SIGNAL_CHAIN_ID = 1
/* RADIOMETRIC DATA ELEMENTS */
BANDWIDTH = 180.0
CENTER_FILTER_WAVELENGTH = 677.0
RADIANCE_OFFSET = 2.01222
RADIANCE_SCALING_FACTOR = 0.0144669
REFLECTANCE_SCALING_FACTOR = 0.000430936
MEX:REFLECTANCE_OFFSET = 0.0599393
/* IMAGE OBJECT DEFINITIONS */
OBJECT = IMAGE
  INTERCHANGE_FORMAT = BINARY
  LINES = 9333
  LINE_SAMPLES = 3563
  SAMPLE_TYPE = UNSIGNED_INTEGER
  SAMPLE_BITS = 8
  BANDS = 1
  BAND_STORAGE_TYPE = BAND_SEQUENTIAL
  MAXIMUM = 255
  MEAN = 101.147
  MINIMUM = 1
  STANDARD_DEVIATION = 22.2663
END_OBJECT = IMAGE
/* MAP OBJECT DEFINITIONS */
OBJECT = IMAGE_MAP_PROJECTION
  ^DATA_SET_MAP_PROJECTION_CATALOG= "DSMAP.CAT"
  A_AXIS_RADIUS = 3396.0
  B_AXIS_RADIUS = 3396.0
  C_AXIS_RADIUS = 3396.0
  CENTER_LATITUDE = 0.0
  CENTER_LONGITUDE = 23.0
  COORDINATE_SYSTEM_NAME = PLANETOGRAPHIC
  COORDINATE_SYSTEM_TYPE = "BODY-FIXED ROTATING"
  EASTERNMOST_LONGITUDE = 23.8778
  FIRST_STANDARD_PARALLEL = "N/A"
  LINE_FIRST_PIXEL = 1
  LINE_LAST_PIXEL = 9333
  LINE_PROJECTION_OFFSET = -15175.25
  MAP_PROJECTION_ROTATION = 0.0
  MAP_PROJECTION_TYPE = SINUSOIDAL
  MAP_RESOLUTION = 2370.85521546667
  MAP_SCALE = 0.025
  MAXIMUM_LATITUDE = -6.38415
  MINIMUM_LATITUDE = -10.3454
  POSITIVE_LONGITUDE_DIRECTION = EAST
  REFERENCE_LATITUDE = "N/A"
  REFERENCE_LONGITUDE = "N/A"
  SAMPLE_FIRST_PIXEL = 1
  SAMPLE_LAST_PIXEL = 3563
  SAMPLE_PROJECTION_OFFSET = 1436.75
  SECOND_STANDARD_PARALLEL = "N/A"
  WESTERNMOST_LONGITUDE = 22.4217
END_OBJECT = IMAGE_MAP_PROJECTION
END
