PDS_VERSION_ID = PDS3
/* FILE DATA ELEMENTS */
RECORD_TYPE = UNDEFINED
/* POINTERS TO DATA OBJECTS */
^IMAGE = ("H5192_0000_P14.TIF")
/* IDENTIFICATION DATA ELEMENTS */
DATA_SET_ID = "MEX-M-HRSC-4-REFDR-MAPPROJECT-EXT2-V4.0"
DATA_SET_NAME = "MARS EXPRESS HRSC MAP PROJECTED REFDR EXTENSION2 V4.0"
DETECTOR_ID = MEX_HRSC_P1
EVENT_TYPE = "MARS-REGIONAL-MAPPING-Im-Fl-Pf"
INSTRUMENT_HOST_ID = MEX
INSTRUMENT_HOST_NAME = "MARS EXPRESS"
INSTRUMENT_ID = HRSC
INSTRUMENT_NAME = "HIGH RESOLUTION STEREO CAMERA"
MISSION_NAME = "MARS EXPRESS"
MISSION_PHASE_NAME = ME_Phase_11
PROCESSING_LEVEL_ID = 4
PRODUCT_CREATION_TIME = 2023-02-01T12:09:47.000Z
PRODUCT_ID = "H5192_0000_P14.TIF"
RELEASE_ID = 0001
REVISION_ID = 0000
/* QUALITY DATA ELEMENTS */
DATA_QUALITY_ID = 1
DATA_QUALITY_DESC = "Data calculated based on original SPICE kernels"
/* TIME DATA ELEMENTS */
SPACECRAFT_CLOCK_START_COUNT = "1/0148630944.08246"
SPACECRAFT_CLOCK_STOP_COUNT = "1/0148631318.08402"
START_TIME = 2008-01-17T06:22:44.852Z
STOP_TIME = 2008-01-17T06:27:50.954Z
/* ORBITAL DATA ELEMENTS */
ASCENDING_NODE_LONGITUDE = 120.1
MAXIMUM_RESOLUTION = 0.0555
FOOTPRINT_POINT_LATITUDE = (37.1134,37.1045,37.0943,37.0807, 37.0802,37.0237,36.58,36.1441,35.7075, 35.2796,34.6396,34.2186,33.7985,33.3852 ,32.767,32.3617,31.7547,31.3568,30.9574 ,30.564,29.9784,29.5868,29.1942,28.8006 ,28.4062,28.0112,27.6151,27.0193, 26.4219,26.0227,25.4307,24.7579,24.083, 23.7446,23.4058,23.0666,22.7268,22.3867 ,22.046,21.7049,21.3636,21.0208,20.5071 ,20.1642,19.8204,19.4771,19.1363, 18.3012,18.1342,18.0696,18.0728,18.072, 18.0719,18.0727,18.5741,19.2419,19.5857 ,19.9296,20.2745,20.6167,20.9594, 21.4736,21.8155,22.1572,22.4976,23.0078 ,23.3474,23.6868,24.0256,24.3641,24.702 ,25.376,25.9557,26.3559,26.7552,27.1537 ,27.5515,27.9484,28.3444,28.7397, 29.1341,29.5275,29.9202,30.3119,30.7032 ,31.1003,31.4996,31.8979,32.305,32.9144 ,33.3289,33.7432,34.374,34.7962,35.2259 ,35.6558,36.0916,36.7503,36.9726, 37.1134)
FOOTPRINT_POINT_LONGITUDE = (323.17,322.327,321.778,321.229,321.21, 321.181,321.208,321.233,321.257,321.281 ,321.314,321.335,321.355,321.375, 321.403,321.42,321.445,321.461,321.477, 321.491,321.512,321.526,321.539,321.552 ,321.564,321.576,321.587,321.604,321.62 ,321.63,321.643,321.658,321.672,321.679 ,321.685,321.691,321.697,321.703, 321.708,321.713,321.718,321.723,321.729 ,321.734,321.737,321.741,321.745, 321.752,321.754,321.754,322.561,322.977 ,322.988,322.992,322.996,323.001, 323.003,323.006,323.008,323.011,323.014 ,323.018,323.021,323.024,323.027, 323.032,323.035,323.038,323.041,323.044 ,323.047,323.054,323.06,323.064,323.068 ,323.072,323.076,323.081,323.085,323.09 ,323.094,323.099,323.103,323.108, 323.113,323.117,323.123,323.128,323.133 ,323.141,323.147,323.152,323.161, 323.167,323.173,323.179,323.185,323.195 ,323.198,323.17)
ORBIT_NUMBER = 5192
ORBITAL_ECCENTRICITY = 0.573
ORBITAL_INCLINATION = 86.74
ORBITAL_SEMIMAJOR_AXIS = 8717.01
PERIAPSIS_ALTITUDE = 324.63
PERIAPSIS_ARGUMENT_ANGLE = 164.94
PERIAPSIS_TIME = 2008-01-17T06:29:00.000Z
SPACECRAFT_ORIENTATION = (0.0,-1.0,0.0)
^MEX_ORIENTATION_DESC = "MEX_ORIENTATION_DESC.TXT"
SPACECRAFT_POINTING_MODE = NADIR
^MEX_POINTING_DESC = "MEX_POINTING_DESC.TXT"
RIGHT_ASCENSION = -1e+32
DECLINATION = -1e+32
OFFSET_ANGLE = -1e+32
SPACECRAFT_SOLAR_DISTANCE = 2.39615e+08
TARGET_NAME = MARS
/* CAMERA DATA ELEMENTS */
DETECTOR_TEMPERATURE = 17.351
FOCAL_PLANE_TEMPERATURE = 7.7677
INST_CMPRS_NAME = "DISCRETE COSINE TRANSFORMATION (DCT)"
INST_CMPRS_RATIO = 10.7297
INST_CMPRS_QUALITY = 0
INST_CMPRS_QUANTZ_TBL_ID = 0
INSTRUMENT_TEMPERATURE = 11.0301
LENS_TEMPERATURE = 8.3794
MACROPIXEL_SIZE = 4
MISSING_FRAMES = 0
PIXEL_SUBSAMPLING_FLAG = N
SIGNAL_CHAIN_ID = 3
/* RADIOMETRIC DATA ELEMENTS */
BANDWIDTH = 174.0
CENTER_FILTER_WAVELENGTH = 675.0
RADIANCE_OFFSET = 2.38502
RADIANCE_SCALING_FACTOR = 0.0135685
REFLECTANCE_SCALING_FACTOR = 0.000419024
MEX:REFLECTANCE_OFFSET = 0.0736547
/* IMAGE OBJECT DEFINITIONS */
OBJECT = IMAGE
  INTERCHANGE_FORMAT = BINARY
  LINES = 22430
  LINE_SAMPLES = 1843
  SAMPLE_TYPE = UNSIGNED_INTEGER
  SAMPLE_BITS = 8
  BANDS = 1
  BAND_STORAGE_TYPE = BAND_SEQUENTIAL
  MAXIMUM = 255
  MEAN = 113.486
  MINIMUM = 1
  STANDARD_DEVIATION = 28.5198
END_OBJECT = IMAGE
/* MAP OBJECT DEFINITIONS */
OBJECT = IMAGE_MAP_PROJECTION
  ^DATA_SET_MAP_PROJECTION_CATALOG= "DSMAP.CAT"
  A_AXIS_RADIUS = 3396.0
  B_AXIS_RADIUS = 3396.0
  C_AXIS_RADIUS = 3396.0
  CENTER_LATITUDE = 0.0
  CENTER_LONGITUDE = 322.0
  COORDINATE_SYSTEM_NAME = PLANETOGRAPHIC
  COORDINATE_SYSTEM_TYPE = "BODY-FIXED ROTATING"
  EASTERNMOST_LONGITUDE = 323.198
  FIRST_STANDARD_PARALLEL = "N/A"
  LINE_FIRST_PIXEL = 1
  LINE_LAST_PIXEL = 22430
  LINE_PROJECTION_OFFSET = 43859.375
  MAP_PROJECTION_ROTATION = 0.0
  MAP_PROJECTION_TYPE = SINUSOIDAL
  MAP_RESOLUTION = 1185.42760773333
  MAP_SCALE = 0.05
  MAXIMUM_LATITUDE = 37.1134
  MINIMUM_LATITUDE = 18.0696
  POSITIVE_LONGITUDE_DIRECTION = EAST
  REFERENCE_LATITUDE = "N/A"
  REFERENCE_LONGITUDE = "N/A"
  SAMPLE_FIRST_PIXEL = 1
  SAMPLE_LAST_PIXEL = 1843
  SAMPLE_PROJECTION_OFFSET = 737.375
  SECOND_STANDARD_PARALLEL = "N/A"
  WESTERNMOST_LONGITUDE = 321.181
END_OBJECT = IMAGE_MAP_PROJECTION
END
