PDS_VERSION_ID = PDS3
/* FILE DATA ELEMENTS */
RECORD_TYPE = UNDEFINED
/* POINTERS TO DATA OBJECTS */
^IMAGE = ("H5192_0000_P24.TIF")
/* IDENTIFICATION DATA ELEMENTS */
DATA_SET_ID = "MEX-M-HRSC-4-REFDR-MAPPROJECT-EXT2-V4.0"
DATA_SET_NAME = "MARS EXPRESS HRSC MAP PROJECTED REFDR EXTENSION2 V4.0"
DETECTOR_ID = MEX_HRSC_P2
EVENT_TYPE = "MARS-REGIONAL-MAPPING-Im-Fl-Pf"
INSTRUMENT_HOST_ID = MEX
INSTRUMENT_HOST_NAME = "MARS EXPRESS"
INSTRUMENT_ID = HRSC
INSTRUMENT_NAME = "HIGH RESOLUTION STEREO CAMERA"
MISSION_NAME = "MARS EXPRESS"
MISSION_PHASE_NAME = ME_Phase_11
PROCESSING_LEVEL_ID = 4
PRODUCT_CREATION_TIME = 2023-02-01T12:09:47.000Z
PRODUCT_ID = "H5192_0000_P24.TIF"
RELEASE_ID = 0001
REVISION_ID = 0000
/* QUALITY DATA ELEMENTS */
DATA_QUALITY_ID = 1
DATA_QUALITY_DESC = "Data calculated based on original SPICE kernels"
/* TIME DATA ELEMENTS */
SPACECRAFT_CLOCK_START_COUNT = "1/0148630944.08246"
SPACECRAFT_CLOCK_STOP_COUNT = "1/0148631318.08402"
START_TIME = 2008-01-17T06:23:42.164Z
STOP_TIME = 2008-01-17T06:28:29.971Z
/* ORBITAL DATA ELEMENTS */
ASCENDING_NODE_LONGITUDE = 120.1
MAXIMUM_RESOLUTION = 0.054
FOOTPRINT_POINT_LATITUDE = (36.8649,36.8593,36.8519,36.8386, 36.8383,36.8769,36.4358,35.9971,35.5659 ,34.9211,34.4997,34.0778,33.4552, 33.0433,32.631,32.2181,31.5988,31.1858, 30.7719,30.1504,29.7359,29.3209,28.9058 ,28.4905,28.1046,27.7562,27.2335, 26.7101,26.1871,25.6634,25.3143,24.965, 24.6156,24.2661,23.9166,23.3924,23.0427 ,22.693,22.1686,21.8195,21.4811,20.9742 ,20.636,20.2977,19.7904,19.4518,18.9451 ,18.2698,18.1009,18.0723,18.0734, 18.0736,18.0736,18.0745,18.4126,18.7508 ,19.089,19.4274,19.7658,20.2726,20.612, 20.9507,21.2888,21.6274,21.9698,22.32, 22.6701,23.1952,23.5451,24.0699,24.4195 ,24.7692,25.1189,25.6434,25.9929, 26.3423,26.6916,27.0409,27.39,27.9134, 28.262,28.6765,29.0922,29.5079,29.9232, 30.3383,30.7528,31.3745,31.9956,32.6159 ,33.029,33.4423,33.8543,34.2766,34.9096 ,35.5548,35.9874,36.6471,36.8684, 36.8649)
FOOTPRINT_POINT_LONGITUDE = (323.075,322.576,322.062,321.315, 321.298,321.266,321.29,321.313,321.334, 321.365,321.384,321.403,321.43,321.447, 321.463,321.479,321.502,321.516,321.531 ,321.551,321.564,321.576,321.589,321.6, 321.611,321.62,321.633,321.645,321.657, 321.668,321.675,321.682,321.688,321.695 ,321.701,321.709,321.715,321.72,321.727 ,321.732,321.736,321.741,321.745, 321.749,321.753,321.757,321.76,321.765, 321.766,321.766,322.462,322.957,322.968 ,322.972,322.973,322.975,322.977, 322.978,322.98,322.982,322.985,322.987, 322.988,322.99,322.992,322.994,322.996, 323.0,323.002,323.005,323.007,323.01, 323.012,323.016,323.018,323.02,323.023, 323.025,323.028,323.032,323.034,323.037 ,323.04,323.043,323.046,323.05,323.053, 323.057,323.062,323.067,323.071,323.074 ,323.078,323.081,323.086,323.091, 323.095,323.1,323.102,323.075)
ORBIT_NUMBER = 5192
ORBITAL_ECCENTRICITY = 0.573
ORBITAL_INCLINATION = 86.74
ORBITAL_SEMIMAJOR_AXIS = 8717.01
PERIAPSIS_ALTITUDE = 324.63
PERIAPSIS_ARGUMENT_ANGLE = 164.94
PERIAPSIS_TIME = 2008-01-17T06:29:00.000Z
SPACECRAFT_ORIENTATION = (0.0,-1.0,0.0)
^MEX_ORIENTATION_DESC = "MEX_ORIENTATION_DESC.TXT"
SPACECRAFT_POINTING_MODE = NADIR
^MEX_POINTING_DESC = "MEX_POINTING_DESC.TXT"
RIGHT_ASCENSION = -1e+32
DECLINATION = -1e+32
OFFSET_ANGLE = -1e+32
SPACECRAFT_SOLAR_DISTANCE = 2.39615e+08
TARGET_NAME = MARS
/* CAMERA DATA ELEMENTS */
DETECTOR_TEMPERATURE = 18.3705
FOCAL_PLANE_TEMPERATURE = 7.7677
INST_CMPRS_NAME = "DISCRETE COSINE TRANSFORMATION (DCT)"
INST_CMPRS_RATIO = 7.62796
INST_CMPRS_QUALITY = 0
INST_CMPRS_QUANTZ_TBL_ID = 0
INSTRUMENT_TEMPERATURE = 11.0301
LENS_TEMPERATURE = 8.3794
MACROPIXEL_SIZE = 4
MISSING_FRAMES = 0
PIXEL_SUBSAMPLING_FLAG = N
SIGNAL_CHAIN_ID = 3
/* RADIOMETRIC DATA ELEMENTS */
BANDWIDTH = 177.0
CENTER_FILTER_WAVELENGTH = 676.5
RADIANCE_OFFSET = 2.33984
RADIANCE_SCALING_FACTOR = 0.0133114
REFLECTANCE_SCALING_FACTOR = 0.000405234
MEX:REFLECTANCE_OFFSET = 0.0712308
/* IMAGE OBJECT DEFINITIONS */
OBJECT = IMAGE
  INTERCHANGE_FORMAT = BINARY
  LINES = 22430
  LINE_SAMPLES = 1843
  SAMPLE_TYPE = UNSIGNED_INTEGER
  SAMPLE_BITS = 8
  BANDS = 1
  BAND_STORAGE_TYPE = BAND_SEQUENTIAL
  MAXIMUM = 255
  MEAN = 114.598
  MINIMUM = 1
  STANDARD_DEVIATION = 28.9812
END_OBJECT = IMAGE
/* MAP OBJECT DEFINITIONS */
OBJECT = IMAGE_MAP_PROJECTION
  ^DATA_SET_MAP_PROJECTION_CATALOG= "DSMAP.CAT"
  A_AXIS_RADIUS = 3396.0
  B_AXIS_RADIUS = 3396.0
  C_AXIS_RADIUS = 3396.0
  CENTER_LATITUDE = 0.0
  CENTER_LONGITUDE = 322.0
  COORDINATE_SYSTEM_NAME = PLANETOGRAPHIC
  COORDINATE_SYSTEM_TYPE = "BODY-FIXED ROTATING"
  EASTERNMOST_LONGITUDE = 323.102
  FIRST_STANDARD_PARALLEL = "N/A"
  LINE_FIRST_PIXEL = 1
  LINE_LAST_PIXEL = 22430
  LINE_PROJECTION_OFFSET = 43859.375
  MAP_PROJECTION_ROTATION = 0.0
  MAP_PROJECTION_TYPE = SINUSOIDAL
  MAP_RESOLUTION = 1185.42760773333
  MAP_SCALE = 0.05
  MAXIMUM_LATITUDE = 36.8769
  MINIMUM_LATITUDE = 18.0723
  POSITIVE_LONGITUDE_DIRECTION = EAST
  REFERENCE_LATITUDE = "N/A"
  REFERENCE_LONGITUDE = "N/A"
  SAMPLE_FIRST_PIXEL = 1
  SAMPLE_LAST_PIXEL = 1843
  SAMPLE_PROJECTION_OFFSET = 737.375
  SECOND_STANDARD_PARALLEL = "N/A"
  WESTERNMOST_LONGITUDE = 321.266
END_OBJECT = IMAGE_MAP_PROJECTION
END
