PDS_VERSION_ID = PDS3
/* FILE DATA ELEMENTS */
RECORD_TYPE = UNDEFINED
/* POINTERS TO DATA OBJECTS */
^IMAGE = ("H5199_0000_ND4.TIF")
/* IDENTIFICATION DATA ELEMENTS */
DATA_SET_ID = "MEX-M-HRSC-4-REFDR-MAPPROJECT-EXT2-V4.0"
DATA_SET_NAME = "MARS EXPRESS HRSC MAP PROJECTED REFDR EXTENSION2 V4.0"
DETECTOR_ID = MEX_HRSC_NADIR
EVENT_TYPE = "MARS-LOCAL-STEREO-Fl-Eb-Tc"
INSTRUMENT_HOST_ID = MEX
INSTRUMENT_HOST_NAME = "MARS EXPRESS"
INSTRUMENT_ID = HRSC
INSTRUMENT_NAME = "HIGH RESOLUTION STEREO CAMERA"
MISSION_NAME = "MARS EXPRESS"
MISSION_PHASE_NAME = ME_Phase_11
PROCESSING_LEVEL_ID = 4
PRODUCT_CREATION_TIME = 2023-02-01T12:09:47.000Z
PRODUCT_ID = "H5199_0000_ND4.TIF"
RELEASE_ID = 0001
REVISION_ID = 0000
/* QUALITY DATA ELEMENTS */
DATA_QUALITY_ID = 1
DATA_QUALITY_DESC = "Data calculated based on original SPICE kernels"
/* TIME DATA ELEMENTS */
SPACECRAFT_CLOCK_START_COUNT = "1/0148803559.08428"
SPACECRAFT_CLOCK_STOP_COUNT = "1/0148803751.26236"
START_TIME = 2008-01-19T06:19:56.076Z
STOP_TIME = 2008-01-19T06:22:04.073Z
/* ORBITAL DATA ELEMENTS */
ASCENDING_NODE_LONGITUDE = 119.97
MAXIMUM_RESOLUTION = 0.0131
FOOTPRINT_POINT_LATITUDE = (23.3019,23.3012,23.3004,23.2981, 23.2948,23.2947,23.2861,23.0328,22.8638 ,22.695,22.5264,22.3576,22.1885,22.0197 ,21.7657,21.5963,21.427,21.2578,21.0871 ,20.8321,20.6625,20.4081,20.2397, 19.9852,19.8152,19.5604,19.3077,18.8965 ,18.5674,18.156,17.9912,17.7441,17.5793 ,17.4144,17.1673,17.0024,16.8376, 16.5903,16.4255,16.2606,16.0954,15.9308 ,15.6833,15.5184,15.3534,15.034,14.9543 ,14.9434,14.9441,14.9444,14.9443, 14.9441,14.9436,14.9436,14.9438,15.1832 ,15.5082,15.6732,15.8384,16.0862, 16.2511,16.4161,16.5811,16.7461,16.9937 ,17.1586,17.3234,17.488,17.8163,17.9811 ,18.146,18.3117,18.5595,18.8065,18.9713 ,19.3005,19.468,19.638,19.8082,19.9784, 20.1484,20.3184,20.4881,20.6563,20.9104 ,21.08,21.3353,21.5062,21.6755,21.845, 22.0143,22.1833,22.3521,22.5218,22.6916 ,22.861,23.0302,23.1986,23.2825, 23.3019)
FOOTPRINT_POINT_LONGITUDE = (342.752,342.437,342.235,341.857, 341.492,341.479,341.46,341.464,341.467, 341.469,341.473,341.476,341.478,341.481 ,341.485,341.487,341.489,341.491, 341.492,341.493,341.495,341.498,341.502 ,341.505,341.506,341.509,341.511, 341.514,341.517,341.52,341.521,341.522, 341.523,341.524,341.525,341.526,341.526 ,341.528,341.528,341.529,341.529,341.53 ,341.531,341.531,341.531,341.532, 341.532,341.532,341.837,342.036,342.341 ,342.517,342.704,342.716,342.722, 342.723,342.724,342.724,342.725,342.725 ,342.726,342.727,342.728,342.728, 342.729,342.73,342.731,342.732,342.736, 342.737,342.737,342.737,342.737,342.738 ,342.739,342.741,342.741,342.742, 342.743,342.743,342.744,342.745,342.746 ,342.75,342.752,342.754,342.754,342.752 ,342.754,342.755,342.756,342.758,342.76 ,342.76,342.76,342.761,342.762,342.764, 342.766,342.752)
ORBIT_NUMBER = 5199
ORBITAL_ECCENTRICITY = 0.573
ORBITAL_INCLINATION = 86.74
ORBITAL_SEMIMAJOR_AXIS = 8716.75
PERIAPSIS_ALTITUDE = 325.41
PERIAPSIS_ARGUMENT_ANGLE = 163.69
PERIAPSIS_TIME = 2008-01-19T06:21:49.000Z
SPACECRAFT_ORIENTATION = (0.0,-1.0,0.0)
^MEX_ORIENTATION_DESC = "MEX_ORIENTATION_DESC.TXT"
SPACECRAFT_POINTING_MODE = NADIR
^MEX_POINTING_DESC = "MEX_POINTING_DESC.TXT"
RIGHT_ASCENSION = -1e+32
DECLINATION = -1e+32
OFFSET_ANGLE = -1e+32
SPACECRAFT_SOLAR_DISTANCE = 2.39922e+08
TARGET_NAME = MARS
/* CAMERA DATA ELEMENTS */
DETECTOR_TEMPERATURE = 18.1666
FOCAL_PLANE_TEMPERATURE = 8.3794
INST_CMPRS_NAME = "DISCRETE COSINE TRANSFORMATION (DCT)"
INST_CMPRS_RATIO = 5.51696
INST_CMPRS_QUALITY = 0
INST_CMPRS_QUANTZ_TBL_ID = 0
INSTRUMENT_TEMPERATURE = 11.0301
LENS_TEMPERATURE = 8.5833
MACROPIXEL_SIZE = 1
MISSING_FRAMES = 0
PIXEL_SUBSAMPLING_FLAG = N
SIGNAL_CHAIN_ID = 0
/* RADIOMETRIC DATA ELEMENTS */
BANDWIDTH = 177.0
CENTER_FILTER_WAVELENGTH = 677.5
RADIANCE_OFFSET = 2.03075
RADIANCE_SCALING_FACTOR = 0.0216159
REFLECTANCE_SCALING_FACTOR = 0.00066099
MEX:REFLECTANCE_OFFSET = 0.0620983
/* IMAGE OBJECT DEFINITIONS */
OBJECT = IMAGE
  INTERCHANGE_FORMAT = BINARY
  LINES = 39602
  LINE_SAMPLES = 5685
  SAMPLE_TYPE = UNSIGNED_INTEGER
  SAMPLE_BITS = 8
  BANDS = 1
  BAND_STORAGE_TYPE = BAND_SEQUENTIAL
  MAXIMUM = 255
  MEAN = 110.574
  MINIMUM = 1
  STANDARD_DEVIATION = 38.17
END_OBJECT = IMAGE
/* MAP OBJECT DEFINITIONS */
OBJECT = IMAGE_MAP_PROJECTION
  ^DATA_SET_MAP_PROJECTION_CATALOG= "DSMAP.CAT"
  A_AXIS_RADIUS = 3396.0
  B_AXIS_RADIUS = 3396.0
  C_AXIS_RADIUS = 3396.0
  CENTER_LATITUDE = 0.0
  CENTER_LONGITUDE = 342.0
  COORDINATE_SYSTEM_NAME = PLANETOGRAPHIC
  COORDINATE_SYSTEM_TYPE = "BODY-FIXED ROTATING"
  EASTERNMOST_LONGITUDE = 342.766
  FIRST_STANDARD_PARALLEL = "N/A"
  LINE_FIRST_PIXEL = 1
  LINE_LAST_PIXEL = 39602
  LINE_PROJECTION_OFFSET = 110459.0
  MAP_PROJECTION_ROTATION = 0.0
  MAP_PROJECTION_TYPE = SINUSOIDAL
  MAP_RESOLUTION = 4741.71043093333
  MAP_SCALE = 0.0125
  MAXIMUM_LATITUDE = 23.3019
  MINIMUM_LATITUDE = 14.9434
  POSITIVE_LONGITUDE_DIRECTION = EAST
  REFERENCE_LATITUDE = "N/A"
  REFERENCE_LONGITUDE = "N/A"
  SAMPLE_FIRST_PIXEL = 1
  SAMPLE_LAST_PIXEL = 5685
  SAMPLE_PROJECTION_OFFSET = 2349.0
  SECOND_STANDARD_PARALLEL = "N/A"
  WESTERNMOST_LONGITUDE = 341.46
END_OBJECT = IMAGE_MAP_PROJECTION
END
