PDS_VERSION_ID = PDS3
/* FILE DATA ELEMENTS */
RECORD_TYPE = UNDEFINED
/* POINTERS TO DATA OBJECTS */
^IMAGE = ("H5204_0000_BL4.TIF")
/* IDENTIFICATION DATA ELEMENTS */
DATA_SET_ID = "MEX-M-HRSC-4-REFDR-MAPPROJECT-EXT2-V4.0"
DATA_SET_NAME = "MARS EXPRESS HRSC MAP PROJECTED REFDR EXTENSION2 V4.0"
DETECTOR_ID = MEX_HRSC_BLUE
EVENT_TYPE = "MARS-REGIONAL-MAPPING-Vo-Eo-La"
INSTRUMENT_HOST_ID = MEX
INSTRUMENT_HOST_NAME = "MARS EXPRESS"
INSTRUMENT_ID = HRSC
INSTRUMENT_NAME = "HIGH RESOLUTION STEREO CAMERA"
MISSION_NAME = "MARS EXPRESS"
MISSION_PHASE_NAME = ME_Phase_11
PROCESSING_LEVEL_ID = 4
PRODUCT_CREATION_TIME = 2023-02-01T12:09:47.000Z
PRODUCT_ID = "H5204_0000_BL4.TIF"
RELEASE_ID = 0001
REVISION_ID = 0000
/* QUALITY DATA ELEMENTS */
DATA_QUALITY_ID = 1
DATA_QUALITY_DESC = "Data calculated based on original SPICE kernels"
/* TIME DATA ELEMENTS */
SPACECRAFT_CLOCK_START_COUNT = "1/0148926817.07301"
SPACECRAFT_CLOCK_STOP_COUNT = "1/0148927022.56654"
START_TIME = 2008-01-20T16:34:15.878Z
STOP_TIME = 2008-01-20T16:36:40.054Z
/* ORBITAL DATA ELEMENTS */
ASCENDING_NODE_LONGITUDE = 119.86
MAXIMUM_RESOLUTION = 0.1055
FOOTPRINT_POINT_LATITUDE = (17.1743,17.1745,17.1745,17.174,17.1727 ,17.1727,17.1701,16.9792,16.6928, 16.5019,16.311,16.1261,15.9416,15.757, 15.5725,15.388,15.2036,15.0191,14.8346, 14.6502,14.4658,14.2814,14.097,13.9126, 13.7283,13.544,13.3597,13.1755,12.9912, 12.807,12.6229,12.4388,12.2547,12.0706, 11.8866,11.7026,11.5187,11.151,10.7834, 10.416,10.0489,9.68196,9.31524,8.94874, 8.58249,8.29866,8.10943,7.92026,7.82571 ,7.77098,7.7701,7.7689,7.76795,7.76688, 7.76682,7.76843,7.95762,8.14689,8.33625 ,8.61889,8.98534,9.35205,9.71901, 10.0862,10.4536,10.8212,11.005,11.189, 11.3729,11.557,11.741,11.9251,12.1092, 12.2934,12.4776,12.6619,12.8462,13.0305 ,13.2148,13.3992,13.5836,13.8603, 14.0447,14.2293,14.4137,14.5983,14.7828 ,14.9674,15.152,15.3366,15.5212,15.7059 ,15.9828,16.1675,16.3539,16.5449,16.736 ,17.0226,17.1181,17.1743)
FOOTPRINT_POINT_LONGITUDE = (202.428,202.219,202.0,201.638,201.276, 201.265,201.249,201.25,201.251,201.251, 201.252,201.252,201.253,201.253,201.253 ,201.254,201.254,201.254,201.254, 201.254,201.254,201.254,201.254,201.254 ,201.253,201.253,201.253,201.253, 201.252,201.252,201.251,201.251,201.25, 201.249,201.249,201.248,201.247,201.246 ,201.244,201.242,201.24,201.238,201.235 ,201.233,201.23,201.227,201.226,201.224 ,201.223,201.223,201.616,201.965, 202.191,202.406,202.417,202.424,202.424 ,202.424,202.424,202.424,202.425, 202.425,202.425,202.425,202.426,202.426 ,202.426,202.426,202.427,202.427, 202.427,202.427,202.427,202.428,202.428 ,202.428,202.429,202.429,202.429,202.43 ,202.43,202.43,202.431,202.431,202.432, 202.432,202.433,202.433,202.434,202.434 ,202.435,202.435,202.436,202.436, 202.437,202.438,202.438,202.439,202.439 ,202.428)
ORBIT_NUMBER = 5204
ORBITAL_ECCENTRICITY = 0.573
ORBITAL_INCLINATION = 86.73
ORBITAL_SEMIMAJOR_AXIS = 8718.47
PERIAPSIS_ALTITUDE = 325.78
PERIAPSIS_ARGUMENT_ANGLE = 162.82
PERIAPSIS_TIME = 2008-01-20T16:34:17.000Z
SPACECRAFT_ORIENTATION = (0.0,-1.0,0.0)
^MEX_ORIENTATION_DESC = "MEX_ORIENTATION_DESC.TXT"
SPACECRAFT_POINTING_MODE = NADIR
^MEX_POINTING_DESC = "MEX_POINTING_DESC.TXT"
RIGHT_ASCENSION = -1e+32
DECLINATION = -1e+32
OFFSET_ANGLE = -1e+32
SPACECRAFT_SOLAR_DISTANCE = 2.40138e+08
TARGET_NAME = MARS
/* CAMERA DATA ELEMENTS */
DETECTOR_TEMPERATURE = 17.351
FOCAL_PLANE_TEMPERATURE = 8.7872
INST_CMPRS_NAME = "DISCRETE COSINE TRANSFORMATION (DCT)"
INST_CMPRS_RATIO = 13.4161
INST_CMPRS_QUALITY = 0
INST_CMPRS_QUANTZ_TBL_ID = 0
INSTRUMENT_TEMPERATURE = 11.4379
LENS_TEMPERATURE = 8.9911
MACROPIXEL_SIZE = 8
MISSING_FRAMES = 0
PIXEL_SUBSAMPLING_FLAG = N
SIGNAL_CHAIN_ID = 2
/* RADIOMETRIC DATA ELEMENTS */
BANDWIDTH = 76.0
CENTER_FILTER_WAVELENGTH = 444.0
RADIANCE_OFFSET = 0.433414
RADIANCE_SCALING_FACTOR = 0.00169966
REFLECTANCE_SCALING_FACTOR = 0.000100703
MEX:REFLECTANCE_OFFSET = 0.0256792
/* IMAGE OBJECT DEFINITIONS */
OBJECT = IMAGE
  INTERCHANGE_FORMAT = BINARY
  LINES = 5579
  LINE_SAMPLES = 719
  SAMPLE_TYPE = UNSIGNED_INTEGER
  SAMPLE_BITS = 8
  BANDS = 1
  BAND_STORAGE_TYPE = BAND_SEQUENTIAL
  MAXIMUM = 255
  MEAN = 156.335
  MINIMUM = 1
  STANDARD_DEVIATION = 15.1639
END_OBJECT = IMAGE
/* MAP OBJECT DEFINITIONS */
OBJECT = IMAGE_MAP_PROJECTION
  ^DATA_SET_MAP_PROJECTION_CATALOG= "DSMAP.CAT"
  A_AXIS_RADIUS = 3396.0
  B_AXIS_RADIUS = 3396.0
  C_AXIS_RADIUS = 3396.0
  CENTER_LATITUDE = 0.0
  CENTER_LONGITUDE = 202.0
  COORDINATE_SYSTEM_NAME = PLANETOGRAPHIC
  COORDINATE_SYSTEM_TYPE = "BODY-FIXED ROTATING"
  EASTERNMOST_LONGITUDE = 202.439
  FIRST_STANDARD_PARALLEL = "N/A"
  LINE_FIRST_PIXEL = 1
  LINE_LAST_PIXEL = 5579
  LINE_PROJECTION_OFFSET = 10184.6875
  MAP_PROJECTION_ROTATION = 0.0
  MAP_PROJECTION_TYPE = SINUSOIDAL
  MAP_RESOLUTION = 592.713803866667
  MAP_SCALE = 0.1
  MAXIMUM_LATITUDE = 17.1745
  MINIMUM_LATITUDE = 7.76682
  POSITIVE_LONGITUDE_DIRECTION = EAST
  REFERENCE_LATITUDE = "N/A"
  REFERENCE_LONGITUDE = "N/A"
  SAMPLE_FIRST_PIXEL = 1
  SAMPLE_LAST_PIXEL = 719
  SAMPLE_PROJECTION_OFFSET = 466.5625
  SECOND_STANDARD_PARALLEL = "N/A"
  WESTERNMOST_LONGITUDE = 201.223
END_OBJECT = IMAGE_MAP_PROJECTION
END
