PDS_VERSION_ID = PDS3
/* FILE DATA ELEMENTS */
RECORD_TYPE = UNDEFINED
/* POINTERS TO DATA OBJECTS */
^IMAGE = ("H5204_0000_RE4.TIF")
/* IDENTIFICATION DATA ELEMENTS */
DATA_SET_ID = "MEX-M-HRSC-4-REFDR-MAPPROJECT-EXT2-V4.0"
DATA_SET_NAME = "MARS EXPRESS HRSC MAP PROJECTED REFDR EXTENSION2 V4.0"
DETECTOR_ID = MEX_HRSC_RED
EVENT_TYPE = "MARS-REGIONAL-MAPPING-Vo-Eo-La"
INSTRUMENT_HOST_ID = MEX
INSTRUMENT_HOST_NAME = "MARS EXPRESS"
INSTRUMENT_ID = HRSC
INSTRUMENT_NAME = "HIGH RESOLUTION STEREO CAMERA"
MISSION_NAME = "MARS EXPRESS"
MISSION_PHASE_NAME = ME_Phase_11
PROCESSING_LEVEL_ID = 4
PRODUCT_CREATION_TIME = 2023-02-01T12:09:47.000Z
PRODUCT_ID = "H5204_0000_RE4.TIF"
RELEASE_ID = 0001
REVISION_ID = 0000
/* QUALITY DATA ELEMENTS */
DATA_QUALITY_ID = 1
DATA_QUALITY_DESC = "Data calculated based on original SPICE kernels"
/* TIME DATA ELEMENTS */
SPACECRAFT_CLOCK_START_COUNT = "1/0148926817.07301"
SPACECRAFT_CLOCK_STOP_COUNT = "1/0148927022.56654"
START_TIME = 2008-01-20T16:34:35.329Z
STOP_TIME = 2008-01-20T16:36:59.512Z
/* ORBITAL DATA ELEMENTS */
ASCENDING_NODE_LONGITUDE = 119.86
MAXIMUM_RESOLUTION = 0.1085
FOOTPRINT_POINT_LATITUDE = (17.1215,17.121,17.1206,17.1202,17.1195 ,17.1195,17.1409,16.8645,16.6803, 16.4962,16.3121,16.0361,15.8522,15.6684 ,15.4846,15.301,15.1173,14.9338,14.7504 ,14.567,14.3837,14.2006,13.9259,13.7429 ,13.56,13.3772,13.1946,13.0119,12.8293, 12.6469,12.4646,12.2824,11.9183,11.6454 ,11.282,10.9184,10.6461,10.2832,9.92118 ,9.64225,9.45516,9.26853,9.08204, 8.89573,8.70964,8.52333,8.33712,8.15125 ,7.9657,7.87289,7.83219,7.83067,7.82983 ,7.82872,7.82891,7.82889,7.8305,8.10949 ,8.29572,8.48151,8.6677,8.85429,9.0412, 9.22807,9.41505,9.69537,9.97262,10.3349 ,10.6975,11.1516,11.4242,11.788,11.97, 12.1521,12.3344,12.5168,12.6992,12.8817 ,13.0644,13.3385,13.5213,13.7043, 13.8871,14.0709,14.3454,14.5288,14.7124 ,14.9877,15.1714,15.3551,15.5389, 15.7228,15.9068,16.0908,16.2749,16.4591 ,16.7355,17.012,17.1042,17.1215)
FOOTPRINT_POINT_LONGITUDE = (202.417,202.037,201.787,201.581, 201.277,201.266,201.25,201.25,201.251, 201.251,201.251,201.252,201.252,201.252 ,201.252,201.252,201.252,201.252, 201.252,201.252,201.252,201.252,201.251 ,201.251,201.251,201.25,201.249,201.249 ,201.248,201.248,201.247,201.246, 201.245,201.243,201.241,201.239,201.238 ,201.236,201.233,201.231,201.23,201.228 ,201.227,201.225,201.223,201.222,201.22 ,201.218,201.217,201.216,201.215, 201.565,201.769,202.166,202.404,202.416 ,202.423,202.423,202.423,202.423, 202.422,202.422,202.422,202.422,202.422 ,202.422,202.422,202.422,202.422, 202.422,202.422,202.422,202.422,202.422 ,202.422,202.422,202.422,202.422, 202.422,202.423,202.423,202.423,202.423 ,202.424,202.424,202.424,202.424, 202.425,202.425,202.425,202.426,202.426 ,202.426,202.427,202.427,202.428, 202.428,202.429,202.429,202.417)
ORBIT_NUMBER = 5204
ORBITAL_ECCENTRICITY = 0.573
ORBITAL_INCLINATION = 86.73
ORBITAL_SEMIMAJOR_AXIS = 8718.47
PERIAPSIS_ALTITUDE = 325.78
PERIAPSIS_ARGUMENT_ANGLE = 162.82
PERIAPSIS_TIME = 2008-01-20T16:34:17.000Z
SPACECRAFT_ORIENTATION = (0.0,-1.0,0.0)
^MEX_ORIENTATION_DESC = "MEX_ORIENTATION_DESC.TXT"
SPACECRAFT_POINTING_MODE = NADIR
^MEX_POINTING_DESC = "MEX_POINTING_DESC.TXT"
RIGHT_ASCENSION = -1e+32
DECLINATION = -1e+32
OFFSET_ANGLE = -1e+32
SPACECRAFT_SOLAR_DISTANCE = 2.40138e+08
TARGET_NAME = MARS
/* CAMERA DATA ELEMENTS */
DETECTOR_TEMPERATURE = 18.5744
FOCAL_PLANE_TEMPERATURE = 8.7872
INST_CMPRS_NAME = "DISCRETE COSINE TRANSFORMATION (DCT)"
INST_CMPRS_RATIO = 9.20749
INST_CMPRS_QUALITY = 0
INST_CMPRS_QUANTZ_TBL_ID = 0
INSTRUMENT_TEMPERATURE = 11.4379
LENS_TEMPERATURE = 8.9911
MACROPIXEL_SIZE = 8
MISSING_FRAMES = 0
PIXEL_SUBSAMPLING_FLAG = N
SIGNAL_CHAIN_ID = 2
/* RADIOMETRIC DATA ELEMENTS */
BANDWIDTH = 48.0
CENTER_FILTER_WAVELENGTH = 748.0
RADIANCE_OFFSET = 1.00434
RADIANCE_SCALING_FACTOR = 0.00543528
REFLECTANCE_SCALING_FACTOR = 0.000715273
MEX:REFLECTANCE_OFFSET = 0.13217
/* IMAGE OBJECT DEFINITIONS */
OBJECT = IMAGE
  INTERCHANGE_FORMAT = BINARY
  LINES = 5579
  LINE_SAMPLES = 719
  SAMPLE_TYPE = UNSIGNED_INTEGER
  SAMPLE_BITS = 8
  BANDS = 1
  BAND_STORAGE_TYPE = BAND_SEQUENTIAL
  MAXIMUM = 255
  MEAN = 147.169
  MINIMUM = 1
  STANDARD_DEVIATION = 15.2597
END_OBJECT = IMAGE
/* MAP OBJECT DEFINITIONS */
OBJECT = IMAGE_MAP_PROJECTION
  ^DATA_SET_MAP_PROJECTION_CATALOG= "DSMAP.CAT"
  A_AXIS_RADIUS = 3396.0
  B_AXIS_RADIUS = 3396.0
  C_AXIS_RADIUS = 3396.0
  CENTER_LATITUDE = 0.0
  CENTER_LONGITUDE = 202.0
  COORDINATE_SYSTEM_NAME = PLANETOGRAPHIC
  COORDINATE_SYSTEM_TYPE = "BODY-FIXED ROTATING"
  EASTERNMOST_LONGITUDE = 202.429
  FIRST_STANDARD_PARALLEL = "N/A"
  LINE_FIRST_PIXEL = 1
  LINE_LAST_PIXEL = 5579
  LINE_PROJECTION_OFFSET = 10184.6875
  MAP_PROJECTION_ROTATION = 0.0
  MAP_PROJECTION_TYPE = SINUSOIDAL
  MAP_RESOLUTION = 592.713803866667
  MAP_SCALE = 0.1
  MAXIMUM_LATITUDE = 17.1409
  MINIMUM_LATITUDE = 7.82872
  POSITIVE_LONGITUDE_DIRECTION = EAST
  REFERENCE_LATITUDE = "N/A"
  REFERENCE_LONGITUDE = "N/A"
  SAMPLE_FIRST_PIXEL = 1
  SAMPLE_LAST_PIXEL = 719
  SAMPLE_PROJECTION_OFFSET = 466.5625
  SECOND_STANDARD_PARALLEL = "N/A"
  WESTERNMOST_LONGITUDE = 201.215
END_OBJECT = IMAGE_MAP_PROJECTION
END
