PDS_VERSION_ID = PDS3
/* FILE DATA ELEMENTS */
RECORD_TYPE = UNDEFINED
/* POINTERS TO DATA OBJECTS */
^IMAGE = ("H5206_0000_IR4.TIF")
/* IDENTIFICATION DATA ELEMENTS */
DATA_SET_ID = "MEX-M-HRSC-4-REFDR-MAPPROJECT-EXT2-V4.0"
DATA_SET_NAME = "MARS EXPRESS HRSC MAP PROJECTED REFDR EXTENSION2 V4.0"
DETECTOR_ID = MEX_HRSC_IR
EVENT_TYPE = "MARS-REGIONAL-MAPPING-Im"
INSTRUMENT_HOST_ID = MEX
INSTRUMENT_HOST_NAME = "MARS EXPRESS"
INSTRUMENT_ID = HRSC
INSTRUMENT_NAME = "HIGH RESOLUTION STEREO CAMERA"
MISSION_NAME = "MARS EXPRESS"
MISSION_PHASE_NAME = ME_Phase_11
PROCESSING_LEVEL_ID = 4
PRODUCT_CREATION_TIME = 2023-02-01T12:09:47.000Z
PRODUCT_ID = "H5206_0000_IR4.TIF"
RELEASE_ID = 0001
REVISION_ID = 0000
/* QUALITY DATA ELEMENTS */
DATA_QUALITY_ID = 1
DATA_QUALITY_DESC = "Data calculated based on original SPICE kernels"
/* TIME DATA ELEMENTS */
SPACECRAFT_CLOCK_START_COUNT = "1/0148976246.09070"
SPACECRAFT_CLOCK_STOP_COUNT = "1/0148976437.31781"
START_TIME = 2008-01-21T06:17:34.961Z
STOP_TIME = 2008-01-21T06:19:37.357Z
/* ORBITAL DATA ELEMENTS */
ASCENDING_NODE_LONGITUDE = 119.83
MAXIMUM_RESOLUTION = 0.1146
FOOTPRINT_POINT_LATITUDE = (7.06993,7.07061,7.0711,7.07141,7.0714, 7.07114,7.07056,7.07052,7.05828,6.82552 ,6.51534,6.35983,6.20421,6.04883, 5.73914,5.58348,5.27282,4.88513,4.72932 ,4.49658,4.18616,3.87401,3.71635, 3.40821,3.24794,3.00772,2.76765,2.52531 ,2.28549,2.12509,1.96513,1.80499, 1.56491,1.40503,1.24466,1.00504, 0.845044,0.68511,0.445483,0.28548, 0.126182,-0.0336147,-0.193579,-0.433233 ,-0.593232,-0.752745,-0.912696, -0.992546,-0.996014,-0.996527,-0.996969 ,-0.997506,-0.998614,-1.00094,-1.00103, -0.999371,-0.839547,-0.680064,-0.520561 ,-0.280865,-0.120796,0.118819,0.27855, 0.438534,0.598363,0.838198,0.998213, 1.15917,1.31974,1.47972,1.63981,1.8002, 1.96079,2.12072,2.36056,2.52068,2.68097 ,2.84157,3.00155,3.16205,3.32253, 3.48309,3.71575,4.0257,4.25867,4.41408, 4.56983,4.72546,5.03569,5.26603,5.42379 ,5.65827,5.96887,6.27894,6.43492, 6.59019,6.74574,6.97901,7.05678, 7.06993)
FOOTPRINT_POINT_LONGITUDE = (2.18731,2.00879,1.8302,1.65133,1.3941, 1.21497,1.01299,1.00176,0.991798, 0.989661,0.986768,0.985104,0.983362, 0.981686,0.978683,0.976793,0.973194, 0.968773,0.966642,0.963784,0.959817, 0.954998,0.95189,0.949445,0.947206, 0.943845,0.940458,0.936052,0.932593, 0.93002,0.92759,0.925042,0.921201, 0.918661,0.915878,0.912007,0.909271, 0.906518,0.902422,0.899534,0.896892, 0.894002,0.890999,0.886533,0.883406, 0.880433,0.877237,0.875672,0.875605, 1.12487,1.30048,1.60121,1.83913,2.1893, 2.20181,2.21014,2.20932,2.20864,2.20797 ,2.20689,2.20612,2.20517,2.20458, 2.20393,2.20336,2.20252,2.20195,2.20111 ,2.20041,2.19993,2.19944,2.19888, 2.19827,2.1979,2.19741,2.19704,2.19663, 2.19615,2.19588,2.19547,2.19509,2.19465 ,2.19426,2.19387,2.19347,2.19319, 2.19282,2.1925,2.19224,2.19284,2.1919, 2.19122,2.19102,2.19104,2.19077,2.19073 ,2.19062,2.19049,2.19045,2.18731)
ORBIT_NUMBER = 5206
ORBITAL_ECCENTRICITY = 0.573
ORBITAL_INCLINATION = 86.72
ORBITAL_SEMIMAJOR_AXIS = 8719.97
PERIAPSIS_ALTITUDE = 326.28
PERIAPSIS_ARGUMENT_ANGLE = 162.46
PERIAPSIS_TIME = 2008-01-21T06:15:20.000Z
SPACECRAFT_ORIENTATION = (0.0,-1.0,0.0)
^MEX_ORIENTATION_DESC = "MEX_ORIENTATION_DESC.TXT"
SPACECRAFT_POINTING_MODE = ACROSSTRACK
^MEX_POINTING_DESC = "MEX_POINTING_DESC.TXT"
RIGHT_ASCENSION = -1e+32
DECLINATION = -1e+32
OFFSET_ANGLE = -0.07
SPACECRAFT_SOLAR_DISTANCE = 2.40224e+08
TARGET_NAME = MARS
/* CAMERA DATA ELEMENTS */
DETECTOR_TEMPERATURE = 16.7393
FOCAL_PLANE_TEMPERATURE = 8.3794
INST_CMPRS_NAME = "DISCRETE COSINE TRANSFORMATION (DCT)"
INST_CMPRS_RATIO = 11.342
INST_CMPRS_QUALITY = 0
INST_CMPRS_QUANTZ_TBL_ID = 0
INSTRUMENT_TEMPERATURE = 11.0301
LENS_TEMPERATURE = 8.7872
MACROPIXEL_SIZE = 8
MISSING_FRAMES = 0
PIXEL_SUBSAMPLING_FLAG = N
SIGNAL_CHAIN_ID = 2
/* RADIOMETRIC DATA ELEMENTS */
BANDWIDTH = 81.0
CENTER_FILTER_WAVELENGTH = 955.5
RADIANCE_OFFSET = 0.618645
RADIANCE_SCALING_FACTOR = 0.00445602
REFLECTANCE_SCALING_FACTOR = 0.000554767
MEX:REFLECTANCE_OFFSET = 0.0770202
/* IMAGE OBJECT DEFINITIONS */
OBJECT = IMAGE
  INTERCHANGE_FORMAT = BINARY
  LINES = 4736
  LINE_SAMPLES = 823
  SAMPLE_TYPE = UNSIGNED_INTEGER
  SAMPLE_BITS = 8
  BANDS = 1
  BAND_STORAGE_TYPE = BAND_SEQUENTIAL
  MAXIMUM = 255
  MEAN = 103.222
  MINIMUM = 1
  STANDARD_DEVIATION = 45.4961
END_OBJECT = IMAGE
/* MAP OBJECT DEFINITIONS */
OBJECT = IMAGE_MAP_PROJECTION
  ^DATA_SET_MAP_PROJECTION_CATALOG= "DSMAP.CAT"
  A_AXIS_RADIUS = 3396.0
  B_AXIS_RADIUS = 3396.0
  C_AXIS_RADIUS = 3396.0
  CENTER_LATITUDE = 0.0
  CENTER_LONGITUDE = 2.0
  COORDINATE_SYSTEM_NAME = PLANETOGRAPHIC
  COORDINATE_SYSTEM_TYPE = "BODY-FIXED ROTATING"
  EASTERNMOST_LONGITUDE = 2.21014
  FIRST_STANDARD_PARALLEL = "N/A"
  LINE_FIRST_PIXEL = 1
  LINE_LAST_PIXEL = 4736
  LINE_PROJECTION_OFFSET = 4233.0625
  MAP_PROJECTION_ROTATION = 0.0
  MAP_PROJECTION_TYPE = SINUSOIDAL
  MAP_RESOLUTION = 592.713803866667
  MAP_SCALE = 0.1
  MAXIMUM_LATITUDE = 7.07141
  MINIMUM_LATITUDE = -1.00103
  POSITIVE_LONGITUDE_DIRECTION = EAST
  REFERENCE_LATITUDE = "N/A"
  REFERENCE_LONGITUDE = "N/A"
  SAMPLE_FIRST_PIXEL = 1
  SAMPLE_LAST_PIXEL = 823
  SAMPLE_PROJECTION_OFFSET = 685.6875
  SECOND_STANDARD_PARALLEL = "N/A"
  WESTERNMOST_LONGITUDE = 0.875605
END_OBJECT = IMAGE_MAP_PROJECTION
END
