PDS_VERSION_ID = PDS3
/* FILE DATA ELEMENTS */
RECORD_TYPE = UNDEFINED
/* POINTERS TO DATA OBJECTS */
^IMAGE = ("H5211_0000_IR4.TIF")
/* IDENTIFICATION DATA ELEMENTS */
DATA_SET_ID = "MEX-M-HRSC-4-REFDR-MAPPROJECT-EXT2-V4.0"
DATA_SET_NAME = "MARS EXPRESS HRSC MAP PROJECTED REFDR EXTENSION2 V4.0"
DETECTOR_ID = MEX_HRSC_IR
EVENT_TYPE = "MARS-LOCAL-COLOR-Vo-Gl"
INSTRUMENT_HOST_ID = MEX
INSTRUMENT_HOST_NAME = "MARS EXPRESS"
INSTRUMENT_ID = HRSC
INSTRUMENT_NAME = "HIGH RESOLUTION STEREO CAMERA"
MISSION_NAME = "MARS EXPRESS"
MISSION_PHASE_NAME = ME_Phase_11
PROCESSING_LEVEL_ID = 4
PRODUCT_CREATION_TIME = 2023-02-01T12:09:47.000Z
PRODUCT_ID = "H5211_0000_IR4.TIF"
RELEASE_ID = 0001
REVISION_ID = 0000
/* QUALITY DATA ELEMENTS */
DATA_QUALITY_ID = 1
DATA_QUALITY_DESC = "Data calculated based on original SPICE kernels"
/* TIME DATA ELEMENTS */
SPACECRAFT_CLOCK_START_COUNT = "1/0149099150.09100"
SPACECRAFT_CLOCK_STOP_COUNT = "1/0149099312.32741"
START_TIME = 2008-01-22T16:25:59.364Z
STOP_TIME = 2008-01-22T16:27:40.470Z
/* ORBITAL DATA ELEMENTS */
ASCENDING_NODE_LONGITUDE = 119.72
MAXIMUM_RESOLUTION = 0.0267
FOOTPRINT_POINT_LATITUDE = (23.5995,23.6151,23.6258,23.6359, 23.6454,23.6544,23.6628,23.6633,23.638, 23.5048,23.372,23.1728,23.0388,22.8389, 22.7066,22.5733,22.4406,22.3113,22.1821 ,22.0525,21.9229,21.7931,21.664,21.5341 ,21.4052,21.2159,20.961,20.7739,20.5206 ,20.3925,20.1997,20.0704,19.8178, 19.6885,19.5587,19.3632,19.2334,19.096, 18.8898,18.6345,18.5055,18.3748,18.2447 ,18.1139,17.9826,17.8525,17.6586, 17.5283,17.3969,17.1999,17.1341,17.1333 ,17.1243,17.1121,17.1,17.0925,17.0855, 17.0848,17.0849,17.2823,17.414,17.6116, 17.7429,17.9398,18.072,18.2029,18.334, 18.4643,18.5951,18.7252,18.9202,19.0505 ,19.2456,19.376,19.5061,19.7004,19.8305 ,20.0251,20.1553,20.285,20.4144,20.6697 ,20.864,20.9939,21.1236,21.3176,21.5119 ,21.7061,21.9005,22.0301,22.1588, 22.3494,22.594,22.7334,22.9879,23.1785, 23.3091,23.5062,23.5729,23.5995)
FOOTPRINT_POINT_LONGITUDE = (223.102,222.811,222.603,222.398, 222.195,221.995,221.797,221.784,221.787 ,221.788,221.788,221.79,221.791,221.792 ,221.792,221.793,221.794,221.794, 221.795,221.796,221.796,221.797,221.798 ,221.798,221.798,221.798,221.798, 221.796,221.795,221.795,221.795,221.795 ,221.793,221.793,221.793,221.793, 221.793,221.795,221.798,221.796,221.796 ,221.796,221.795,221.795,221.795, 221.795,221.794,221.794,221.793,221.793 ,221.793,221.793,222.041,222.349, 222.639,222.803,222.968,222.98,222.985, 222.986,222.987,222.988,222.99,222.991, 222.992,222.993,222.994,222.996,222.998 ,223.0,223.003,223.005,223.009,223.01, 223.012,223.016,223.018,223.021,223.023 ,223.025,223.028,223.036,223.04,223.041 ,223.043,223.047,223.05,223.053,223.056 ,223.057,223.06,223.066,223.091,223.087 ,223.104,223.116,223.121,223.127, 223.128,223.102)
ORBIT_NUMBER = 5211
ORBITAL_ECCENTRICITY = 0.574
ORBITAL_INCLINATION = 86.74
ORBITAL_SEMIMAJOR_AXIS = 8727.07
PERIAPSIS_ALTITUDE = 326.21
PERIAPSIS_ARGUMENT_ANGLE = 161.59
PERIAPSIS_TIME = 2008-01-22T16:27:44.000Z
SPACECRAFT_ORIENTATION = (0.0,-1.0,0.0)
^MEX_ORIENTATION_DESC = "MEX_ORIENTATION_DESC.TXT"
SPACECRAFT_POINTING_MODE = ACROSSTRACK
^MEX_POINTING_DESC = "MEX_POINTING_DESC.TXT"
RIGHT_ASCENSION = -1e+32
DECLINATION = -1e+32
OFFSET_ANGLE = 0.94
SPACECRAFT_SOLAR_DISTANCE = 2.40438e+08
TARGET_NAME = MARS
/* CAMERA DATA ELEMENTS */
DETECTOR_TEMPERATURE = 17.7588
FOCAL_PLANE_TEMPERATURE = 8.5833
INST_CMPRS_NAME = "DISCRETE COSINE TRANSFORMATION (DCT)"
INST_CMPRS_RATIO = 5.36351
INST_CMPRS_QUALITY = 0
INST_CMPRS_QUANTZ_TBL_ID = 0
INSTRUMENT_TEMPERATURE = 11.234
LENS_TEMPERATURE = 8.9911
MACROPIXEL_SIZE = 2
MISSING_FRAMES = 0
PIXEL_SUBSAMPLING_FLAG = N
SIGNAL_CHAIN_ID = 3
/* RADIOMETRIC DATA ELEMENTS */
BANDWIDTH = 81.0
CENTER_FILTER_WAVELENGTH = 955.5
RADIANCE_OFFSET = 0.794597
RADIANCE_SCALING_FACTOR = 0.00817967
REFLECTANCE_SCALING_FACTOR = 0.00102016
MEX:REFLECTANCE_OFFSET = 0.0991018
/* IMAGE OBJECT DEFINITIONS */
OBJECT = IMAGE
  INTERCHANGE_FORMAT = BINARY
  LINES = 15517
  LINE_SAMPLES = 2893
  SAMPLE_TYPE = UNSIGNED_INTEGER
  SAMPLE_BITS = 8
  BANDS = 1
  BAND_STORAGE_TYPE = BAND_SEQUENTIAL
  MAXIMUM = 255
  MEAN = 132.806
  MINIMUM = 1
  STANDARD_DEVIATION = 23.0046
END_OBJECT = IMAGE
/* MAP OBJECT DEFINITIONS */
OBJECT = IMAGE_MAP_PROJECTION
  ^DATA_SET_MAP_PROJECTION_CATALOG= "DSMAP.CAT"
  A_AXIS_RADIUS = 3396.0
  B_AXIS_RADIUS = 3396.0
  C_AXIS_RADIUS = 3396.0
  CENTER_LATITUDE = 0.0
  CENTER_LONGITUDE = 222.0
  COORDINATE_SYSTEM_NAME = PLANETOGRAPHIC
  COORDINATE_SYSTEM_TYPE = "BODY-FIXED ROTATING"
  EASTERNMOST_LONGITUDE = 223.128
  FIRST_STANDARD_PARALLEL = "N/A"
  LINE_FIRST_PIXEL = 1
  LINE_LAST_PIXEL = 15517
  LINE_PROJECTION_OFFSET = 56001.25
  MAP_PROJECTION_ROTATION = 0.0
  MAP_PROJECTION_TYPE = SINUSOIDAL
  MAP_RESOLUTION = 2370.85521546667
  MAP_SCALE = 0.025
  MAXIMUM_LATITUDE = 23.6633
  MINIMUM_LATITUDE = 17.0848
  POSITIVE_LONGITUDE_DIRECTION = EAST
  REFERENCE_LATITUDE = "N/A"
  REFERENCE_LONGITUDE = "N/A"
  SAMPLE_FIRST_PIXEL = 1
  SAMPLE_LAST_PIXEL = 2893
  SAMPLE_PROJECTION_OFFSET = 477.75
  SECOND_STANDARD_PARALLEL = "N/A"
  WESTERNMOST_LONGITUDE = 221.784
END_OBJECT = IMAGE_MAP_PROJECTION
END
