PDS_VERSION_ID = PDS3
/* FILE DATA ELEMENTS */
RECORD_TYPE = UNDEFINED
/* POINTERS TO DATA OBJECTS */
^IMAGE = ("H5211_0001_RE4.TIF")
/* IDENTIFICATION DATA ELEMENTS */
DATA_SET_ID = "MEX-M-HRSC-4-REFDR-MAPPROJECT-EXT2-V4.0"
DATA_SET_NAME = "MARS EXPRESS HRSC MAP PROJECTED REFDR EXTENSION2 V4.0"
DETECTOR_ID = MEX_HRSC_RED
EVENT_TYPE = "MARS-REGIONAL-MAPPING-Vo-Eo"
INSTRUMENT_HOST_ID = MEX
INSTRUMENT_HOST_NAME = "MARS EXPRESS"
INSTRUMENT_ID = HRSC
INSTRUMENT_NAME = "HIGH RESOLUTION STEREO CAMERA"
MISSION_NAME = "MARS EXPRESS"
MISSION_PHASE_NAME = ME_Phase_11
PROCESSING_LEVEL_ID = 4
PRODUCT_CREATION_TIME = 2023-02-01T12:09:47.000Z
PRODUCT_ID = "H5211_0001_RE4.TIF"
RELEASE_ID = 0001
REVISION_ID = 0000
/* QUALITY DATA ELEMENTS */
DATA_QUALITY_ID = 1
DATA_QUALITY_DESC = "Data calculated based on original SPICE kernels"
/* TIME DATA ELEMENTS */
SPACECRAFT_CLOCK_START_COUNT = "1/0149099493.07318"
SPACECRAFT_CLOCK_STOP_COUNT = "1/0149099689.45002"
START_TIME = 2008-01-22T16:32:42.157Z
STOP_TIME = 2008-01-22T16:34:42.946Z
/* ORBITAL DATA ELEMENTS */
ASCENDING_NODE_LONGITUDE = 119.72
MAXIMUM_RESOLUTION = 0.1348
FOOTPRINT_POINT_LATITUDE = (1.17745,1.1633,1.15465,1.14635,1.13843 ,1.13082,1.12346,1.12301,1.12525, 0.924744,0.657067,0.390492,0.119683, -0.151532,-0.489689,-0.760262,-0.898038 ,-1.10631,-1.24564,-1.38379,-1.52217, -1.65999,-1.79738,-1.93712,-2.07809, -2.2187,-2.42953,-2.57024,-2.71067, -2.85245,-2.99631,-3.21124,-3.35384, -3.56758,-3.71075,-3.85582,-4.00198, -4.14792,-4.29361,-4.4389,-4.58466, -4.73216,-4.88105,-5.02905,-5.17754, -5.32153,-5.46874,-5.62145,-5.84781, -5.92276,-5.9784,-5.97142,-5.9676, -5.96021,-5.95221,-5.94702,-5.93981, -5.92482,-5.92419,-5.92162,-5.77155, -5.62114,-5.39589,-5.24867,-5.10125, -4.9535,-4.80556,-4.65742,-4.4384, -4.29322,-4.14761,-3.92921,-3.78322, -3.63885,-3.49639,-3.35337,-3.21018, -2.9956,-2.85231,-2.71008,-2.56968, -2.42887,-2.28816,-2.1474,-1.93588, -1.79469,-1.58757,-1.38034,-1.17297, -1.0348,-0.896114,-0.689332,-0.486186, -0.21476,0.12569,0.397144,0.796829, 1.06475,1.13135,1.17745)
FOOTPRINT_POINT_LONGITUDE = (223.03,222.685,222.467,222.252,222.039 ,221.828,221.619,221.606,221.6,221.596, 221.59,221.584,221.578,221.572,221.564, 221.558,221.554,221.549,221.546,221.543 ,221.539,221.536,221.533,221.529, 221.526,221.522,221.517,221.513,221.51, 221.506,221.502,221.497,221.493,221.487 ,221.483,221.48,221.476,221.472,221.468 ,221.464,221.46,221.456,221.451,221.447 ,221.443,221.439,221.435,221.43,221.424 ,221.422,221.42,221.68,221.82,222.07, 222.322,222.481,222.689,223.077,223.093 ,223.104,223.102,223.1,223.096,223.094, 223.092,223.09,223.088,223.086,223.083, 223.081,223.079,223.076,223.074,223.073 ,223.071,223.069,223.068,223.065, 223.063,223.062,223.06,223.059,223.058, 223.056,223.054,223.053,223.051,223.049 ,223.048,223.046,223.045,223.043, 223.042,223.04,223.038,223.036,223.034, 223.034,223.033,223.03)
ORBIT_NUMBER = 5211
ORBITAL_ECCENTRICITY = 0.574
ORBITAL_INCLINATION = 86.74
ORBITAL_SEMIMAJOR_AXIS = 8727.07
PERIAPSIS_ALTITUDE = 326.21
PERIAPSIS_ARGUMENT_ANGLE = 161.59
PERIAPSIS_TIME = 2008-01-22T16:27:44.000Z
SPACECRAFT_ORIENTATION = (0.0,-1.0,0.0)
^MEX_ORIENTATION_DESC = "MEX_ORIENTATION_DESC.TXT"
SPACECRAFT_POINTING_MODE = ACROSSTRACK
^MEX_POINTING_DESC = "MEX_POINTING_DESC.TXT"
RIGHT_ASCENSION = -1e+32
DECLINATION = -1e+32
OFFSET_ANGLE = 0.94
SPACECRAFT_SOLAR_DISTANCE = 2.40438e+08
TARGET_NAME = MARS
/* CAMERA DATA ELEMENTS */
DETECTOR_TEMPERATURE = 18.5744
FOCAL_PLANE_TEMPERATURE = 8.7872
INST_CMPRS_NAME = "DISCRETE COSINE TRANSFORMATION (DCT)"
INST_CMPRS_RATIO = 17.6191
INST_CMPRS_QUALITY = 0
INST_CMPRS_QUANTZ_TBL_ID = 0
INSTRUMENT_TEMPERATURE = 12.6613
LENS_TEMPERATURE = 8.7872
MACROPIXEL_SIZE = 8
MISSING_FRAMES = 0
PIXEL_SUBSAMPLING_FLAG = N
SIGNAL_CHAIN_ID = 2
/* RADIOMETRIC DATA ELEMENTS */
BANDWIDTH = 48.0
CENTER_FILTER_WAVELENGTH = 748.0
RADIANCE_OFFSET = 0.930638
RADIANCE_SCALING_FACTOR = 0.0060826
REFLECTANCE_SCALING_FACTOR = 0.000802463
MEX:REFLECTANCE_OFFSET = 0.122777
/* IMAGE OBJECT DEFINITIONS */
OBJECT = IMAGE
  INTERCHANGE_FORMAT = BINARY
  LINES = 4216
  LINE_SAMPLES = 945
  SAMPLE_TYPE = UNSIGNED_INTEGER
  SAMPLE_BITS = 8
  BANDS = 1
  BAND_STORAGE_TYPE = BAND_SEQUENTIAL
  MAXIMUM = 255
  MEAN = 126.378
  MINIMUM = 1
  STANDARD_DEVIATION = 12.2972
END_OBJECT = IMAGE
/* MAP OBJECT DEFINITIONS */
OBJECT = IMAGE_MAP_PROJECTION
  ^DATA_SET_MAP_PROJECTION_CATALOG= "DSMAP.CAT"
  A_AXIS_RADIUS = 3396.0
  B_AXIS_RADIUS = 3396.0
  C_AXIS_RADIUS = 3396.0
  CENTER_LATITUDE = 0.0
  CENTER_LONGITUDE = 222.0
  COORDINATE_SYSTEM_NAME = PLANETOGRAPHIC
  COORDINATE_SYSTEM_TYPE = "BODY-FIXED ROTATING"
  EASTERNMOST_LONGITUDE = 223.104
  FIRST_STANDARD_PARALLEL = "N/A"
  LINE_FIRST_PIXEL = 1
  LINE_LAST_PIXEL = 4216
  LINE_PROJECTION_OFFSET = 678.3125
  MAP_PROJECTION_ROTATION = 0.0
  MAP_PROJECTION_TYPE = SINUSOIDAL
  MAP_RESOLUTION = 592.713803866667
  MAP_SCALE = 0.1
  MAXIMUM_LATITUDE = 1.17745
  MINIMUM_LATITUDE = -5.9784
  POSITIVE_LONGITUDE_DIRECTION = EAST
  REFERENCE_LATITUDE = "N/A"
  REFERENCE_LONGITUDE = "N/A"
  SAMPLE_FIRST_PIXEL = 1
  SAMPLE_LAST_PIXEL = 945
  SAMPLE_PROJECTION_OFFSET = 323.8125
  SECOND_STANDARD_PARALLEL = "N/A"
  WESTERNMOST_LONGITUDE = 221.42
END_OBJECT = IMAGE_MAP_PROJECTION
END
