PDS_VERSION_ID = PDS3
/* FILE DATA ELEMENTS */
RECORD_TYPE = UNDEFINED
/* POINTERS TO DATA OBJECTS */
^IMAGE = ("H5212_0000_IR4.TIF")
/* IDENTIFICATION DATA ELEMENTS */
DATA_SET_ID = "MEX-M-HRSC-4-REFDR-MAPPROJECT-EXT2-V4.0"
DATA_SET_NAME = "MARS EXPRESS HRSC MAP PROJECTED REFDR EXTENSION2 V4.0"
DETECTOR_ID = MEX_HRSC_IR
EVENT_TYPE = "MARS-REGIONAL-MAPPING-Te-Fl-Mw"
INSTRUMENT_HOST_ID = MEX
INSTRUMENT_HOST_NAME = "MARS EXPRESS"
INSTRUMENT_ID = HRSC
INSTRUMENT_NAME = "HIGH RESOLUTION STEREO CAMERA"
MISSION_NAME = "MARS EXPRESS"
MISSION_PHASE_NAME = ME_Phase_11
PROCESSING_LEVEL_ID = 4
PRODUCT_CREATION_TIME = 2023-02-01T12:09:47.000Z
PRODUCT_ID = "H5212_0000_IR4.TIF"
RELEASE_ID = 0001
REVISION_ID = 0000
/* QUALITY DATA ELEMENTS */
DATA_QUALITY_ID = 1
DATA_QUALITY_DESC = "Data calculated based on original SPICE kernels"
/* TIME DATA ELEMENTS */
SPACECRAFT_CLOCK_START_COUNT = "1/0149123904.08249"
SPACECRAFT_CLOCK_STOP_COUNT = "1/0149124248.06173"
START_TIME = 2008-01-22T23:18:32.818Z
STOP_TIME = 2008-01-22T23:22:59.940Z
/* ORBITAL DATA ELEMENTS */
ASCENDING_NODE_LONGITUDE = 119.7
MAXIMUM_RESOLUTION = 0.1101
FOOTPRINT_POINT_LATITUDE = (16.1734,16.1778,16.1799,16.1799, 16.1537,15.3438,14.8576,14.3704,14.0453 ,13.7203,13.3957,13.0703,12.7425, 12.2378,11.9015,11.5642,11.2277,10.8909 ,10.5538,10.2163,9.87889,9.54225, 9.20506,8.69894,8.35892,8.01133,7.48885 ,7.13872,6.78985,6.26644,5.91688, 5.56957,5.21876,4.8695,4.5225,4.18065, 3.8305,3.4849,3.13353,2.78992,2.44132, 1.91813,1.32144,0.90959,0.496599, 0.0844929,-0.327533,-0.742489,-1.15559, -1.36223,-1.39127,-1.3953,-1.40019, -1.40799,-1.40818,-1.40625,-0.992941, -0.373478,0.0413913,0.657798,1.07017, 1.48444,1.8756,2.21432,2.56583,2.91445, 3.26222,3.78918,4.14052,4.66089,5.18307 ,5.5321,6.05544,6.57892,6.9273,7.27628, 7.79949,8.14818,8.49583,8.83325,9.17094 ,9.67755,10.0146,10.3515,10.858,11.3637 ,11.7008,12.0375,12.3749,12.7118, 13.0404,13.3651,13.6905,14.0151,14.341, 14.666,15.315,15.9634,16.1256,16.1734)
FOOTPRINT_POINT_LONGITUDE = (122.015,121.496,120.858,120.847, 120.834,120.836,120.836,120.836,120.835 ,120.835,120.834,120.834,120.833, 120.831,120.83,120.828,120.827,120.825, 120.823,120.821,120.819,120.817,120.814 ,120.81,120.807,120.804,120.799,120.795 ,120.792,120.786,120.781,120.778, 120.772,120.768,120.763,120.761,120.755 ,120.751,120.745,120.74,120.735,120.726 ,120.716,120.709,120.702,120.695, 120.688,120.679,120.671,120.667,120.666 ,121.071,121.53,122.003,122.016,122.024 ,122.022,122.019,122.017,122.016, 122.016,122.014,122.015,122.018,122.015 ,122.014,122.013,122.011,122.009, 122.009,122.009,122.008,122.008,122.007 ,122.008,122.008,122.008,122.008, 122.008,122.008,122.008,122.009,122.01, 122.01,122.011,122.012,122.013,122.014, 122.014,122.015,122.016,122.017,122.018 ,122.019,122.02,122.021,122.023,122.025 ,122.026,122.015)
ORBIT_NUMBER = 5212
ORBITAL_ECCENTRICITY = 0.573
ORBITAL_INCLINATION = 86.72
ORBITAL_SEMIMAJOR_AXIS = 8722.97
PERIAPSIS_ALTITUDE = 326.33
PERIAPSIS_ARGUMENT_ANGLE = 161.43
PERIAPSIS_TIME = 2008-01-22T23:18:20.000Z
SPACECRAFT_ORIENTATION = (0.0,-1.0,0.0)
^MEX_ORIENTATION_DESC = "MEX_ORIENTATION_DESC.TXT"
SPACECRAFT_POINTING_MODE = ACROSSTRACK
^MEX_POINTING_DESC = "MEX_POINTING_DESC.TXT"
RIGHT_ASCENSION = -1e+32
DECLINATION = -1e+32
OFFSET_ANGLE = 0.1
SPACECRAFT_SOLAR_DISTANCE = 2.40481e+08
TARGET_NAME = MARS
/* CAMERA DATA ELEMENTS */
DETECTOR_TEMPERATURE = 17.351
FOCAL_PLANE_TEMPERATURE = 8.3794
INST_CMPRS_NAME = "DISCRETE COSINE TRANSFORMATION (DCT)"
INST_CMPRS_RATIO = 10.1759
INST_CMPRS_QUALITY = 0
INST_CMPRS_QUANTZ_TBL_ID = 0
INSTRUMENT_TEMPERATURE = 11.0301
LENS_TEMPERATURE = 8.7872
MACROPIXEL_SIZE = 8
MISSING_FRAMES = 0
PIXEL_SUBSAMPLING_FLAG = N
SIGNAL_CHAIN_ID = 2
/* RADIOMETRIC DATA ELEMENTS */
BANDWIDTH = 81.0
CENTER_FILTER_WAVELENGTH = 955.5
RADIANCE_OFFSET = 0.681772
RADIANCE_SCALING_FACTOR = 0.00490163
REFLECTANCE_SCALING_FACTOR = 0.000611548
MEX:REFLECTANCE_OFFSET = 0.0850608
/* IMAGE OBJECT DEFINITIONS */
OBJECT = IMAGE
  INTERCHANGE_FORMAT = BINARY
  LINES = 10414
  LINE_SAMPLES = 842
  SAMPLE_TYPE = UNSIGNED_INTEGER
  SAMPLE_BITS = 8
  BANDS = 1
  BAND_STORAGE_TYPE = BAND_SEQUENTIAL
  MAXIMUM = 255
  MEAN = 130.815
  MINIMUM = 1
  STANDARD_DEVIATION = 19.7964
END_OBJECT = IMAGE
/* MAP OBJECT DEFINITIONS */
OBJECT = IMAGE_MAP_PROJECTION
  ^DATA_SET_MAP_PROJECTION_CATALOG= "DSMAP.CAT"
  A_AXIS_RADIUS = 3396.0
  B_AXIS_RADIUS = 3396.0
  C_AXIS_RADIUS = 3396.0
  CENTER_LATITUDE = 0.0
  CENTER_LONGITUDE = 121.0
  COORDINATE_SYSTEM_NAME = PLANETOGRAPHIC
  COORDINATE_SYSTEM_TYPE = "BODY-FIXED ROTATING"
  EASTERNMOST_LONGITUDE = 122.026
  FIRST_STANDARD_PARALLEL = "N/A"
  LINE_FIRST_PIXEL = 1
  LINE_LAST_PIXEL = 10414
  LINE_PROJECTION_OFFSET = 9589.3125
  MAP_PROJECTION_ROTATION = 0.0
  MAP_PROJECTION_TYPE = SINUSOIDAL
  MAP_RESOLUTION = 592.713803866667
  MAP_SCALE = 0.1
  MAXIMUM_LATITUDE = 16.1799
  MINIMUM_LATITUDE = -1.40818
  POSITIVE_LONGITUDE_DIRECTION = EAST
  REFERENCE_LATITUDE = "N/A"
  REFERENCE_LONGITUDE = "N/A"
  SAMPLE_FIRST_PIXEL = 1
  SAMPLE_LAST_PIXEL = 842
  SAMPLE_PROJECTION_OFFSET = 219.8125
  SECOND_STANDARD_PARALLEL = "N/A"
  WESTERNMOST_LONGITUDE = 120.666
END_OBJECT = IMAGE_MAP_PROJECTION
END
