PDS_VERSION_ID = PDS3
/* FILE DATA ELEMENTS */
RECORD_TYPE = UNDEFINED
/* POINTERS TO DATA OBJECTS */
^IMAGE = ("H5229_0000_P24.TIF")
/* IDENTIFICATION DATA ELEMENTS */
DATA_SET_ID = "MEX-M-HRSC-4-REFDR-MAPPROJECT-EXT2-V4.0"
DATA_SET_NAME = "MARS EXPRESS HRSC MAP PROJECTED REFDR EXTENSION2 V4.0"
DETECTOR_ID = MEX_HRSC_P2
EVENT_TYPE = "MARS-REGIONAL-MAPPING-Vo-Gl-Mw"
INSTRUMENT_HOST_ID = MEX
INSTRUMENT_HOST_NAME = "MARS EXPRESS"
INSTRUMENT_ID = HRSC
INSTRUMENT_NAME = "HIGH RESOLUTION STEREO CAMERA"
MISSION_NAME = "MARS EXPRESS"
MISSION_PHASE_NAME = ME_Phase_11
PROCESSING_LEVEL_ID = 4
PRODUCT_CREATION_TIME = 2023-02-01T12:09:47.000Z
PRODUCT_ID = "H5229_0000_P24.TIF"
RELEASE_ID = 0001
REVISION_ID = 0000
/* QUALITY DATA ELEMENTS */
DATA_QUALITY_ID = 1
DATA_QUALITY_DESC = "Data calculated based on original SPICE kernels"
/* TIME DATA ELEMENTS */
SPACECRAFT_CLOCK_START_COUNT = "1/0149542517.07299"
SPACECRAFT_CLOCK_STOP_COUNT = "1/0149542744.49145"
START_TIME = 2008-01-27T19:36:10.408Z
STOP_TIME = 2008-01-27T19:38:55.795Z
/* ORBITAL DATA ELEMENTS */
ASCENDING_NODE_LONGITUDE = 119.36
MAXIMUM_RESOLUTION = 0.0271
FOOTPRINT_POINT_LATITUDE = (25.7545,25.7491,25.7441,25.7386, 25.7384,25.7581,25.5386,25.3197,24.9897 ,24.7708,24.5524,24.2259,24.007,23.7884 ,23.5769,23.3653,23.1539,22.9424, 22.7311,22.4141,22.2028,21.7806,21.4641 ,21.0422,20.6207,20.2,19.985,19.7672, 19.5496,19.3325,19.0068,18.7901,18.573, 18.2456,17.9217,17.7052,17.4893,17.1656 ,16.9502,16.7347,16.4114,16.1961, 15.9807,15.7658,15.5509,15.3362,15.1206 ,15.0145,14.9973,14.9992,14.9997, 15.0002,15.0003,15.0007,15.215,15.4295, 15.6432,15.8577,16.0732,16.395,16.6117, 16.8286,17.0425,17.2553,17.5747,17.7925 ,18.1193,18.3384,18.5566,18.7757, 18.9934,19.2116,19.4282,19.6455,19.8646 ,20.0825,20.2948,20.7175,21.0347, 21.2465,21.5636,21.7751,22.0925,22.3044 ,22.5156,22.8324,23.0441,23.2567, 23.5743,23.7861,24.0043,24.2235,24.4428 ,24.6621,24.8815,25.1009,25.3204,25.649 ,25.7587,25.7545)
FOOTPRINT_POINT_LONGITUDE = (221.12,220.649,220.255,219.862,219.85, 219.839,219.843,219.845,219.85,219.853, 219.855,219.858,219.86,219.862,219.865, 219.867,219.868,219.87,219.872,219.874, 219.876,219.879,219.881,219.883,219.885 ,219.887,219.887,219.888,219.889, 219.889,219.89,219.89,219.89,219.891, 219.891,219.891,219.89,219.89,219.889, 219.889,219.888,219.887,219.886,219.885 ,219.885,219.884,219.883,219.882, 219.882,220.37,220.705,221.1,221.112, 221.117,221.117,221.116,221.115,221.115 ,221.115,221.114,221.115,221.116, 221.115,221.113,221.11,221.111,221.112, 221.114,221.115,221.117,221.118,221.118 ,221.118,221.118,221.12,221.12,221.121, 221.122,221.123,221.124,221.125,221.126 ,221.127,221.128,221.128,221.128, 221.129,221.13,221.131,221.131,221.132, 221.132,221.133,221.133,221.134,221.134 ,221.135,221.135,221.135,221.12)
ORBIT_NUMBER = 5229
ORBITAL_ECCENTRICITY = 0.573
ORBITAL_INCLINATION = 86.74
ORBITAL_SEMIMAJOR_AXIS = 8722.29
PERIAPSIS_ALTITUDE = 327.89
PERIAPSIS_ARGUMENT_ANGLE = 158.41
PERIAPSIS_TIME = 2008-01-27T19:36:55.000Z
SPACECRAFT_ORIENTATION = (0.0,-1.0,0.0)
^MEX_ORIENTATION_DESC = "MEX_ORIENTATION_DESC.TXT"
SPACECRAFT_POINTING_MODE = ACROSSTRACK
^MEX_POINTING_DESC = "MEX_POINTING_DESC.TXT"
RIGHT_ASCENSION = -1e+32
DECLINATION = -1e+32
OFFSET_ANGLE = 0.2
SPACECRAFT_SOLAR_DISTANCE = 2.41191e+08
TARGET_NAME = MARS
/* CAMERA DATA ELEMENTS */
DETECTOR_TEMPERATURE = 18.3705
FOCAL_PLANE_TEMPERATURE = 7.9716
INST_CMPRS_NAME = "DISCRETE COSINE TRANSFORMATION (DCT)"
INST_CMPRS_RATIO = 6.42764
INST_CMPRS_QUALITY = 0
INST_CMPRS_QUANTZ_TBL_ID = 0
INSTRUMENT_TEMPERATURE = 50.9945
LENS_TEMPERATURE = 8.3794
MACROPIXEL_SIZE = 2
MISSING_FRAMES = 0
PIXEL_SUBSAMPLING_FLAG = N
SIGNAL_CHAIN_ID = 3
/* RADIOMETRIC DATA ELEMENTS */
BANDWIDTH = 177.0
CENTER_FILTER_WAVELENGTH = 676.5
RADIANCE_OFFSET = 3.40365
RADIANCE_SCALING_FACTOR = 0.0241638
REFLECTANCE_SCALING_FACTOR = 0.000745323
MEX:REFLECTANCE_OFFSET = 0.104984
/* IMAGE OBJECT DEFINITIONS */
OBJECT = IMAGE
  INTERCHANGE_FORMAT = BINARY
  LINES = 25565
  LINE_SAMPLES = 2835
  SAMPLE_TYPE = UNSIGNED_INTEGER
  SAMPLE_BITS = 8
  BANDS = 1
  BAND_STORAGE_TYPE = BAND_SEQUENTIAL
  MAXIMUM = 255
  MEAN = 144.245
  MINIMUM = 1
  STANDARD_DEVIATION = 14.5935
END_OBJECT = IMAGE
/* MAP OBJECT DEFINITIONS */
OBJECT = IMAGE_MAP_PROJECTION
  ^DATA_SET_MAP_PROJECTION_CATALOG= "DSMAP.CAT"
  A_AXIS_RADIUS = 3396.0
  B_AXIS_RADIUS = 3396.0
  C_AXIS_RADIUS = 3396.0
  CENTER_LATITUDE = 0.0
  CENTER_LONGITUDE = 221.0
  COORDINATE_SYSTEM_NAME = PLANETOGRAPHIC
  COORDINATE_SYSTEM_TYPE = "BODY-FIXED ROTATING"
  EASTERNMOST_LONGITUDE = 221.135
  FIRST_STANDARD_PARALLEL = "N/A"
  LINE_FIRST_PIXEL = 1
  LINE_LAST_PIXEL = 25565
  LINE_PROJECTION_OFFSET = 61076.25
  MAP_PROJECTION_ROTATION = 0.0
  MAP_PROJECTION_TYPE = SINUSOIDAL
  MAP_RESOLUTION = 2370.85521546667
  MAP_SCALE = 0.025
  MAXIMUM_LATITUDE = 25.7587
  MINIMUM_LATITUDE = 14.9973
  POSITIVE_LONGITUDE_DIRECTION = EAST
  REFERENCE_LATITUDE = "N/A"
  REFERENCE_LONGITUDE = "N/A"
  SAMPLE_FIRST_PIXEL = 1
  SAMPLE_LAST_PIXEL = 2835
  SAMPLE_PROJECTION_OFFSET = 2540.75
  SECOND_STANDARD_PARALLEL = "N/A"
  WESTERNMOST_LONGITUDE = 219.839
END_OBJECT = IMAGE_MAP_PROJECTION
END
