PDS_VERSION_ID = PDS3
/* FILE DATA ELEMENTS */
RECORD_TYPE = UNDEFINED
/* POINTERS TO DATA OBJECTS */
^IMAGE = ("H5232_0000_S14.TIF")
/* IDENTIFICATION DATA ELEMENTS */
DATA_SET_ID = "MEX-M-HRSC-4-REFDR-MAPPROJECT-EXT2-V4.0"
DATA_SET_NAME = "MARS EXPRESS HRSC MAP PROJECTED REFDR EXTENSION2 V4.0"
DETECTOR_ID = MEX_HRSC_S1
EVENT_TYPE = "MARS-REGIONAL-MAPPING-Vo-Fl-Gl"
INSTRUMENT_HOST_ID = MEX
INSTRUMENT_HOST_NAME = "MARS EXPRESS"
INSTRUMENT_ID = HRSC
INSTRUMENT_NAME = "HIGH RESOLUTION STEREO CAMERA"
MISSION_NAME = "MARS EXPRESS"
MISSION_PHASE_NAME = ME_Phase_11
PROCESSING_LEVEL_ID = 4
PRODUCT_CREATION_TIME = 2023-02-01T12:09:47.000Z
PRODUCT_ID = "H5232_0000_S14.TIF"
RELEASE_ID = 0001
REVISION_ID = 0000
/* QUALITY DATA ELEMENTS */
DATA_QUALITY_ID = 1
DATA_QUALITY_DESC = "Data calculated based on original SPICE kernels"
/* TIME DATA ELEMENTS */
SPACECRAFT_CLOCK_START_COUNT = "1/0149616521.07305"
SPACECRAFT_CLOCK_STOP_COUNT = "1/0149616856.48643"
START_TIME = 2008-01-28T16:08:44.916Z
STOP_TIME = 2008-01-28T16:13:03.442Z
/* ORBITAL DATA ELEMENTS */
ASCENDING_NODE_LONGITUDE = 119.29
MAXIMUM_RESOLUTION = 0.0278
FOOTPRINT_POINT_LATITUDE = (19.799,19.7989,19.7955,19.7953,19.7823 ,19.2993,18.6549,18.0093,17.3541, 17.0195,16.6847,16.3498,16.0147,15.6795 ,15.3438,15.0081,14.6722,14.3362, 13.9999,13.4955,13.1591,12.8225,12.4857 ,12.1486,11.8026,11.4543,11.1062, 10.5841,10.0616,9.71372,9.36461,8.84184 ,8.49329,8.14494,7.79678,7.44829, 7.09992,6.7522,6.40399,5.88261,5.35994, 5.01058,4.66277,4.31514,3.9677,3.62036, 3.27313,2.92606,2.75256,2.72902,2.72707 ,2.72284,2.7193,2.71914,2.71952,3.06677 ,3.41419,3.76173,4.10939,4.45707, 4.80472,5.1527,5.50102,5.84899,6.19727, 6.54557,6.89408,7.24263,7.76563,8.11446 ,8.63691,9.16046,9.50929,10.0323, 10.3809,10.9035,11.4265,11.7746,12.1222 ,12.4595,12.7951,13.1318,13.4692, 13.8054,14.1421,14.4784,14.9829,15.3192 ,15.6554,15.9913,16.327,16.6623,16.9976 ,17.3327,17.666,18.3126,18.9583,19.603, 19.764,19.799)
FOOTPRINT_POINT_LONGITUDE = (280.648,279.98,279.452,279.44,279.433, 279.435,279.439,279.441,279.443,279.443 ,279.443,279.444,279.444,279.444, 279.443,279.443,279.442,279.441,279.44, 279.438,279.436,279.434,279.432,279.43, 279.428,279.425,279.423,279.418,279.414 ,279.41,279.407,279.401,279.397,279.393 ,279.388,279.384,279.379,279.374, 279.369,279.362,279.354,279.348,279.342 ,279.336,279.33,279.324,279.317,279.311 ,279.307,279.307,279.754,280.306, 280.648,280.661,280.666,280.664,280.663 ,280.662,280.66,280.659,280.658,280.657 ,280.656,280.655,280.655,280.654, 280.653,280.652,280.651,280.651,280.65, 280.649,280.648,280.648,280.648,280.647 ,280.647,280.647,280.647,280.646, 280.647,280.647,280.647,280.647,280.647 ,280.647,280.647,280.647,280.647, 280.648,280.648,280.648,280.649,280.649 ,280.649,280.65,280.651,280.652,280.652 ,280.648)
ORBIT_NUMBER = 5232
ORBITAL_ECCENTRICITY = 0.573
ORBITAL_INCLINATION = 86.72
ORBITAL_SEMIMAJOR_AXIS = 8722.17
PERIAPSIS_ALTITUDE = 328.18
PERIAPSIS_ARGUMENT_ANGLE = 157.92
PERIAPSIS_TIME = 2008-01-28T16:08:39.000Z
SPACECRAFT_ORIENTATION = (0.0,-1.0,0.0)
^MEX_ORIENTATION_DESC = "MEX_ORIENTATION_DESC.TXT"
SPACECRAFT_POINTING_MODE = NADIR
^MEX_POINTING_DESC = "MEX_POINTING_DESC.TXT"
RIGHT_ASCENSION = -1e+32
DECLINATION = -1e+32
OFFSET_ANGLE = -1e+32
SPACECRAFT_SOLAR_DISTANCE = 2.41313e+08
TARGET_NAME = MARS
/* CAMERA DATA ELEMENTS */
DETECTOR_TEMPERATURE = 17.7588
FOCAL_PLANE_TEMPERATURE = 8.7872
INST_CMPRS_NAME = "DISCRETE COSINE TRANSFORMATION (DCT)"
INST_CMPRS_RATIO = 7.26844
INST_CMPRS_QUALITY = 0
INST_CMPRS_QUANTZ_TBL_ID = 0
INSTRUMENT_TEMPERATURE = 11.234
LENS_TEMPERATURE = 9.195
MACROPIXEL_SIZE = 2
MISSING_FRAMES = 0
PIXEL_SUBSAMPLING_FLAG = N
SIGNAL_CHAIN_ID = 1
/* RADIOMETRIC DATA ELEMENTS */
BANDWIDTH = 180.0
CENTER_FILTER_WAVELENGTH = 677.0
RADIANCE_OFFSET = 4.3362
RADIANCE_SCALING_FACTOR = 0.0219753
REFLECTANCE_SCALING_FACTOR = 0.000667639
MEX:REFLECTANCE_OFFSET = 0.131739
/* IMAGE OBJECT DEFINITIONS */
OBJECT = IMAGE
  INTERCHANGE_FORMAT = BINARY
  LINES = 40442
  LINE_SAMPLES = 3351
  SAMPLE_TYPE = UNSIGNED_INTEGER
  SAMPLE_BITS = 8
  BANDS = 1
  BAND_STORAGE_TYPE = BAND_SEQUENTIAL
  MAXIMUM = 255
  MEAN = 152.771
  MINIMUM = 1
  STANDARD_DEVIATION = 16.0135
END_OBJECT = IMAGE
/* MAP OBJECT DEFINITIONS */
OBJECT = IMAGE_MAP_PROJECTION
  ^DATA_SET_MAP_PROJECTION_CATALOG= "DSMAP.CAT"
  A_AXIS_RADIUS = 3396.0
  B_AXIS_RADIUS = 3396.0
  C_AXIS_RADIUS = 3396.0
  CENTER_LATITUDE = 0.0
  CENTER_LONGITUDE = 280.0
  COORDINATE_SYSTEM_NAME = PLANETOGRAPHIC
  COORDINATE_SYSTEM_TYPE = "BODY-FIXED ROTATING"
  EASTERNMOST_LONGITUDE = 280.666
  FIRST_STANDARD_PARALLEL = "N/A"
  LINE_FIRST_PIXEL = 1
  LINE_LAST_PIXEL = 40442
  LINE_PROJECTION_OFFSET = 46928.25
  MAP_PROJECTION_ROTATION = 0.0
  MAP_PROJECTION_TYPE = SINUSOIDAL
  MAP_RESOLUTION = 2370.85521546667
  MAP_SCALE = 0.025
  MAXIMUM_LATITUDE = 19.799
  MINIMUM_LATITUDE = 2.71914
  POSITIVE_LONGITUDE_DIRECTION = EAST
  REFERENCE_LATITUDE = "N/A"
  REFERENCE_LONGITUDE = "N/A"
  SAMPLE_FIRST_PIXEL = 1
  SAMPLE_LAST_PIXEL = 3351
  SAMPLE_PROJECTION_OFFSET = 1710.75
  SECOND_STANDARD_PARALLEL = "N/A"
  WESTERNMOST_LONGITUDE = 279.307
END_OBJECT = IMAGE_MAP_PROJECTION
END
