PDS_VERSION_ID = PDS3
/* FILE DATA ELEMENTS */
RECORD_TYPE = UNDEFINED
/* POINTERS TO DATA OBJECTS */
^IMAGE = ("H5239_0010_S14.TIF")
/* IDENTIFICATION DATA ELEMENTS */
DATA_SET_ID = "MEX-M-HRSC-4-REFDR-MAPPROJECT-EXT2-V4.0"
DATA_SET_NAME = "MARS EXPRESS HRSC MAP PROJECTED REFDR EXTENSION2 V4.0"
DETECTOR_ID = MEX_HRSC_S1
EVENT_TYPE = "MARS-REGIONAL-MAPPING-Vo-Te-Fl"
INSTRUMENT_HOST_ID = MEX
INSTRUMENT_HOST_NAME = "MARS EXPRESS"
INSTRUMENT_ID = HRSC
INSTRUMENT_NAME = "HIGH RESOLUTION STEREO CAMERA"
MISSION_NAME = "MARS EXPRESS"
MISSION_PHASE_NAME = ME_Phase_11
PROCESSING_LEVEL_ID = 4
PRODUCT_CREATION_TIME = 2023-02-01T12:09:47.000Z
PRODUCT_ID = "H5239_0010_S14.TIF"
RELEASE_ID = 0001
REVISION_ID = 0000
/* QUALITY DATA ELEMENTS */
DATA_QUALITY_ID = 1
DATA_QUALITY_DESC = "Data calculated based on original SPICE kernels"
/* TIME DATA ELEMENTS */
SPACECRAFT_CLOCK_START_COUNT = "1/0149788735.08396"
SPACECRAFT_CLOCK_STOP_COUNT = "1/0149789163.10689"
START_TIME = 2008-01-30T15:58:58.961Z
STOP_TIME = 2008-01-30T16:05:46.430Z
/* ORBITAL DATA ELEMENTS */
ASCENDING_NODE_LONGITUDE = 119.15
MAXIMUM_RESOLUTION = 0.028
FOOTPRINT_POINT_LATITUDE = (33.9309,33.936,33.9362,33.9361,33.8912 ,33.3864,32.8797,32.3721,31.8573, 31.0855,30.5724,30.0579,29.5415,29.0238 ,28.504,27.9787,27.4585,26.9378,26.419, 25.8941,25.3668,24.5816,24.0509,23.5274 ,23.01,22.2156,21.6854,21.1494,20.3553, 19.5552,19.0217,18.4876,17.9528,17.4174 ,16.8818,16.3455,15.809,15.2725,14.4664 ,13.929,13.3914,12.8535,12.0467,11.2392 ,10.4322,9.89351,9.35533,8.81717, 8.27935,7.74156,7.47268,7.44984,7.42972 ,7.41887,7.4185,7.41879,7.95484,8.49312 ,9.0328,9.8411,10.3791,10.9178,11.4567, 12.2647,13.0725,13.6105,14.4173,15.2235 ,15.7611,16.298,16.834,17.6379,18.1737, 18.9775,19.777,20.3108,20.8436,21.3756, 21.9074,22.4386,22.9663,23.4878,24.2702 ,25.0607,25.5886,26.1186,26.9166, 27.6894,28.215,28.7288,29.5005,30.0219, 30.5389,31.3177,31.833,32.3429,32.8511, 33.6118,33.8646,33.9309)
FOOTPRINT_POINT_LONGITUDE = (300.595,300.03,299.091,299.076,299.064 ,299.082,299.1,299.116,299.131,299.153, 299.167,299.18,299.192,299.204,299.215, 299.225,299.235,299.245,299.254,299.262 ,299.269,299.279,299.285,299.291, 299.297,299.304,299.307,299.309,299.314 ,299.316,299.317,299.318,299.318, 299.317,299.317,299.315,299.313,299.311 ,299.307,299.304,299.3,299.296,299.29, 299.282,299.273,299.267,299.26,299.253, 299.246,299.238,299.234,299.234,300.035 ,300.515,300.528,300.532,300.533, 300.532,300.531,300.531,300.531,300.531 ,300.531,300.531,300.532,300.533, 300.534,300.536,300.536,300.538,300.539 ,300.541,300.543,300.544,300.547, 300.549,300.551,300.553,300.555,300.557 ,300.56,300.566,300.575,300.578,300.579 ,300.579,300.576,300.586,300.588, 300.594,300.601,300.601,300.603,300.604 ,300.605,300.609,300.613,300.618,300.62 ,300.595)
ORBIT_NUMBER = 5239
ORBITAL_ECCENTRICITY = 0.573
ORBITAL_INCLINATION = 86.73
ORBITAL_SEMIMAJOR_AXIS = 8714.77
PERIAPSIS_ALTITUDE = 329.21
PERIAPSIS_ARGUMENT_ANGLE = 156.69
PERIAPSIS_TIME = 2008-01-30T16:02:14.000Z
SPACECRAFT_ORIENTATION = (0.0,-1.0,0.0)
^MEX_ORIENTATION_DESC = "MEX_ORIENTATION_DESC.TXT"
SPACECRAFT_POINTING_MODE = ACROSSTRACK
^MEX_POINTING_DESC = "MEX_POINTING_DESC.TXT"
RIGHT_ASCENSION = -1e+32
DECLINATION = -1e+32
OFFSET_ANGLE = 0.3
SPACECRAFT_SOLAR_DISTANCE = 2.41597e+08
TARGET_NAME = MARS
/* CAMERA DATA ELEMENTS */
DETECTOR_TEMPERATURE = 19.1861
FOCAL_PLANE_TEMPERATURE = 8.9911
INST_CMPRS_NAME = "DISCRETE COSINE TRANSFORMATION (DCT)"
INST_CMPRS_RATIO = 8.31007
INST_CMPRS_QUALITY = 0
INST_CMPRS_QUANTZ_TBL_ID = 0
INSTRUMENT_TEMPERATURE = 13.0691
LENS_TEMPERATURE = 9.195
MACROPIXEL_SIZE = 2
MISSING_FRAMES = 1
PIXEL_SUBSAMPLING_FLAG = N
SIGNAL_CHAIN_ID = 1
/* RADIOMETRIC DATA ELEMENTS */
BANDWIDTH = 180.0
CENTER_FILTER_WAVELENGTH = 677.0
RADIANCE_OFFSET = 2.75741
RADIANCE_SCALING_FACTOR = 0.0270335
REFLECTANCE_SCALING_FACTOR = 0.000823235
MEX:REFLECTANCE_OFFSET = 0.08397
/* IMAGE OBJECT DEFINITIONS */
OBJECT = IMAGE
  INTERCHANGE_FORMAT = BINARY
  LINES = 62794
  LINE_SAMPLES = 3154
  SAMPLE_TYPE = UNSIGNED_INTEGER
  SAMPLE_BITS = 8
  BANDS = 1
  BAND_STORAGE_TYPE = BAND_SEQUENTIAL
  MAXIMUM = 255
  MEAN = 117.349
  MINIMUM = 1
  STANDARD_DEVIATION = 31.7844
END_OBJECT = IMAGE
/* MAP OBJECT DEFINITIONS */
OBJECT = IMAGE_MAP_PROJECTION
  ^DATA_SET_MAP_PROJECTION_CATALOG= "DSMAP.CAT"
  A_AXIS_RADIUS = 3396.0
  B_AXIS_RADIUS = 3396.0
  C_AXIS_RADIUS = 3396.0
  CENTER_LATITUDE = 0.0
  CENTER_LONGITUDE = 300.0
  COORDINATE_SYSTEM_NAME = PLANETOGRAPHIC
  COORDINATE_SYSTEM_TYPE = "BODY-FIXED ROTATING"
  EASTERNMOST_LONGITUDE = 300.62
  FIRST_STANDARD_PARALLEL = "N/A"
  LINE_FIRST_PIXEL = 1
  LINE_LAST_PIXEL = 62794
  LINE_PROJECTION_OFFSET = 80426.75
  MAP_PROJECTION_ROTATION = 0.0
  MAP_PROJECTION_TYPE = SINUSOIDAL
  MAP_RESOLUTION = 2370.85521546667
  MAP_SCALE = 0.025
  MAXIMUM_LATITUDE = 33.9362
  MINIMUM_LATITUDE = 7.4185
  POSITIVE_LONGITUDE_DIRECTION = EAST
  REFERENCE_LATITUDE = "N/A"
  REFERENCE_LONGITUDE = "N/A"
  SAMPLE_FIRST_PIXEL = 1
  SAMPLE_LAST_PIXEL = 3154
  SAMPLE_PROJECTION_OFFSET = 1858.25
  SECOND_STANDARD_PARALLEL = "N/A"
  WESTERNMOST_LONGITUDE = 299.064
END_OBJECT = IMAGE_MAP_PROJECTION
END
