PDS_VERSION_ID = PDS3
/* FILE DATA ELEMENTS */
RECORD_TYPE = UNDEFINED
/* POINTERS TO DATA OBJECTS */
^IMAGE = ("H5239_0010_S24.TIF")
/* IDENTIFICATION DATA ELEMENTS */
DATA_SET_ID = "MEX-M-HRSC-4-REFDR-MAPPROJECT-EXT2-V4.0"
DATA_SET_NAME = "MARS EXPRESS HRSC MAP PROJECTED REFDR EXTENSION2 V4.0"
DETECTOR_ID = MEX_HRSC_S2
EVENT_TYPE = "MARS-REGIONAL-MAPPING-Vo-Te-Fl"
INSTRUMENT_HOST_ID = MEX
INSTRUMENT_HOST_NAME = "MARS EXPRESS"
INSTRUMENT_ID = HRSC
INSTRUMENT_NAME = "HIGH RESOLUTION STEREO CAMERA"
MISSION_NAME = "MARS EXPRESS"
MISSION_PHASE_NAME = ME_Phase_11
PROCESSING_LEVEL_ID = 4
PRODUCT_CREATION_TIME = 2023-02-01T12:09:47.000Z
PRODUCT_ID = "H5239_0010_S24.TIF"
RELEASE_ID = 0001
REVISION_ID = 0000
/* QUALITY DATA ELEMENTS */
DATA_QUALITY_ID = 1
DATA_QUALITY_DESC = "Data calculated based on original SPICE kernels"
/* TIME DATA ELEMENTS */
SPACECRAFT_CLOCK_START_COUNT = "1/0149788735.08396"
SPACECRAFT_CLOCK_STOP_COUNT = "1/0149789163.10689"
START_TIME = 2008-01-30T16:00:03.170Z
STOP_TIME = 2008-01-30T16:06:56.425Z
/* ORBITAL DATA ELEMENTS */
ASCENDING_NODE_LONGITUDE = 119.15
MAXIMUM_RESOLUTION = 0.0283
FOOTPRINT_POINT_LATITUDE = (33.9012,33.8838,33.8643,33.8639,33.91, 33.0884,32.5408,31.9935,31.4564,30.9104 ,30.3646,29.5471,29.0035,28.461,27.6483 ,26.8321,26.2868,25.7475,25.2116, 24.6647,24.1302,23.3175,22.7697,22.2333 ,21.6979,20.8971,20.3646,19.8334, 19.3028,18.7728,18.2442,17.717,17.1911, 16.6662,16.1425,15.6202,15.0995,14.58, 14.0618,13.5448,13.0296,12.5166,11.7479 ,11.2378,10.7287,9.71713,8.7118,7.71335 ,7.46457,7.43919,7.44892,7.45276, 7.45295,7.4534,8.2034,9.20441,10.2139, 10.7213,11.2299,11.7394,12.2516,12.7647 ,13.2795,14.0566,14.5733,15.0934, 15.6145,16.1365,16.6612,17.1863,17.713, 18.2403,18.7679,19.2989,19.8301,20.362, 20.895,21.4292,21.964,22.4996,23.0412, 23.8556,24.4041,24.9433,25.7478,26.5432 ,27.085,27.6439,28.1857,29.0076,29.5595 ,30.1001,30.6445,31.4521,32.0003,32.549 ,33.0971,33.6465,33.921,33.9012)
FOOTPRINT_POINT_LONGITUDE = (300.56,299.852,299.125,299.111,299.097 ,299.122,299.138,299.153,299.165, 299.179,299.191,299.208,299.218,299.228 ,299.241,299.253,299.26,299.266,299.271 ,299.278,299.281,299.288,299.293, 299.295,299.297,299.299,299.3,299.3, 299.3,299.299,299.298,299.296,299.294, 299.291,299.288,299.285,299.281,299.276 ,299.272,299.267,299.261,299.255, 299.245,299.239,299.232,299.216,299.199 ,299.181,299.176,299.176,300.034, 300.571,300.584,300.589,300.586,300.581 ,300.577,300.575,300.573,300.571,300.57 ,300.569,300.567,300.567,300.565, 300.564,300.563,300.563,300.563,300.562 ,300.562,300.562,300.561,300.562, 300.562,300.562,300.562,300.562,300.563 ,300.563,300.566,300.57,300.576,300.576 ,300.574,300.566,300.567,300.576, 300.576,300.58,300.584,300.582,300.583, 300.578,300.579,300.581,300.583,300.584 ,300.585,300.56)
ORBIT_NUMBER = 5239
ORBITAL_ECCENTRICITY = 0.573
ORBITAL_INCLINATION = 86.73
ORBITAL_SEMIMAJOR_AXIS = 8714.77
PERIAPSIS_ALTITUDE = 329.21
PERIAPSIS_ARGUMENT_ANGLE = 156.69
PERIAPSIS_TIME = 2008-01-30T16:02:14.000Z
SPACECRAFT_ORIENTATION = (0.0,-1.0,0.0)
^MEX_ORIENTATION_DESC = "MEX_ORIENTATION_DESC.TXT"
SPACECRAFT_POINTING_MODE = ACROSSTRACK
^MEX_POINTING_DESC = "MEX_POINTING_DESC.TXT"
RIGHT_ASCENSION = -1e+32
DECLINATION = -1e+32
OFFSET_ANGLE = 0.3
SPACECRAFT_SOLAR_DISTANCE = 2.41597e+08
TARGET_NAME = MARS
/* CAMERA DATA ELEMENTS */
DETECTOR_TEMPERATURE = 20.2056
FOCAL_PLANE_TEMPERATURE = 8.9911
INST_CMPRS_NAME = "DISCRETE COSINE TRANSFORMATION (DCT)"
INST_CMPRS_RATIO = 10.647
INST_CMPRS_QUALITY = 0
INST_CMPRS_QUANTZ_TBL_ID = 0
INSTRUMENT_TEMPERATURE = 13.0691
LENS_TEMPERATURE = 9.195
MACROPIXEL_SIZE = 2
MISSING_FRAMES = 0
PIXEL_SUBSAMPLING_FLAG = N
SIGNAL_CHAIN_ID = 1
/* RADIOMETRIC DATA ELEMENTS */
BANDWIDTH = 178.0
CENTER_FILTER_WAVELENGTH = 679.0
RADIANCE_OFFSET = 2.62804
RADIANCE_SCALING_FACTOR = 0.0261829
REFLECTANCE_SCALING_FACTOR = 0.000809333
MEX:REFLECTANCE_OFFSET = 0.0812346
/* IMAGE OBJECT DEFINITIONS */
OBJECT = IMAGE
  INTERCHANGE_FORMAT = BINARY
  LINES = 62794
  LINE_SAMPLES = 3154
  SAMPLE_TYPE = UNSIGNED_INTEGER
  SAMPLE_BITS = 8
  BANDS = 1
  BAND_STORAGE_TYPE = BAND_SEQUENTIAL
  MAXIMUM = 255
  MEAN = 115.711
  MINIMUM = 1
  STANDARD_DEVIATION = 29.375
END_OBJECT = IMAGE
/* MAP OBJECT DEFINITIONS */
OBJECT = IMAGE_MAP_PROJECTION
  ^DATA_SET_MAP_PROJECTION_CATALOG= "DSMAP.CAT"
  A_AXIS_RADIUS = 3396.0
  B_AXIS_RADIUS = 3396.0
  C_AXIS_RADIUS = 3396.0
  CENTER_LATITUDE = 0.0
  CENTER_LONGITUDE = 300.0
  COORDINATE_SYSTEM_NAME = PLANETOGRAPHIC
  COORDINATE_SYSTEM_TYPE = "BODY-FIXED ROTATING"
  EASTERNMOST_LONGITUDE = 300.589
  FIRST_STANDARD_PARALLEL = "N/A"
  LINE_FIRST_PIXEL = 1
  LINE_LAST_PIXEL = 62794
  LINE_PROJECTION_OFFSET = 80426.75
  MAP_PROJECTION_ROTATION = 0.0
  MAP_PROJECTION_TYPE = SINUSOIDAL
  MAP_RESOLUTION = 2370.85521546667
  MAP_SCALE = 0.025
  MAXIMUM_LATITUDE = 33.921
  MINIMUM_LATITUDE = 7.43919
  POSITIVE_LONGITUDE_DIRECTION = EAST
  REFERENCE_LATITUDE = "N/A"
  REFERENCE_LONGITUDE = "N/A"
  SAMPLE_FIRST_PIXEL = 1
  SAMPLE_LAST_PIXEL = 3154
  SAMPLE_PROJECTION_OFFSET = 1858.25
  SECOND_STANDARD_PARALLEL = "N/A"
  WESTERNMOST_LONGITUDE = 299.097
END_OBJECT = IMAGE_MAP_PROJECTION
END
