PDS_VERSION_ID = PDS3
/* FILE DATA ELEMENTS */
RECORD_TYPE = UNDEFINED
/* POINTERS TO DATA OBJECTS */
^IMAGE = ("H5240_0000_BL4.TIF")
/* IDENTIFICATION DATA ELEMENTS */
DATA_SET_ID = "MEX-M-HRSC-4-REFDR-MAPPROJECT-EXT2-V4.0"
DATA_SET_NAME = "MARS EXPRESS HRSC MAP PROJECTED REFDR EXTENSION2 V4.0"
DETECTOR_ID = MEX_HRSC_BLUE
EVENT_TYPE = "MARS-REGIONAL-MAPPING-Vo-Eo-La"
INSTRUMENT_HOST_ID = MEX
INSTRUMENT_HOST_NAME = "MARS EXPRESS"
INSTRUMENT_ID = HRSC
INSTRUMENT_NAME = "HIGH RESOLUTION STEREO CAMERA"
MISSION_NAME = "MARS EXPRESS"
MISSION_PHASE_NAME = ME_Phase_11
PROCESSING_LEVEL_ID = 4
PRODUCT_CREATION_TIME = 2023-02-01T12:09:47.000Z
PRODUCT_ID = "H5240_0000_BL4.TIF"
RELEASE_ID = 0001
REVISION_ID = 0000
/* QUALITY DATA ELEMENTS */
DATA_QUALITY_ID = 1
DATA_QUALITY_DESC = "Data calculated based on original SPICE kernels"
/* TIME DATA ELEMENTS */
SPACECRAFT_CLOCK_START_COUNT = "1/0149813554.09062"
SPACECRAFT_CLOCK_STOP_COUNT = "1/0149813769.39999"
START_TIME = 2008-01-30T22:53:12.222Z
STOP_TIME = 2008-01-30T22:55:43.791Z
/* ORBITAL DATA ELEMENTS */
ASCENDING_NODE_LONGITUDE = 119.13
MAXIMUM_RESOLUTION = 0.1071
FOOTPRINT_POINT_LATITUDE = (21.846,21.8447,21.8423,21.8422,21.8492 ,21.6554,21.4616,21.2679,21.0743, 20.8806,20.6871,20.4935,20.3,20.1066, 19.9132,19.7198,19.5265,19.3332,18.9469 ,18.5608,18.1749,17.7893,17.4039, 17.0188,16.6341,16.3371,16.1386,15.9401 ,15.7417,15.5434,15.3452,15.1471, 14.9491,14.7512,14.5533,14.3556,14.158, 13.9605,13.763,13.5657,13.3685,13.1714, 12.9744,12.7775,12.5808,12.3842,12.1877 ,12.0895,12.0387,12.0379,12.0364, 12.0354,12.0342,12.0342,12.0358,12.2324 ,12.5276,12.7244,12.9215,13.1186, 13.3157,13.613,13.9081,14.1058,14.3036, 14.5014,14.6994,14.8974,15.0956,15.2939 ,15.4922,15.6906,15.8892,16.0878, 16.2865,16.4853,16.6814,17.0666,17.452, 17.8377,18.2237,18.6099,18.8031,18.9964 ,19.1898,19.3831,19.5766,19.7701, 19.9636,20.1572,20.3508,20.5445,20.7383 ,20.932,21.1258,21.3197,21.5136,21.7075 ,21.8045,21.846)
FOOTPRINT_POINT_LONGITUDE = (200.219,199.511,199.02,199.009,198.991 ,198.992,198.993,198.994,198.995, 198.996,198.997,198.998,198.999,198.999 ,199.0,199.001,199.001,199.002,199.002, 199.003,199.003,199.003,199.002,199.002 ,199.001,199.0,198.999,198.999,198.998, 198.997,198.996,198.995,198.994,198.993 ,198.992,198.991,198.99,198.988,198.987 ,198.986,198.984,198.983,198.981, 198.979,198.978,198.976,198.974,198.973 ,198.972,199.329,199.771,199.974, 200.225,200.237,200.245,200.245,200.244 ,200.244,200.243,200.243,200.243, 200.244,200.242,200.241,200.241,200.241 ,200.24,200.24,200.24,200.239,200.239, 200.239,200.239,200.238,200.238,200.238 ,200.238,200.237,200.237,200.237, 200.236,200.236,200.236,200.236,200.236 ,200.236,200.236,200.236,200.236, 200.235,200.235,200.235,200.235,200.235 ,200.235,200.235,200.235,200.235, 200.235,200.219)
ORBIT_NUMBER = 5240
ORBITAL_ECCENTRICITY = 0.573
ORBITAL_INCLINATION = 86.74
ORBITAL_SEMIMAJOR_AXIS = 8710.73
PERIAPSIS_ALTITUDE = 329.37
PERIAPSIS_ARGUMENT_ANGLE = 156.48
PERIAPSIS_TIME = 2008-01-30T22:52:41.000Z
SPACECRAFT_ORIENTATION = (0.0,-1.0,0.0)
^MEX_ORIENTATION_DESC = "MEX_ORIENTATION_DESC.TXT"
SPACECRAFT_POINTING_MODE = ACROSSTRACK
^MEX_POINTING_DESC = "MEX_POINTING_DESC.TXT"
RIGHT_ASCENSION = -1e+32
DECLINATION = -1e+32
OFFSET_ANGLE = 0.05
SPACECRAFT_SOLAR_DISTANCE = 2.41637e+08
TARGET_NAME = MARS
/* CAMERA DATA ELEMENTS */
DETECTOR_TEMPERATURE = 18.1666
FOCAL_PLANE_TEMPERATURE = 8.1755
INST_CMPRS_NAME = "DISCRETE COSINE TRANSFORMATION (DCT)"
INST_CMPRS_RATIO = 24.9866
INST_CMPRS_QUALITY = 0
INST_CMPRS_QUANTZ_TBL_ID = 0
INSTRUMENT_TEMPERATURE = 11.0301
LENS_TEMPERATURE = 8.5833
MACROPIXEL_SIZE = 8
MISSING_FRAMES = 0
PIXEL_SUBSAMPLING_FLAG = N
SIGNAL_CHAIN_ID = 2
/* RADIOMETRIC DATA ELEMENTS */
BANDWIDTH = 76.0
CENTER_FILTER_WAVELENGTH = 444.0
RADIANCE_OFFSET = 0.47663
RADIANCE_SCALING_FACTOR = 0.00183175
REFLECTANCE_SCALING_FACTOR = 0.000109888
MEX:REFLECTANCE_OFFSET = 0.0285932
/* IMAGE OBJECT DEFINITIONS */
OBJECT = IMAGE
  INTERCHANGE_FORMAT = BINARY
  LINES = 5818
  LINE_SAMPLES = 744
  SAMPLE_TYPE = UNSIGNED_INTEGER
  SAMPLE_BITS = 8
  BANDS = 1
  BAND_STORAGE_TYPE = BAND_SEQUENTIAL
  MAXIMUM = 255
  MEAN = 154.319
  MINIMUM = 1
  STANDARD_DEVIATION = 8.89672
END_OBJECT = IMAGE
/* MAP OBJECT DEFINITIONS */
OBJECT = IMAGE_MAP_PROJECTION
  ^DATA_SET_MAP_PROJECTION_CATALOG= "DSMAP.CAT"
  A_AXIS_RADIUS = 3396.0
  B_AXIS_RADIUS = 3396.0
  C_AXIS_RADIUS = 3396.0
  CENTER_LATITUDE = 0.0
  CENTER_LONGITUDE = 200.0
  COORDINATE_SYSTEM_NAME = PLANETOGRAPHIC
  COORDINATE_SYSTEM_TYPE = "BODY-FIXED ROTATING"
  EASTERNMOST_LONGITUDE = 200.245
  FIRST_STANDARD_PARALLEL = "N/A"
  LINE_FIRST_PIXEL = 1
  LINE_LAST_PIXEL = 5818
  LINE_PROJECTION_OFFSET = 12957.1875
  MAP_PROJECTION_ROTATION = 0.0
  MAP_PROJECTION_TYPE = SINUSOIDAL
  MAP_RESOLUTION = 592.713803866667
  MAP_SCALE = 0.1
  MAXIMUM_LATITUDE = 21.8492
  MINIMUM_LATITUDE = 12.0342
  POSITIVE_LONGITUDE_DIRECTION = EAST
  REFERENCE_LATITUDE = "N/A"
  REFERENCE_LONGITUDE = "N/A"
  SAMPLE_FIRST_PIXEL = 1
  SAMPLE_LAST_PIXEL = 744
  SAMPLE_PROJECTION_OFFSET = 602.6875
  SECOND_STANDARD_PARALLEL = "N/A"
  WESTERNMOST_LONGITUDE = 198.972
END_OBJECT = IMAGE_MAP_PROJECTION
END
