PDS_VERSION_ID = PDS3
/* FILE DATA ELEMENTS */
RECORD_TYPE = UNDEFINED
/* POINTERS TO DATA OBJECTS */
^IMAGE = ("H5265_0000_ND4.TIF")
/* IDENTIFICATION DATA ELEMENTS */
DATA_SET_ID = "MEX-M-HRSC-4-REFDR-MAPPROJECT-EXT2-V4.0"
DATA_SET_NAME = "MARS EXPRESS HRSC MAP PROJECTED REFDR EXTENSION2 V4.0"
DETECTOR_ID = MEX_HRSC_NADIR
EVENT_TYPE = "MARS-REGIONAL-MAPPING-Vo-Te-Fl"
INSTRUMENT_HOST_ID = MEX
INSTRUMENT_HOST_NAME = "MARS EXPRESS"
INSTRUMENT_ID = HRSC
INSTRUMENT_NAME = "HIGH RESOLUTION STEREO CAMERA"
MISSION_NAME = "MARS EXPRESS"
MISSION_PHASE_NAME = ME_Phase_11
PROCESSING_LEVEL_ID = 4
PRODUCT_CREATION_TIME = 2023-02-01T12:09:47.000Z
PRODUCT_ID = "H5265_0000_ND4.TIF"
RELEASE_ID = 0001
REVISION_ID = 0000
/* QUALITY DATA ELEMENTS */
DATA_QUALITY_ID = 1
DATA_QUALITY_DESC = "Data calculated based on original SPICE kernels"
/* TIME DATA ELEMENTS */
SPACECRAFT_CLOCK_START_COUNT = "1/0150429210.09080"
SPACECRAFT_CLOCK_STOP_COUNT = "1/0150429540.24992"
START_TIME = 2008-02-07T01:54:05.303Z
STOP_TIME = 2008-02-07T01:58:29.297Z
/* ORBITAL DATA ELEMENTS */
ASCENDING_NODE_LONGITUDE = 118.63
MAXIMUM_RESOLUTION = 0.0133
FOOTPRINT_POINT_LATITUDE = (34.6389,34.6314,34.621,34.6207,34.621, 34.2705,33.7445,33.3937,32.8724,32.1923 ,31.8521,31.5118,31.1714,30.8309, 30.4903,29.9792,29.6384,29.2976,28.9568 ,28.4455,28.1045,27.7636,27.4227, 27.0818,26.5704,26.2296,25.8887,25.548, 25.2072,24.8666,24.526,24.1855,23.8451, 23.5048,22.8245,22.1448,21.2959,20.7718 ,20.4215,20.0715,19.7216,19.372,19.0226 ,18.6735,18.3245,17.9759,17.6276, 17.4535,17.442,17.4423,17.4406,17.4406, 17.4407,17.7893,18.1381,18.4871,18.8365 ,19.1861,19.536,19.886,20.2363,20.5868, 20.9375,21.287,21.9667,22.647,22.9873, 23.3278,23.6684,24.009,24.3498,24.6907, 25.0317,25.3728,25.7139,26.0551,26.3963 ,26.7376,27.0789,27.4202,27.7615, 28.2735,28.7855,29.2974,29.6387,30.1505 ,30.4917,30.8328,31.1737,31.5146, 31.8554,32.196,32.7069,33.0474,33.3988, 33.7503,34.1015,34.4526,34.6281, 34.6389)
FOOTPRINT_POINT_LONGITUDE = (218.713,217.962,217.301,217.287, 217.268,217.28,217.296,217.305,217.321, 217.34,217.349,217.357,217.365,217.373, 217.382,217.393,217.4,217.407,217.413, 217.421,217.427,217.432,217.437,217.441 ,217.448,217.452,217.455,217.459, 217.462,217.465,217.468,217.47,217.472, 217.474,217.477,217.479,217.482,217.483 ,217.483,217.482,217.482,217.481,217.48 ,217.478,217.478,217.475,217.472, 217.472,217.471,218.109,218.752,218.765 ,218.771,218.77,218.769,218.767,218.767 ,218.766,218.766,218.765,218.764, 218.763,218.762,218.761,218.76,218.761, 218.76,218.759,218.758,218.756,218.756, 218.755,218.755,218.755,218.754,218.754 ,218.753,218.753,218.752,218.751,218.75 ,218.749,218.75,218.747,218.747,218.747 ,218.748,218.748,218.748,218.747, 218.746,218.743,218.743,218.742,218.741 ,218.739,218.736,218.734,218.733, 218.713)
ORBIT_NUMBER = 5265
ORBITAL_ECCENTRICITY = 0.573
ORBITAL_INCLINATION = 86.74
ORBITAL_SEMIMAJOR_AXIS = 8711.45
PERIAPSIS_ALTITUDE = 331.79
PERIAPSIS_ARGUMENT_ANGLE = 152.07
PERIAPSIS_TIME = 2008-02-07T01:55:48.000Z
SPACECRAFT_ORIENTATION = (0.0,-1.0,0.0)
^MEX_ORIENTATION_DESC = "MEX_ORIENTATION_DESC.TXT"
SPACECRAFT_POINTING_MODE = ACROSSTRACK
^MEX_POINTING_DESC = "MEX_POINTING_DESC.TXT"
RIGHT_ASCENSION = -1e+32
DECLINATION = -1e+32
OFFSET_ANGLE = 0.19
SPACECRAFT_SOLAR_DISTANCE = 2.4261e+08
TARGET_NAME = MARS
/* CAMERA DATA ELEMENTS */
DETECTOR_TEMPERATURE = 18.3705
FOCAL_PLANE_TEMPERATURE = 8.1755
INST_CMPRS_NAME = "DISCRETE COSINE TRANSFORMATION (DCT)"
INST_CMPRS_RATIO = 6.80264
INST_CMPRS_QUALITY = 0
INST_CMPRS_QUANTZ_TBL_ID = 0
INSTRUMENT_TEMPERATURE = 11.234
LENS_TEMPERATURE = 8.3794
MACROPIXEL_SIZE = 1
MISSING_FRAMES = 0
PIXEL_SUBSAMPLING_FLAG = N
SIGNAL_CHAIN_ID = 0
/* RADIOMETRIC DATA ELEMENTS */
BANDWIDTH = 177.0
CENTER_FILTER_WAVELENGTH = 677.5
RADIANCE_OFFSET = 3.13512
RADIANCE_SCALING_FACTOR = 0.0253824
REFLECTANCE_SCALING_FACTOR = 0.000793658
MEX:REFLECTANCE_OFFSET = 0.0980291
/* IMAGE OBJECT DEFINITIONS */
OBJECT = IMAGE
  INTERCHANGE_FORMAT = BINARY
  LINES = 81554
  LINE_SAMPLES = 6346
  SAMPLE_TYPE = UNSIGNED_INTEGER
  SAMPLE_BITS = 8
  BANDS = 1
  BAND_STORAGE_TYPE = BAND_SEQUENTIAL
  MAXIMUM = 255
  MEAN = 152.947
  MINIMUM = 1
  STANDARD_DEVIATION = 21.1432
END_OBJECT = IMAGE
/* MAP OBJECT DEFINITIONS */
OBJECT = IMAGE_MAP_PROJECTION
  ^DATA_SET_MAP_PROJECTION_CATALOG= "DSMAP.CAT"
  A_AXIS_RADIUS = 3396.0
  B_AXIS_RADIUS = 3396.0
  C_AXIS_RADIUS = 3396.0
  CENTER_LATITUDE = 0.0
  CENTER_LONGITUDE = 218.0
  COORDINATE_SYSTEM_NAME = PLANETOGRAPHIC
  COORDINATE_SYSTEM_TYPE = "BODY-FIXED ROTATING"
  EASTERNMOST_LONGITUDE = 218.771
  FIRST_STANDARD_PARALLEL = "N/A"
  LINE_FIRST_PIXEL = 1
  LINE_LAST_PIXEL = 81554
  LINE_PROJECTION_OFFSET = 164251.0
  MAP_PROJECTION_ROTATION = 0.0
  MAP_PROJECTION_TYPE = SINUSOIDAL
  MAP_RESOLUTION = 4741.71043093333
  MAP_SCALE = 0.0125
  MAXIMUM_LATITUDE = 34.6389
  MINIMUM_LATITUDE = 17.4406
  POSITIVE_LONGITUDE_DIRECTION = EAST
  REFERENCE_LATITUDE = "N/A"
  REFERENCE_LONGITUDE = "N/A"
  SAMPLE_FIRST_PIXEL = 1
  SAMPLE_LAST_PIXEL = 6346
  SAMPLE_PROJECTION_OFFSET = 2857.0
  SECOND_STANDARD_PARALLEL = "N/A"
  WESTERNMOST_LONGITUDE = 217.268
END_OBJECT = IMAGE_MAP_PROJECTION
END
