PDS_VERSION_ID = PDS3
/* FILE DATA ELEMENTS */
RECORD_TYPE = UNDEFINED
/* POINTERS TO DATA OBJECTS */
^IMAGE = ("H5275_0001_BL4.TIF")
/* IDENTIFICATION DATA ELEMENTS */
DATA_SET_ID = "MEX-M-HRSC-4-REFDR-MAPPROJECT-EXT2-V4.0"
DATA_SET_NAME = "MARS EXPRESS HRSC MAP PROJECTED REFDR EXTENSION2 V4.0"
DETECTOR_ID = MEX_HRSC_BLUE
EVENT_TYPE = "MARS-REGIONAL-MAPPING-Vo-Te"
INSTRUMENT_HOST_ID = MEX
INSTRUMENT_HOST_NAME = "MARS EXPRESS"
INSTRUMENT_ID = HRSC
INSTRUMENT_NAME = "HIGH RESOLUTION STEREO CAMERA"
MISSION_NAME = "MARS EXPRESS"
MISSION_PHASE_NAME = ME_Phase_11
PROCESSING_LEVEL_ID = 4
PRODUCT_CREATION_TIME = 2023-02-01T12:09:47.000Z
PRODUCT_ID = "H5275_0001_BL4.TIF"
RELEASE_ID = 0001
REVISION_ID = 0000
/* QUALITY DATA ELEMENTS */
DATA_QUALITY_ID = 1
DATA_QUALITY_DESC = "Data calculated based on original SPICE kernels"
/* TIME DATA ELEMENTS */
SPACECRAFT_CLOCK_START_COUNT = "1/0150675802.09063"
SPACECRAFT_CLOCK_STOP_COUNT = "1/0150676123.49985"
START_TIME = 2008-02-09T22:24:02.666Z
STOP_TIME = 2008-02-09T22:28:04.948Z
/* ORBITAL DATA ELEMENTS */
ASCENDING_NODE_LONGITUDE = 118.42
MAXIMUM_RESOLUTION = 0.1135
FOOTPRINT_POINT_LATITUDE = (19.4232,19.4218,19.4199,19.4172, 19.4171,19.4186,18.7482,18.2128,17.6782 ,17.1445,16.6119,16.1529,15.836,15.5195 ,15.2034,14.8875,14.5721,14.2571, 13.9425,13.6282,13.3142,13.001,12.688, 12.3754,12.0633,11.7516,11.4404,11.1295 ,10.8193,10.5092,10.201,9.89079,9.58258 ,9.12078,8.81358,8.50679,8.20153, 7.89489,7.58968,7.28501,6.98086,6.67723 ,6.37412,6.07149,5.76936,5.46774, 5.16678,4.86632,4.56636,4.41662,4.32195 ,4.31985,4.31764,4.31612,4.31605,4.3179 ,4.91775,5.21851,5.51987,5.97304, 6.27548,6.57882,6.88268,7.18699,7.49174 ,7.7971,8.10295,8.40926,8.71611,9.02345 ,9.33123,9.63958,9.94838,10.2577, 10.5674,10.8776,11.1882,11.6554,11.9669 ,12.2791,12.5918,12.9049,13.2184, 13.5324,14.004,14.3189,14.6343,14.95, 15.2662,15.5826,15.8995,16.2167,16.5332 ,17.0661,17.6,18.1349,18.6706,19.2071, 19.3413,19.4232)
FOOTPRINT_POINT_LONGITUDE = (298.653,298.139,297.746,297.36,297.348 ,297.343,297.338,297.333,297.327, 297.322,297.315,297.31,297.306,297.301, 297.297,297.292,297.288,297.283,297.278 ,297.273,297.268,297.263,297.257, 297.252,297.246,297.24,297.234,297.228, 297.222,297.216,297.21,297.203,297.197, 297.186,297.18,297.173,297.165,297.158, 297.151,297.143,297.136,297.128,297.121 ,297.113,297.105,297.097,297.088,297.08 ,297.072,297.068,297.065,297.684, 298.286,298.678,298.694,298.704,298.7, 298.698,298.697,298.694,298.692,298.691 ,298.689,298.688,298.686,298.685, 298.684,298.682,298.681,298.68,298.678, 298.677,298.676,298.675,298.674,298.673 ,298.672,298.672,298.67,298.669,298.669 ,298.668,298.668,298.668,298.667, 298.666,298.666,298.665,298.665,298.665 ,298.665,298.664,298.664,298.664, 298.664,298.665,298.665,298.665,298.665 ,298.653)
ORBIT_NUMBER = 5275
ORBITAL_ECCENTRICITY = 0.572
ORBITAL_INCLINATION = 86.73
ORBITAL_SEMIMAJOR_AXIS = 8706.88
PERIAPSIS_ALTITUDE = 333.1
PERIAPSIS_ARGUMENT_ANGLE = 150.34
PERIAPSIS_TIME = 2008-02-09T22:21:20.000Z
SPACECRAFT_ORIENTATION = (0.0,-1.0,0.0)
^MEX_ORIENTATION_DESC = "MEX_ORIENTATION_DESC.TXT"
SPACECRAFT_POINTING_MODE = ACROSSTRACK
^MEX_POINTING_DESC = "MEX_POINTING_DESC.TXT"
RIGHT_ASCENSION = -1e+32
DECLINATION = -1e+32
OFFSET_ANGLE = 0.75
SPACECRAFT_SOLAR_DISTANCE = 2.42983e+08
TARGET_NAME = MARS
/* CAMERA DATA ELEMENTS */
DETECTOR_TEMPERATURE = 19.39
FOCAL_PLANE_TEMPERATURE = 8.7872
INST_CMPRS_NAME = "DISCRETE COSINE TRANSFORMATION (DCT)"
INST_CMPRS_RATIO = 24.6241
INST_CMPRS_QUALITY = 0
INST_CMPRS_QUANTZ_TBL_ID = 0
INSTRUMENT_TEMPERATURE = 12.8652
LENS_TEMPERATURE = 8.7872
MACROPIXEL_SIZE = 8
MISSING_FRAMES = 0
PIXEL_SUBSAMPLING_FLAG = N
SIGNAL_CHAIN_ID = 2
/* RADIOMETRIC DATA ELEMENTS */
BANDWIDTH = 76.0
CENTER_FILTER_WAVELENGTH = 444.0
RADIANCE_OFFSET = 0.583046
RADIANCE_SCALING_FACTOR = 0.00172267
REFLECTANCE_SCALING_FACTOR = 0.000104498
MEX:REFLECTANCE_OFFSET = 0.0353679
/* IMAGE OBJECT DEFINITIONS */
OBJECT = IMAGE
  INTERCHANGE_FORMAT = BINARY
  LINES = 8956
  LINE_SAMPLES = 971
  SAMPLE_TYPE = UNSIGNED_INTEGER
  SAMPLE_BITS = 8
  BANDS = 1
  BAND_STORAGE_TYPE = BAND_SEQUENTIAL
  MAXIMUM = 255
  MEAN = 138.818
  MINIMUM = 1
  STANDARD_DEVIATION = 19.5709
END_OBJECT = IMAGE
/* MAP OBJECT DEFINITIONS */
OBJECT = IMAGE_MAP_PROJECTION
  ^DATA_SET_MAP_PROJECTION_CATALOG= "DSMAP.CAT"
  A_AXIS_RADIUS = 3396.0
  B_AXIS_RADIUS = 3396.0
  C_AXIS_RADIUS = 3396.0
  CENTER_LATITUDE = 0.0
  CENTER_LONGITUDE = 298.0
  COORDINATE_SYSTEM_NAME = PLANETOGRAPHIC
  COORDINATE_SYSTEM_TYPE = "BODY-FIXED ROTATING"
  EASTERNMOST_LONGITUDE = 298.704
  FIRST_STANDARD_PARALLEL = "N/A"
  LINE_FIRST_PIXEL = 1
  LINE_LAST_PIXEL = 8956
  LINE_PROJECTION_OFFSET = 11515.9375
  MAP_PROJECTION_ROTATION = 0.0
  MAP_PROJECTION_TYPE = SINUSOIDAL
  MAP_RESOLUTION = 592.713803866667
  MAP_SCALE = 0.1
  MAXIMUM_LATITUDE = 19.4232
  MINIMUM_LATITUDE = 4.31605
  POSITIVE_LONGITUDE_DIRECTION = EAST
  REFERENCE_LATITUDE = "N/A"
  REFERENCE_LONGITUDE = "N/A"
  SAMPLE_FIRST_PIXEL = 1
  SAMPLE_LAST_PIXEL = 971
  SAMPLE_PROJECTION_OFFSET = 558.6875
  SECOND_STANDARD_PARALLEL = "N/A"
  WESTERNMOST_LONGITUDE = 297.065
END_OBJECT = IMAGE_MAP_PROJECTION
END
