PDS_VERSION_ID = PDS3
/* FILE DATA ELEMENTS */
RECORD_TYPE = UNDEFINED
/* POINTERS TO DATA OBJECTS */
^IMAGE = ("H5281_0001_ND4.TIF")
/* IDENTIFICATION DATA ELEMENTS */
DATA_SET_ID = "MEX-M-HRSC-4-REFDR-MAPPROJECT-EXT2-V4.0"
DATA_SET_NAME = "MARS EXPRESS HRSC MAP PROJECTED REFDR EXTENSION2 V4.0"
DETECTOR_ID = MEX_HRSC_NADIR
EVENT_TYPE = "MARS-REGIONAL-MAPPING-Vo-Im-Fl"
INSTRUMENT_HOST_ID = MEX
INSTRUMENT_HOST_NAME = "MARS EXPRESS"
INSTRUMENT_ID = HRSC
INSTRUMENT_NAME = "HIGH RESOLUTION STEREO CAMERA"
MISSION_NAME = "MARS EXPRESS"
MISSION_PHASE_NAME = ME_Phase_11
PROCESSING_LEVEL_ID = 4
PRODUCT_CREATION_TIME = 2023-02-01T12:09:47.000Z
PRODUCT_ID = "H5281_0001_ND4.TIF"
RELEASE_ID = 0001
REVISION_ID = 0000
/* QUALITY DATA ELEMENTS */
DATA_QUALITY_ID = 1
DATA_QUALITY_DESC = "Data calculated based on original SPICE kernels"
/* TIME DATA ELEMENTS */
SPACECRAFT_CLOCK_START_COUNT = "1/0150823682.09070"
SPACECRAFT_CLOCK_STOP_COUNT = "1/0150824160.38625"
START_TIME = 2008-02-11T15:28:39.570Z
STOP_TIME = 2008-02-11T15:34:45.553Z
/* ORBITAL DATA ELEMENTS */
ASCENDING_NODE_LONGITUDE = 118.3
MAXIMUM_RESOLUTION = 0.0153
FOOTPRINT_POINT_LATITUDE = (14.6875,14.6908,14.6925,14.6926, 14.6923,13.9314,13.1727,12.4162,11.662, 10.9102,10.5258,9.75772,9.36559,8.77738 ,8.38025,7.97981,7.37589,6.96758, 6.55973,6.14331,5.72785,5.30534,4.88203 ,4.45276,4.02177,3.5851,3.14663,2.70157 ,2.02835,1.57488,1.11458,0.652184, 0.18388,-0.2896,-0.766561,-1.24919, -1.73808,-2.23136,-2.72936,-3.233, -3.74369,-4.25958,-4.78144,-5.30926, -5.8431,-6.38358,-6.93056,-7.20576, -7.20648,-7.21546,-7.22179,-7.23017, -7.23829,-7.23856,-7.23833,-6.41492, -5.87363,-5.33901,-4.81039,-4.28792, -3.77132,-3.25986,-2.75537,-2.25668, -1.76275,-1.27333,-0.790025,-0.312455, 0.161705,0.630704,1.09363,1.55455, 2.00856,2.68278,3.12844,3.56731,4.00451 ,4.43605,4.86585,5.28968,5.71271, 6.12866,6.74984,7.15816,7.5672,7.9673, 8.3682,8.76572,9.35463,9.74722,10.1313, 10.5161,10.901,11.6536,12.4085,13.1658, 13.9253,14.4964,14.687,14.6875)
FOOTPRINT_POINT_LONGITUDE = (57.6579,57.0295,56.2971,56.2836, 56.2773,56.2669,56.2556,56.2436,56.2311 ,56.2178,56.2107,56.1953,56.1869, 56.1739,56.1649,56.1559,56.1413,56.1314 ,56.121,56.1104,56.0994,56.0877,56.0758 ,56.0635,56.051,56.0381,56.0249,56.011, 55.9886,55.9743,55.959,55.9442,55.927, 55.9095,55.892,55.8739,55.8554,55.8363, 55.817,55.7968,55.7756,55.7539,55.733, 55.7093,55.6851,55.6602,55.6342,55.6212 ,55.6212,56.1728,56.5922,57.1899, 57.8337,57.856,57.8669,57.8519,57.8429, 57.8334,57.8252,57.8165,57.8083,57.8021 ,57.8003,57.7943,57.7873,57.777,57.7716 ,57.7647,57.7593,57.7546,57.7496,57.746 ,57.7415,57.7373,57.7343,57.7261, 57.7221,57.7191,57.7157,57.7122,57.7088 ,57.7055,57.701,57.6977,57.6945,57.6928 ,57.6907,57.6865,57.6837,57.6813, 57.6788,57.676,57.6743,57.6723,57.6684, 57.6647,57.6612,57.6586,57.6576, 57.6579)
ORBIT_NUMBER = 5281
ORBITAL_ECCENTRICITY = 0.572
ORBITAL_INCLINATION = 86.74
ORBITAL_SEMIMAJOR_AXIS = 8709.14
PERIAPSIS_ALTITUDE = 333.45
PERIAPSIS_ARGUMENT_ANGLE = 149.28
PERIAPSIS_TIME = 2008-02-11T15:24:32.000Z
SPACECRAFT_ORIENTATION = (0.0,-1.0,0.0)
^MEX_ORIENTATION_DESC = "MEX_ORIENTATION_DESC.TXT"
SPACECRAFT_POINTING_MODE = ACROSSTRACK
^MEX_POINTING_DESC = "MEX_POINTING_DESC.TXT"
RIGHT_ASCENSION = -1e+32
DECLINATION = -1e+32
OFFSET_ANGLE = 0.188
SPACECRAFT_SOLAR_DISTANCE = 2.43202e+08
TARGET_NAME = MARS
/* CAMERA DATA ELEMENTS */
DETECTOR_TEMPERATURE = 19.7978
FOCAL_PLANE_TEMPERATURE = 8.1755
INST_CMPRS_NAME = "DISCRETE COSINE TRANSFORMATION (DCT)"
INST_CMPRS_RATIO = 6.61756
INST_CMPRS_QUALITY = 0
INST_CMPRS_QUANTZ_TBL_ID = 0
INSTRUMENT_TEMPERATURE = 13.0691
LENS_TEMPERATURE = 8.3794
MACROPIXEL_SIZE = 1
MISSING_FRAMES = 0
PIXEL_SUBSAMPLING_FLAG = N
SIGNAL_CHAIN_ID = 0
/* RADIOMETRIC DATA ELEMENTS */
BANDWIDTH = 177.0
CENTER_FILTER_WAVELENGTH = 677.5
RADIANCE_OFFSET = 2.40536
RADIANCE_SCALING_FACTOR = 0.0266879
REFLECTANCE_SCALING_FACTOR = 0.000838557
MEX:REFLECTANCE_OFFSET = 0.0755786
/* IMAGE OBJECT DEFINITIONS */
OBJECT = IMAGE
  INTERCHANGE_FORMAT = BINARY
  LINES = 103984
  LINE_SAMPLES = 10565
  SAMPLE_TYPE = UNSIGNED_INTEGER
  SAMPLE_BITS = 8
  BANDS = 1
  BAND_STORAGE_TYPE = BAND_SEQUENTIAL
  MAXIMUM = 255
  MEAN = 128.811
  MINIMUM = 1
  STANDARD_DEVIATION = 46.7695
END_OBJECT = IMAGE
/* MAP OBJECT DEFINITIONS */
OBJECT = IMAGE_MAP_PROJECTION
  ^DATA_SET_MAP_PROJECTION_CATALOG= "DSMAP.CAT"
  A_AXIS_RADIUS = 3396.0
  B_AXIS_RADIUS = 3396.0
  C_AXIS_RADIUS = 3396.0
  CENTER_LATITUDE = 0.0
  CENTER_LONGITUDE = 57.0
  COORDINATE_SYSTEM_NAME = PLANETOGRAPHIC
  COORDINATE_SYSTEM_TYPE = "BODY-FIXED ROTATING"
  EASTERNMOST_LONGITUDE = 57.8669
  FIRST_STANDARD_PARALLEL = "N/A"
  LINE_FIRST_PIXEL = 1
  LINE_LAST_PIXEL = 103984
  LINE_PROJECTION_OFFSET = 69681.0
  MAP_PROJECTION_ROTATION = 0.0
  MAP_PROJECTION_TYPE = SINUSOIDAL
  MAP_RESOLUTION = 4741.71043093333
  MAP_SCALE = 0.0125
  MAXIMUM_LATITUDE = 14.6926
  MINIMUM_LATITUDE = -7.23856
  POSITIVE_LONGITUDE_DIRECTION = EAST
  REFERENCE_LATITUDE = "N/A"
  REFERENCE_LONGITUDE = "N/A"
  SAMPLE_FIRST_PIXEL = 1
  SAMPLE_LAST_PIXEL = 10565
  SAMPLE_PROJECTION_OFFSET = 6483.0
  SECOND_STANDARD_PARALLEL = "N/A"
  WESTERNMOST_LONGITUDE = 55.6212
END_OBJECT = IMAGE_MAP_PROJECTION
END
