PDS_VERSION_ID = PDS3
/* FILE DATA ELEMENTS */
RECORD_TYPE = UNDEFINED
/* POINTERS TO DATA OBJECTS */
^IMAGE = ("H5281_0001_S14.TIF")
/* IDENTIFICATION DATA ELEMENTS */
DATA_SET_ID = "MEX-M-HRSC-4-REFDR-MAPPROJECT-EXT2-V4.0"
DATA_SET_NAME = "MARS EXPRESS HRSC MAP PROJECTED REFDR EXTENSION2 V4.0"
DETECTOR_ID = MEX_HRSC_S1
EVENT_TYPE = "MARS-REGIONAL-MAPPING-Vo-Im-Fl"
INSTRUMENT_HOST_ID = MEX
INSTRUMENT_HOST_NAME = "MARS EXPRESS"
INSTRUMENT_ID = HRSC
INSTRUMENT_NAME = "HIGH RESOLUTION STEREO CAMERA"
MISSION_NAME = "MARS EXPRESS"
MISSION_PHASE_NAME = ME_Phase_11
PROCESSING_LEVEL_ID = 4
PRODUCT_CREATION_TIME = 2023-02-01T12:09:47.000Z
PRODUCT_ID = "H5281_0001_S14.TIF"
RELEASE_ID = 0001
REVISION_ID = 0000
/* QUALITY DATA ELEMENTS */
DATA_QUALITY_ID = 1
DATA_QUALITY_DESC = "Data calculated based on original SPICE kernels"
/* TIME DATA ELEMENTS */
SPACECRAFT_CLOCK_START_COUNT = "1/0150823682.09070"
SPACECRAFT_CLOCK_STOP_COUNT = "1/0150824160.38625"
START_TIME = 2008-02-11T15:28:05.954Z
STOP_TIME = 2008-02-11T15:33:45.224Z
/* ORBITAL DATA ELEMENTS */
ASCENDING_NODE_LONGITUDE = 118.3
MAXIMUM_RESOLUTION = 0.0313
FOOTPRINT_POINT_LATITUDE = (14.6762,14.6857,14.6948,14.6949, 14.6955,13.9331,13.5434,13.1541,12.764, 12.3764,11.9878,11.6011,11.0211,10.6319 ,10.0518,9.66439,8.88937,8.30259,7.7078 ,7.31151,6.90619,6.29703,5.88623, 5.47008,5.05368,4.41685,3.9924,3.55945, 3.12592,2.46123,2.01807,1.56736,1.1169, 0.65925,-0.041402,-0.510884,-0.990313, -1.71312,-2.44692,-2.94065,-3.44604, -3.95334,-4.4611,-4.98335,-5.51292, -6.04557,-6.86116,-7.13511,-7.20374, -7.21192,-7.22156,-7.23236,-7.24753, -7.24804,-7.24749,-6.42729,-5.88714, -5.35591,-4.83102,-4.31072,-3.79372, -3.04082,-2.30977,-1.82041,-1.32228, -0.845074,-0.131804,0.336301,0.795415, 1.25569,1.70464,2.37805,2.8123,3.24802, 3.69501,4.12358,4.54735,4.97297,5.59723 ,6.01372,6.42186,6.82862,7.43584,7.8293 ,8.22609,8.62442,9.01124,9.39763,9.9796 ,10.3687,10.9512,11.5299,12.1125,12.502 ,13.0866,13.4758,13.8654,14.4501, 14.6357,14.6762)
FOOTPRINT_POINT_LONGITUDE = (57.6402,57.1071,56.3198,56.3069,56.303 ,56.294,56.289,56.2839,56.2783,56.273, 56.2672,56.2616,56.2528,56.2459,56.2361 ,56.229,56.214,56.202,56.1896,56.181, 56.1721,56.1581,56.1486,56.1384,56.1278 ,56.1115,56.1004,56.0889,56.0771, 56.0577,56.0448,56.0319,56.0185,56.0052 ,55.9821,55.967,55.9506,55.9261,55.9006 ,55.8835,55.8646,55.8459,55.8278, 55.8075,55.786,55.7645,55.7303,55.7187, 55.7158,56.1938,56.6526,57.1329,57.7552 ,57.7753,57.7825,57.7717,57.7647, 57.7585,57.7524,57.7464,57.74,57.7343, 57.7324,57.7275,57.7187,57.7155,57.7082 ,57.7045,57.7019,57.6978,57.696,57.6907 ,57.6914,57.6891,57.6819,57.6801, 57.6782,57.6758,57.6725,57.6703,57.6683 ,57.6663,57.663,57.6626,57.6611,57.6577 ,57.6563,57.6553,57.653,57.6512,57.6493 ,57.649,57.6475,57.6462,57.6442,57.6433 ,57.6422,57.6406,57.64,57.6402)
ORBIT_NUMBER = 5281
ORBITAL_ECCENTRICITY = 0.572
ORBITAL_INCLINATION = 86.74
ORBITAL_SEMIMAJOR_AXIS = 8709.14
PERIAPSIS_ALTITUDE = 333.45
PERIAPSIS_ARGUMENT_ANGLE = 149.28
PERIAPSIS_TIME = 2008-02-11T15:24:32.000Z
SPACECRAFT_ORIENTATION = (0.0,-1.0,0.0)
^MEX_ORIENTATION_DESC = "MEX_ORIENTATION_DESC.TXT"
SPACECRAFT_POINTING_MODE = ACROSSTRACK
^MEX_POINTING_DESC = "MEX_POINTING_DESC.TXT"
RIGHT_ASCENSION = -1e+32
DECLINATION = -1e+32
OFFSET_ANGLE = 0.188
SPACECRAFT_SOLAR_DISTANCE = 2.43202e+08
TARGET_NAME = MARS
/* CAMERA DATA ELEMENTS */
DETECTOR_TEMPERATURE = 18.7783
FOCAL_PLANE_TEMPERATURE = 8.1755
INST_CMPRS_NAME = "DISCRETE COSINE TRANSFORMATION (DCT)"
INST_CMPRS_RATIO = 10.5443
INST_CMPRS_QUALITY = 0
INST_CMPRS_QUANTZ_TBL_ID = 0
INSTRUMENT_TEMPERATURE = 13.0691
LENS_TEMPERATURE = 8.3794
MACROPIXEL_SIZE = 2
MISSING_FRAMES = 0
PIXEL_SUBSAMPLING_FLAG = N
SIGNAL_CHAIN_ID = 1
/* RADIOMETRIC DATA ELEMENTS */
BANDWIDTH = 180.0
CENTER_FILTER_WAVELENGTH = 677.0
RADIANCE_OFFSET = 3.07421
RADIANCE_SCALING_FACTOR = 0.0273994
REFLECTANCE_SCALING_FACTOR = 0.00084551
MEX:REFLECTANCE_OFFSET = 0.0948662
/* IMAGE OBJECT DEFINITIONS */
OBJECT = IMAGE
  INTERCHANGE_FORMAT = BINARY
  LINES = 51992
  LINE_SAMPLES = 5283
  SAMPLE_TYPE = UNSIGNED_INTEGER
  SAMPLE_BITS = 8
  BANDS = 1
  BAND_STORAGE_TYPE = BAND_SEQUENTIAL
  MAXIMUM = 255
  MEAN = 132.874
  MINIMUM = 1
  STANDARD_DEVIATION = 49.1899
END_OBJECT = IMAGE
/* MAP OBJECT DEFINITIONS */
OBJECT = IMAGE_MAP_PROJECTION
  ^DATA_SET_MAP_PROJECTION_CATALOG= "DSMAP.CAT"
  A_AXIS_RADIUS = 3396.0
  B_AXIS_RADIUS = 3396.0
  C_AXIS_RADIUS = 3396.0
  CENTER_LATITUDE = 0.0
  CENTER_LONGITUDE = 57.0
  COORDINATE_SYSTEM_NAME = PLANETOGRAPHIC
  COORDINATE_SYSTEM_TYPE = "BODY-FIXED ROTATING"
  EASTERNMOST_LONGITUDE = 57.7825
  FIRST_STANDARD_PARALLEL = "N/A"
  LINE_FIRST_PIXEL = 1
  LINE_LAST_PIXEL = 51992
  LINE_PROJECTION_OFFSET = 34840.25
  MAP_PROJECTION_ROTATION = 0.0
  MAP_PROJECTION_TYPE = SINUSOIDAL
  MAP_RESOLUTION = 2370.85521546667
  MAP_SCALE = 0.025
  MAXIMUM_LATITUDE = 14.6955
  MINIMUM_LATITUDE = -7.24804
  POSITIVE_LONGITUDE_DIRECTION = EAST
  REFERENCE_LATITUDE = "N/A"
  REFERENCE_LONGITUDE = "N/A"
  SAMPLE_FIRST_PIXEL = 1
  SAMPLE_LAST_PIXEL = 5283
  SAMPLE_PROJECTION_OFFSET = 3241.25
  SECOND_STANDARD_PARALLEL = "N/A"
  WESTERNMOST_LONGITUDE = 55.7158
END_OBJECT = IMAGE_MAP_PROJECTION
END
