PDS_VERSION_ID = PDS3
/* FILE DATA ELEMENTS */
RECORD_TYPE = UNDEFINED
/* POINTERS TO DATA OBJECTS */
^IMAGE = ("H5285_0000_BL4.TIF")
/* IDENTIFICATION DATA ELEMENTS */
DATA_SET_ID = "MEX-M-HRSC-4-REFDR-MAPPROJECT-EXT2-V4.0"
DATA_SET_NAME = "MARS EXPRESS HRSC MAP PROJECTED REFDR EXTENSION2 V4.0"
DETECTOR_ID = MEX_HRSC_BLUE
EVENT_TYPE = "MARS-REGIONAL-MAPPING-Te-Gl-Pf"
INSTRUMENT_HOST_ID = MEX
INSTRUMENT_HOST_NAME = "MARS EXPRESS"
INSTRUMENT_ID = HRSC
INSTRUMENT_NAME = "HIGH RESOLUTION STEREO CAMERA"
MISSION_NAME = "MARS EXPRESS"
MISSION_PHASE_NAME = ME_Phase_11
PROCESSING_LEVEL_ID = 4
PRODUCT_CREATION_TIME = 2023-02-01T12:09:47.000Z
PRODUCT_ID = "H5285_0000_BL4.TIF"
RELEASE_ID = 0001
REVISION_ID = 0000
/* QUALITY DATA ELEMENTS */
DATA_QUALITY_ID = 1
DATA_QUALITY_DESC = "Data calculated based on original SPICE kernels"
/* TIME DATA ELEMENTS */
SPACECRAFT_CLOCK_START_COUNT = "1/0150921714.09073"
SPACECRAFT_CLOCK_STOP_COUNT = "1/0150922103.48552"
START_TIME = 2008-02-12T18:42:41.856Z
STOP_TIME = 2008-02-12T18:47:59.787Z
/* ORBITAL DATA ELEMENTS */
ASCENDING_NODE_LONGITUDE = 118.22
MAXIMUM_RESOLUTION = 0.0537
FOOTPRINT_POINT_LATITUDE = (47.1827,47.1538,47.1286,47.128,47.1412 ,46.664,46.1862,45.7072,45.2278,44.7475 ,44.2668,43.8051,43.4016,42.9974, 42.5927,42.1886,41.7836,41.1757,40.7695 ,40.3627,39.9557,39.5489,38.9383, 38.3272,37.7156,37.3079,36.9007,36.2874 ,35.879,35.4744,35.0787,34.6838,34.2875 ,33.8928,33.4967,32.9027,32.507,32.1122 ,31.7169,31.3208,30.7277,30.3325, 29.9374,29.5424,29.1474,28.7527,28.1609 ,27.372,26.7811,26.5843,26.5295,26.5339 ,26.5369,26.5369,26.5378,27.1295,27.524 ,27.9189,28.3139,28.709,29.1044,29.5, 29.8956,30.2914,30.6871,31.083,31.6775, 32.074,32.6677,33.2638,33.6604,34.0567, 34.6498,35.0462,35.6412,36.2552,36.8688 ,37.2779,37.688,38.0953,38.5042,38.9134 ,39.3216,39.9326,40.3402,40.7474, 41.3592,41.9703,42.5786,42.9842,43.3894 ,43.7949,44.4888,44.9707,45.452,45.9332 ,46.4136,46.8933,47.1328,47.1827)
FOOTPRINT_POINT_LONGITUDE = (16.4623,15.3119,14.5505,14.5323,14.473 ,14.5215,14.5679,14.6147,14.6591, 14.7024,14.744,14.782,14.8137,14.8455, 14.8772,14.9041,14.9323,14.9725,14.9998 ,15.0277,15.0543,15.0783,15.1134, 15.1464,15.178,15.1975,15.2142,15.2449, 15.2629,15.2798,15.2965,15.3102,15.3274 ,15.3392,15.3544,15.3758,15.3886, 15.3983,15.4088,15.4217,15.4371,15.4468 ,15.4559,15.4645,15.473,15.4807,15.4916 ,15.5059,15.5152,15.5177,15.5184, 16.0403,16.8281,16.8403,16.8444,16.8388 ,16.8348,16.8307,16.8266,16.8224, 16.8182,16.8138,16.8094,16.8049,16.8001 ,16.7953,16.7885,16.7839,16.7757, 16.7695,16.7646,16.759,16.7492,16.7436, 16.7346,16.7252,16.7154,16.7088,16.7033 ,16.6948,16.688,16.6817,16.6741,16.6615 ,16.6535,16.6452,16.6341,16.6224, 16.6078,16.5982,16.5884,16.5792,16.5618 ,16.549,16.5358,16.5226,16.5091,16.4949 ,16.4876,16.4623)
ORBIT_NUMBER = 5285
ORBITAL_ECCENTRICITY = 0.572
ORBITAL_INCLINATION = 86.72
ORBITAL_SEMIMAJOR_AXIS = 8704.76
PERIAPSIS_ALTITUDE = 334.26
PERIAPSIS_ARGUMENT_ANGLE = 148.56
PERIAPSIS_TIME = 2008-02-12T18:46:40.000Z
SPACECRAFT_ORIENTATION = (0.0,-1.0,0.0)
^MEX_ORIENTATION_DESC = "MEX_ORIENTATION_DESC.TXT"
SPACECRAFT_POINTING_MODE = ACROSSTRACK
^MEX_POINTING_DESC = "MEX_POINTING_DESC.TXT"
RIGHT_ASCENSION = -1e+32
DECLINATION = -1e+32
OFFSET_ANGLE = -0.25
SPACECRAFT_SOLAR_DISTANCE = 2.43346e+08
TARGET_NAME = MARS
/* CAMERA DATA ELEMENTS */
DETECTOR_TEMPERATURE = 18.1666
FOCAL_PLANE_TEMPERATURE = 8.3794
INST_CMPRS_NAME = "DISCRETE COSINE TRANSFORMATION (DCT)"
INST_CMPRS_RATIO = 11.0518
INST_CMPRS_QUALITY = 0
INST_CMPRS_QUANTZ_TBL_ID = 0
INSTRUMENT_TEMPERATURE = 11.0301
LENS_TEMPERATURE = 8.7872
MACROPIXEL_SIZE = 4
MISSING_FRAMES = 0
PIXEL_SUBSAMPLING_FLAG = N
SIGNAL_CHAIN_ID = 2
/* RADIOMETRIC DATA ELEMENTS */
BANDWIDTH = 76.0
CENTER_FILTER_WAVELENGTH = 444.0
RADIANCE_OFFSET = 0.504906
RADIANCE_SCALING_FACTOR = 0.00176346
REFLECTANCE_SCALING_FACTOR = 0.000107292
MEX:REFLECTANCE_OFFSET = 0.0307194
/* IMAGE OBJECT DEFINITIONS */
OBJECT = IMAGE
  INTERCHANGE_FORMAT = BINARY
  LINES = 24520
  LINE_SAMPLES = 2141
  SAMPLE_TYPE = UNSIGNED_INTEGER
  SAMPLE_BITS = 8
  BANDS = 1
  BAND_STORAGE_TYPE = BAND_SEQUENTIAL
  MAXIMUM = 255
  MEAN = 136.217
  MINIMUM = 1
  STANDARD_DEVIATION = 24.0304
END_OBJECT = IMAGE
/* MAP OBJECT DEFINITIONS */
OBJECT = IMAGE_MAP_PROJECTION
  ^DATA_SET_MAP_PROJECTION_CATALOG= "DSMAP.CAT"
  A_AXIS_RADIUS = 3396.0
  B_AXIS_RADIUS = 3396.0
  C_AXIS_RADIUS = 3396.0
  CENTER_LATITUDE = 0.0
  CENTER_LONGITUDE = 16.0
  COORDINATE_SYSTEM_NAME = PLANETOGRAPHIC
  COORDINATE_SYSTEM_TYPE = "BODY-FIXED ROTATING"
  EASTERNMOST_LONGITUDE = 16.8444
  FIRST_STANDARD_PARALLEL = "N/A"
  LINE_FIRST_PIXEL = 1
  LINE_LAST_PIXEL = 24520
  LINE_PROJECTION_OFFSET = 55953.875
  MAP_PROJECTION_ROTATION = 0.0
  MAP_PROJECTION_TYPE = SINUSOIDAL
  MAP_RESOLUTION = 1185.42760773333
  MAP_SCALE = 0.05
  MAXIMUM_LATITUDE = 47.1827
  MINIMUM_LATITUDE = 26.5295
  POSITIVE_LONGITUDE_DIRECTION = EAST
  REFERENCE_LATITUDE = "N/A"
  REFERENCE_LONGITUDE = "N/A"
  SAMPLE_FIRST_PIXEL = 1
  SAMPLE_LAST_PIXEL = 2141
  SAMPLE_PROJECTION_OFFSET = 1246.125
  SECOND_STANDARD_PARALLEL = "N/A"
  WESTERNMOST_LONGITUDE = 14.473
END_OBJECT = IMAGE_MAP_PROJECTION
END
