PDS_VERSION_ID = PDS3
/* FILE DATA ELEMENTS */
RECORD_TYPE = UNDEFINED
/* POINTERS TO DATA OBJECTS */
^IMAGE = ("H5285_0001_S24.TIF")
/* IDENTIFICATION DATA ELEMENTS */
DATA_SET_ID = "MEX-M-HRSC-4-REFDR-MAPPROJECT-EXT2-V4.0"
DATA_SET_NAME = "MARS EXPRESS HRSC MAP PROJECTED REFDR EXTENSION2 V4.0"
DETECTOR_ID = MEX_HRSC_S2
EVENT_TYPE = "MARS-REGIONAL-MAPPING-Im-Fl"
INSTRUMENT_HOST_ID = MEX
INSTRUMENT_HOST_NAME = "MARS EXPRESS"
INSTRUMENT_ID = HRSC
INSTRUMENT_NAME = "HIGH RESOLUTION STEREO CAMERA"
MISSION_NAME = "MARS EXPRESS"
MISSION_PHASE_NAME = ME_Phase_11
PROCESSING_LEVEL_ID = 4
PRODUCT_CREATION_TIME = 2023-02-01T12:09:47.000Z
PRODUCT_ID = "H5285_0001_S24.TIF"
RELEASE_ID = 0001
REVISION_ID = 0000
/* QUALITY DATA ELEMENTS */
DATA_QUALITY_ID = 1
DATA_QUALITY_DESC = "Data calculated based on original SPICE kernels"
/* TIME DATA ELEMENTS */
SPACECRAFT_CLOCK_START_COUNT = "1/0150922254.09055"
SPACECRAFT_CLOCK_STOP_COUNT = "1/0150922455.00500"
START_TIME = 2008-02-12T18:52:13.558Z
STOP_TIME = 2008-02-12T18:54:16.844Z
/* ORBITAL DATA ELEMENTS */
ASCENDING_NODE_LONGITUDE = 118.22
MAXIMUM_RESOLUTION = 0.0365
FOOTPRINT_POINT_LATITUDE = (12.4801,12.4842,12.4884,12.4929, 12.4976,12.5024,12.5094,12.5097,12.5234 ,12.2593,11.9957,11.7266,11.5284, 11.2562,10.9906,10.7189,10.4407,10.239, 9.97236,9.83335,9.62601,9.41841,9.20868 ,9.06032,8.91974,8.7792,8.63935,8.49858 ,8.35849,8.21578,8.07278,7.92996, 7.78741,7.64533,7.42935,7.28419,7.13923 ,6.99438,6.77766,6.63058,6.48359,6.3368 ,6.19018,6.04386,5.89464,5.74556, 5.59677,5.52221,5.5123,5.5079,5.50254, 5.49711,5.49376,5.4884,5.48463,5.48194, 5.47822,5.47402,5.4693,5.46899,5.46943, 5.6929,5.84263,5.9922,6.13879,6.35811, 6.50613,6.72784,6.87255,7.01821,7.23643 ,7.38187,7.52665,7.66875,7.81143, 7.95463,8.0977,8.24119,8.38304,8.52304, 8.66357,8.80483,8.94759,9.08777,9.29686 ,9.43518,9.57382,9.71271,9.85118,10.127 ,10.5368,10.8103,11.015,11.3501,11.5517 ,11.8209,12.0221,12.4186,12.4848, 12.4801)
FOOTPRINT_POINT_LONGITUDE = (16.9956,16.7593,16.5223,16.2847, 16.0467,15.8079,15.4778,15.4628,15.4523 ,15.4478,15.4432,15.4382,15.433,15.4294 ,15.423,15.4167,15.413,15.4076,15.3985, 15.3954,15.3904,15.3855,15.3816,15.3811 ,15.3775,15.3739,15.3701,15.3666,15.363 ,15.3592,15.3554,15.3516,15.3477, 15.3437,15.3378,15.3338,15.3297,15.3256 ,15.3193,15.3149,15.3105,15.3061, 15.3016,15.297,15.2924,15.2877,15.2829, 15.2806,15.2803,15.438,15.6313,15.8239, 15.9636,16.1554,16.3296,16.4688,16.6078 ,16.7638,17.0584,17.0758,17.082,17.0788 ,17.0768,17.0747,17.0727,17.0695, 17.0677,17.0648,17.0629,17.0612,17.0585 ,17.0567,17.0548,17.0529,17.051,17.0493 ,17.0475,17.0458,17.0441,17.0423, 17.0406,17.039,17.0376,17.0357,17.0333, 17.0317,17.0301,17.0285,17.0268,17.0236 ,17.0191,17.0161,17.0139,17.0102, 17.0081,17.0052,17.0032,16.9992,16.9986 ,16.9956)
ORBIT_NUMBER = 5285
ORBITAL_ECCENTRICITY = 0.572
ORBITAL_INCLINATION = 86.72
ORBITAL_SEMIMAJOR_AXIS = 8704.76
PERIAPSIS_ALTITUDE = 334.26
PERIAPSIS_ARGUMENT_ANGLE = 148.56
PERIAPSIS_TIME = 2008-02-12T18:46:40.000Z
SPACECRAFT_ORIENTATION = (0.0,-1.0,0.0)
^MEX_ORIENTATION_DESC = "MEX_ORIENTATION_DESC.TXT"
SPACECRAFT_POINTING_MODE = ACROSSTRACK
^MEX_POINTING_DESC = "MEX_POINTING_DESC.TXT"
RIGHT_ASCENSION = -1e+32
DECLINATION = -1e+32
OFFSET_ANGLE = -0.25
SPACECRAFT_SOLAR_DISTANCE = 2.43346e+08
TARGET_NAME = MARS
/* CAMERA DATA ELEMENTS */
DETECTOR_TEMPERATURE = 20.4095
FOCAL_PLANE_TEMPERATURE = 8.5833
INST_CMPRS_NAME = "DISCRETE COSINE TRANSFORMATION (DCT)"
INST_CMPRS_RATIO = 11.9329
INST_CMPRS_QUALITY = 0
INST_CMPRS_QUANTZ_TBL_ID = 0
INSTRUMENT_TEMPERATURE = 13.273
LENS_TEMPERATURE = 8.9911
MACROPIXEL_SIZE = 2
MISSING_FRAMES = 0
PIXEL_SUBSAMPLING_FLAG = N
SIGNAL_CHAIN_ID = 1
/* RADIOMETRIC DATA ELEMENTS */
BANDWIDTH = 178.0
CENTER_FILTER_WAVELENGTH = 679.0
RADIANCE_OFFSET = 5.2159
RADIANCE_SCALING_FACTOR = 0.0204545
REFLECTANCE_SCALING_FACTOR = 0.000641458
MEX:REFLECTANCE_OFFSET = 0.163572
/* IMAGE OBJECT DEFINITIONS */
OBJECT = IMAGE
  INTERCHANGE_FORMAT = BINARY
  LINES = 16688
  LINE_SAMPLES = 3918
  SAMPLE_TYPE = UNSIGNED_INTEGER
  SAMPLE_BITS = 8
  BANDS = 1
  BAND_STORAGE_TYPE = BAND_SEQUENTIAL
  MAXIMUM = 255
  MEAN = 132.995
  MINIMUM = 1
  STANDARD_DEVIATION = 16.561
END_OBJECT = IMAGE
/* MAP OBJECT DEFINITIONS */
OBJECT = IMAGE_MAP_PROJECTION
  ^DATA_SET_MAP_PROJECTION_CATALOG= "DSMAP.CAT"
  A_AXIS_RADIUS = 3396.0
  B_AXIS_RADIUS = 3396.0
  C_AXIS_RADIUS = 3396.0
  CENTER_LATITUDE = 0.0
  CENTER_LONGITUDE = 16.0
  COORDINATE_SYSTEM_NAME = PLANETOGRAPHIC
  COORDINATE_SYSTEM_TYPE = "BODY-FIXED ROTATING"
  EASTERNMOST_LONGITUDE = 17.082
  FIRST_STANDARD_PARALLEL = "N/A"
  LINE_FIRST_PIXEL = 1
  LINE_LAST_PIXEL = 16688
  LINE_PROJECTION_OFFSET = 29641.25
  MAP_PROJECTION_ROTATION = 0.0
  MAP_PROJECTION_TYPE = SINUSOIDAL
  MAP_RESOLUTION = 2370.85521546667
  MAP_SCALE = 0.025
  MAXIMUM_LATITUDE = 12.5234
  MINIMUM_LATITUDE = 5.46899
  POSITIVE_LONGITUDE_DIRECTION = EAST
  REFERENCE_LATITUDE = "N/A"
  REFERENCE_LONGITUDE = "N/A"
  SAMPLE_FIRST_PIXEL = 1
  SAMPLE_LAST_PIXEL = 3918
  SAMPLE_PROJECTION_OFFSET = 1528.25
  SECOND_STANDARD_PARALLEL = "N/A"
  WESTERNMOST_LONGITUDE = 15.2803
END_OBJECT = IMAGE_MAP_PROJECTION
END
