PDS_VERSION_ID = PDS3
/* FILE DATA ELEMENTS */
RECORD_TYPE = UNDEFINED
/* POINTERS TO DATA OBJECTS */
^IMAGE = ("H5295_0001_BL4.TIF")
/* IDENTIFICATION DATA ELEMENTS */
DATA_SET_ID = "MEX-M-HRSC-4-REFDR-MAPPROJECT-EXT2-V4.0"
DATA_SET_NAME = "MARS EXPRESS HRSC MAP PROJECTED REFDR EXTENSION2 V4.0"
DETECTOR_ID = MEX_HRSC_BLUE
EVENT_TYPE = "MARS-REGIONAL-MAPPING-Im-Fl"
INSTRUMENT_HOST_ID = MEX
INSTRUMENT_HOST_NAME = "MARS EXPRESS"
INSTRUMENT_ID = HRSC
INSTRUMENT_NAME = "HIGH RESOLUTION STEREO CAMERA"
MISSION_NAME = "MARS EXPRESS"
MISSION_PHASE_NAME = ME_Phase_11
PROCESSING_LEVEL_ID = 4
PRODUCT_CREATION_TIME = 2023-02-01T12:09:47.000Z
PRODUCT_ID = "H5295_0001_BL4.TIF"
RELEASE_ID = 0001
REVISION_ID = 0000
/* QUALITY DATA ELEMENTS */
DATA_QUALITY_ID = 1
DATA_QUALITY_DESC = "Data calculated based on original SPICE kernels"
/* TIME DATA ELEMENTS */
SPACECRAFT_CLOCK_START_COUNT = "1/0151168646.09057"
SPACECRAFT_CLOCK_STOP_COUNT = "1/0151169119.31444"
START_TIME = 2008-02-15T15:18:16.870Z
STOP_TIME = 2008-02-15T15:24:00.557Z
/* ORBITAL DATA ELEMENTS */
ASCENDING_NODE_LONGITUDE = 118.01
MAXIMUM_RESOLUTION = 0.0724
FOOTPRINT_POINT_LATITUDE = (9.78971,9.79482,9.79881,9.79888, 9.80274,9.15582,8.50285,7.84217,7.00146 ,6.6598,6.31686,5.9717,5.62336,5.09733, 4.74354,4.38592,4.027,3.66438,3.30064, 2.9325,2.5624,2.18862,1.62039,1.24196, 0.85761,0.274747,-0.315138,-0.710572, -1.11242,-1.51563,-2.13259,-2.5451, -2.96202,-3.38367,-3.80935,-4.23935, -4.67236,-5.11009,-5.55111,-5.9977, -6.44823,-7.12244,-7.56853,-8.01326, -8.45604,-8.89642,-9.33447,-9.55353, -9.56226,-9.5745,-9.58637,-9.59572, -9.60091,-9.60112,-9.59977,-9.16177, -8.72184,-8.27922,-7.83503,-7.16475, -6.71591,-6.26452,-5.81486,-5.36963, -4.92843,-4.49234,-4.05994,-3.63171, -3.2079,-2.78824,-2.37145,-1.95828, -1.55044,-1.14535,-0.742758,-0.345758, 0.245484,0.828994,1.4055,1.78699, 2.16186,2.53649,2.90722,3.27565,3.64078 ,4.00478,4.3641,4.72158,5.07543,5.42802 ,5.77602,6.29626,6.63866,6.9812,7.82393 ,8.48594,9.1398,9.62808,9.78763, 9.78971)
FOOTPRINT_POINT_LONGITUDE = (96.8739,96.1023,95.3089,95.2943, 95.2858,95.2701,95.2534,95.2358,95.2127 ,95.2029,95.1939,95.1837,95.1735, 95.1575,95.1468,95.1361,95.1242,95.1129 ,95.0997,95.0876,95.0748,95.0614, 95.0438,95.0271,95.0121,94.9903,94.9673 ,94.9502,94.9336,94.9151,94.8927, 94.8739,94.8553,94.8361,94.817,94.7977, 94.7772,94.7566,94.7342,94.7121,94.6891 ,94.6552,94.6312,94.6077,94.584,94.5597 ,94.5347,94.523,94.5225,95.201,95.9314, 96.6405,97.1064,97.1311,97.1392,97.1286 ,97.118,97.109,97.0993,97.0856,97.0755, 97.0668,97.0595,97.0517,97.0447,97.0362 ,97.0278,97.0217,97.0156,97.0084,97.002 ,96.9963,96.9902,96.9839,96.9781, 96.9726,96.9664,96.9599,96.9539,96.9496 ,96.9434,96.9395,96.936,96.9326,96.929, 96.9286,96.9246,96.9212,96.9179,96.9143 ,96.9112,96.9072,96.9042,96.9019, 96.8974,96.8933,96.8884,96.8848,96.8839 ,96.8739)
ORBIT_NUMBER = 5295
ORBITAL_ECCENTRICITY = 0.572
ORBITAL_INCLINATION = 86.73
ORBITAL_SEMIMAJOR_AXIS = 8706.46
PERIAPSIS_ALTITUDE = 334.28
PERIAPSIS_ARGUMENT_ANGLE = 146.78
PERIAPSIS_TIME = 2008-02-15T15:12:04.000Z
SPACECRAFT_ORIENTATION = (0.0,-1.0,0.0)
^MEX_ORIENTATION_DESC = "MEX_ORIENTATION_DESC.TXT"
SPACECRAFT_POINTING_MODE = ACROSSTRACK
^MEX_POINTING_DESC = "MEX_POINTING_DESC.TXT"
RIGHT_ASCENSION = -1e+32
DECLINATION = -1e+32
OFFSET_ANGLE = 0.3
SPACECRAFT_SOLAR_DISTANCE = 2.437e+08
TARGET_NAME = MARS
/* CAMERA DATA ELEMENTS */
DETECTOR_TEMPERATURE = 20.0017
FOCAL_PLANE_TEMPERATURE = 8.7872
INST_CMPRS_NAME = "DISCRETE COSINE TRANSFORMATION (DCT)"
INST_CMPRS_RATIO = 14.5805
INST_CMPRS_QUALITY = 0
INST_CMPRS_QUANTZ_TBL_ID = 0
INSTRUMENT_TEMPERATURE = 13.6808
LENS_TEMPERATURE = 9.3989
MACROPIXEL_SIZE = 4
MISSING_FRAMES = 0
PIXEL_SUBSAMPLING_FLAG = N
SIGNAL_CHAIN_ID = 2
/* RADIOMETRIC DATA ELEMENTS */
BANDWIDTH = 76.0
CENTER_FILTER_WAVELENGTH = 444.0
RADIANCE_OFFSET = 0.450476
RADIANCE_SCALING_FACTOR = 0.0019744
REFLECTANCE_SCALING_FACTOR = 0.000120477
MEX:REFLECTANCE_OFFSET = 0.0274877
/* IMAGE OBJECT DEFINITIONS */
OBJECT = IMAGE
  INTERCHANGE_FORMAT = BINARY
  LINES = 22993
  LINE_SAMPLES = 3016
  SAMPLE_TYPE = UNSIGNED_INTEGER
  SAMPLE_BITS = 8
  BANDS = 1
  BAND_STORAGE_TYPE = BAND_SEQUENTIAL
  MAXIMUM = 255
  MEAN = 156.645
  MINIMUM = 1
  STANDARD_DEVIATION = 30.0904
END_OBJECT = IMAGE
/* MAP OBJECT DEFINITIONS */
OBJECT = IMAGE_MAP_PROJECTION
  ^DATA_SET_MAP_PROJECTION_CATALOG= "DSMAP.CAT"
  A_AXIS_RADIUS = 3396.0
  B_AXIS_RADIUS = 3396.0
  C_AXIS_RADIUS = 3396.0
  CENTER_LATITUDE = 0.0
  CENTER_LONGITUDE = 96.0
  COORDINATE_SYSTEM_NAME = PLANETOGRAPHIC
  COORDINATE_SYSTEM_TYPE = "BODY-FIXED ROTATING"
  EASTERNMOST_LONGITUDE = 97.1392
  FIRST_STANDARD_PARALLEL = "N/A"
  LINE_FIRST_PIXEL = 1
  LINE_LAST_PIXEL = 22993
  LINE_PROJECTION_OFFSET = 11619.375
  MAP_PROJECTION_ROTATION = 0.0
  MAP_PROJECTION_TYPE = SINUSOIDAL
  MAP_RESOLUTION = 1185.42760773333
  MAP_SCALE = 0.05
  MAXIMUM_LATITUDE = 9.80274
  MINIMUM_LATITUDE = -9.60112
  POSITIVE_LONGITUDE_DIRECTION = EAST
  REFERENCE_LATITUDE = "N/A"
  REFERENCE_LONGITUDE = "N/A"
  SAMPLE_FIRST_PIXEL = 1
  SAMPLE_LAST_PIXEL = 3016
  SAMPLE_PROJECTION_OFFSET = 1713.125
  SECOND_STANDARD_PARALLEL = "N/A"
  WESTERNMOST_LONGITUDE = 94.52249999999999
END_OBJECT = IMAGE_MAP_PROJECTION
END
