PDS_VERSION_ID = PDS3
/* FILE DATA ELEMENTS */
RECORD_TYPE = UNDEFINED
/* POINTERS TO DATA OBJECTS */
^IMAGE = ("H5296_0000_GR4.TIF")
/* IDENTIFICATION DATA ELEMENTS */
DATA_SET_ID = "MEX-M-HRSC-4-REFDR-MAPPROJECT-EXT2-V4.0"
DATA_SET_NAME = "MARS EXPRESS HRSC MAP PROJECTED REFDR EXTENSION2 V4.0"
DETECTOR_ID = MEX_HRSC_GREEN
EVENT_TYPE = "MARS-REGIONAL-MAPPING-Im-La"
INSTRUMENT_HOST_ID = MEX
INSTRUMENT_HOST_NAME = "MARS EXPRESS"
INSTRUMENT_ID = HRSC
INSTRUMENT_NAME = "HIGH RESOLUTION STEREO CAMERA"
MISSION_NAME = "MARS EXPRESS"
MISSION_PHASE_NAME = ME_Phase_11
PROCESSING_LEVEL_ID = 4
PRODUCT_CREATION_TIME = 2023-02-01T12:09:47.000Z
PRODUCT_ID = "H5296_0000_GR4.TIF"
RELEASE_ID = 0001
REVISION_ID = 0000
/* QUALITY DATA ELEMENTS */
DATA_QUALITY_ID = 1
DATA_QUALITY_DESC = "Data calculated based on original SPICE kernels"
/* TIME DATA ELEMENTS */
SPACECRAFT_CLOCK_START_COUNT = "1/0151192902.09055"
SPACECRAFT_CLOCK_STOP_COUNT = "1/0151193302.33168"
START_TIME = 2008-02-15T22:02:11.103Z
STOP_TIME = 2008-02-15T22:07:36.733Z
/* ORBITAL DATA ELEMENTS */
ASCENDING_NODE_LONGITUDE = 118.0
MAXIMUM_RESOLUTION = 0.054
FOOTPRINT_POINT_LATITUDE = (34.5835,34.5638,34.5636,34.5535, 33.5661,32.9736,32.3804,31.9848,31.1945 ,30.799,30.0082,29.6127,29.2149,28.8195 ,28.0305,27.4201,27.0121,26.4002, 25.9924,25.585,25.1778,24.7707,24.3639, 23.9573,23.551,23.1451,22.7395,22.3341, 21.9289,21.5241,21.1197,20.7156,20.3121 ,19.9089,19.5059,19.0323,18.5528,17.834 ,17.3541,16.8768,16.4001,15.6886, 15.2138,14.7397,14.2664,13.7942,13.5583 ,13.5324,13.5298,13.5249,13.5248, 13.5258,14.2354,14.7089,15.1833,15.6585 ,16.1346,16.6117,17.0892,17.5674, 18.0465,18.765,19.4845,19.8878,20.2916, 20.6958,21.1003,21.5052,21.9105,22.3161 ,22.7219,23.1281,23.5346,23.9413, 24.3482,24.7556,25.1631,25.5708,25.9784 ,26.387,26.7954,27.2039,27.6127,28.0215 ,28.4172,29.0111,29.4065,29.8025, 30.3966,30.7926,31.3857,31.7827,32.1789 ,32.5746,32.9704,33.5639,33.9598, 34.3558,34.5532,34.5835)
FOOTPRINT_POINT_LONGITUDE = (356.292,354.916,354.903,354.879,354.91 ,354.927,354.942,354.952,354.971,354.98 ,354.996,355.003,355.004,355.011, 355.025,355.035,355.04,355.046,355.05, 355.053,355.056,355.058,355.061,355.062 ,355.064,355.065,355.066,355.066, 355.066,355.066,355.065,355.065,355.064 ,355.062,355.06,355.058,355.055,355.049 ,355.041,355.036,355.031,355.027, 355.021,355.015,355.008,355.001,354.997 ,354.997,355.834,356.453,356.467, 356.471,356.466,356.463,356.46,356.457, 356.454,356.45,356.447,356.445,356.441, 356.439,356.433,356.43,356.427,356.425, 356.422,356.419,356.417,356.414,356.411 ,356.409,356.406,356.403,356.401, 356.398,356.395,356.392,356.39,356.386, 356.383,356.379,356.376,356.372,356.369 ,356.364,356.362,356.358,356.353, 356.349,356.346,356.34,356.336,356.333, 356.329,356.324,356.319,356.314,356.313 ,356.292)
ORBIT_NUMBER = 5296
ORBITAL_ECCENTRICITY = 0.572
ORBITAL_INCLINATION = 86.73
ORBITAL_SEMIMAJOR_AXIS = 8698.45
PERIAPSIS_ALTITUDE = 335.33
PERIAPSIS_ARGUMENT_ANGLE = 146.6
PERIAPSIS_TIME = 2008-02-15T22:02:34.000Z
SPACECRAFT_ORIENTATION = (0.0,-1.0,0.0)
^MEX_ORIENTATION_DESC = "MEX_ORIENTATION_DESC.TXT"
SPACECRAFT_POINTING_MODE = NADIR
^MEX_POINTING_DESC = "MEX_POINTING_DESC.TXT"
RIGHT_ASCENSION = -1e+32
DECLINATION = -1e+32
OFFSET_ANGLE = -1e+32
SPACECRAFT_SOLAR_DISTANCE = 2.43734e+08
TARGET_NAME = MARS
/* CAMERA DATA ELEMENTS */
DETECTOR_TEMPERATURE = 17.7588
FOCAL_PLANE_TEMPERATURE = 8.3794
INST_CMPRS_NAME = "DISCRETE COSINE TRANSFORMATION (DCT)"
INST_CMPRS_RATIO = 14.5823
INST_CMPRS_QUALITY = 0
INST_CMPRS_QUANTZ_TBL_ID = 0
INSTRUMENT_TEMPERATURE = 11.4379
LENS_TEMPERATURE = 8.7872
MACROPIXEL_SIZE = 4
MISSING_FRAMES = 0
PIXEL_SUBSAMPLING_FLAG = N
SIGNAL_CHAIN_ID = 2
/* RADIOMETRIC DATA ELEMENTS */
BANDWIDTH = 88.0
CENTER_FILTER_WAVELENGTH = 538.0
RADIANCE_OFFSET = 1.29023
RADIANCE_SCALING_FACTOR = 0.00628383
REFLECTANCE_SCALING_FACTOR = 0.000321401
MEX:REFLECTANCE_OFFSET = 0.0659916
/* IMAGE OBJECT DEFINITIONS */
OBJECT = IMAGE
  INTERCHANGE_FORMAT = BINARY
  LINES = 24953
  LINE_SAMPLES = 1725
  SAMPLE_TYPE = UNSIGNED_INTEGER
  SAMPLE_BITS = 8
  BANDS = 1
  BAND_STORAGE_TYPE = BAND_SEQUENTIAL
  MAXIMUM = 255
  MEAN = 120.224
  MINIMUM = 1
  STANDARD_DEVIATION = 28.4865
END_OBJECT = IMAGE
/* MAP OBJECT DEFINITIONS */
OBJECT = IMAGE_MAP_PROJECTION
  ^DATA_SET_MAP_PROJECTION_CATALOG= "DSMAP.CAT"
  A_AXIS_RADIUS = 3396.0
  B_AXIS_RADIUS = 3396.0
  C_AXIS_RADIUS = 3396.0
  CENTER_LATITUDE = 0.0
  CENTER_LONGITUDE = 356.0
  COORDINATE_SYSTEM_NAME = PLANETOGRAPHIC
  COORDINATE_SYSTEM_TYPE = "BODY-FIXED ROTATING"
  EASTERNMOST_LONGITUDE = 356.471
  FIRST_STANDARD_PARALLEL = "N/A"
  LINE_FIRST_PIXEL = 1
  LINE_LAST_PIXEL = 24953
  LINE_PROJECTION_OFFSET = 41004.625
  MAP_PROJECTION_ROTATION = 0.0
  MAP_PROJECTION_TYPE = SINUSOIDAL
  MAP_RESOLUTION = 1185.42760773333
  MAP_SCALE = 0.05
  MAXIMUM_LATITUDE = 34.5835
  MINIMUM_LATITUDE = 13.5248
  POSITIVE_LONGITUDE_DIRECTION = EAST
  REFERENCE_LATITUDE = "N/A"
  REFERENCE_LONGITUDE = "N/A"
  SAMPLE_FIRST_PIXEL = 1
  SAMPLE_LAST_PIXEL = 1725
  SAMPLE_PROJECTION_OFFSET = 1169.875
  SECOND_STANDARD_PARALLEL = "N/A"
  WESTERNMOST_LONGITUDE = 354.879
END_OBJECT = IMAGE_MAP_PROJECTION
END
