PDS_VERSION_ID = PDS3
/* FILE DATA ELEMENTS */
RECORD_TYPE = UNDEFINED
/* POINTERS TO DATA OBJECTS */
^IMAGE = ("H5297_0001_P14.TIF")
/* IDENTIFICATION DATA ELEMENTS */
DATA_SET_ID = "MEX-M-HRSC-4-REFDR-MAPPROJECT-EXT2-V4.0"
DATA_SET_NAME = "MARS EXPRESS HRSC MAP PROJECTED REFDR EXTENSION2 V4.0"
DETECTOR_ID = MEX_HRSC_P1
EVENT_TYPE = "MARS-LOCAL-STEREO-Vo-Te"
INSTRUMENT_HOST_ID = MEX
INSTRUMENT_HOST_NAME = "MARS EXPRESS"
INSTRUMENT_ID = HRSC
INSTRUMENT_NAME = "HIGH RESOLUTION STEREO CAMERA"
MISSION_NAME = "MARS EXPRESS"
MISSION_PHASE_NAME = ME_Phase_11
PROCESSING_LEVEL_ID = 4
PRODUCT_CREATION_TIME = 2023-02-01T12:09:47.000Z
PRODUCT_ID = "H5297_0001_P14.TIF"
RELEASE_ID = 0001
REVISION_ID = 0000
/* QUALITY DATA ELEMENTS */
DATA_QUALITY_ID = 1
DATA_QUALITY_DESC = "Data calculated based on original SPICE kernels"
/* TIME DATA ELEMENTS */
SPACECRAFT_CLOCK_START_COUNT = "1/0151217880.08252"
SPACECRAFT_CLOCK_STOP_COUNT = "1/0151218050.00935"
START_TIME = 2008-02-16T04:58:16.543Z
STOP_TIME = 2008-02-16T04:59:33.206Z
/* ORBITAL DATA ELEMENTS */
ASCENDING_NODE_LONGITUDE = 117.98
MAXIMUM_RESOLUTION = 0.0323
FOOTPRINT_POINT_LATITUDE = (12.2183,12.2184,12.2184,12.2183, 12.2181,12.2178,12.2174,12.2169,12.2164 ,12.2157,12.2149,12.214,12.2128,12.2126 ,12.2802,12.1416,11.9577,11.7251, 11.5381,11.3035,11.1601,10.9667,10.7727 ,10.5305,10.3839,10.1884,10.0404, 9.94075,9.79065,9.69098,9.59109,9.44069 ,9.341,9.19214,9.09346,8.94295,8.84188, 8.74057,8.63897,8.53667,8.43636,8.33554 ,8.18426,8.08387,7.98349,7.82978, 7.72685,7.62434,7.52162,7.41849,7.36732 ,7.3453,7.34584,7.34596,7.34591,7.34519 ,7.34462,7.34312,7.34145,7.34062, 7.33883,7.33621,7.33612,7.33667,7.43977 ,7.54255,7.64534,7.79931,7.95273, 8.05302,8.20334,8.30424,8.40596,8.55895 ,8.66025,8.81236,8.91453,9.06914, 9.16951,9.26922,9.41964,9.51906,9.61916 ,9.71994,9.87216,10.0235,10.222,10.3692 ,10.564,10.7102,10.9038,11.049,11.2892, 11.4767,11.7107,11.8977,12.0377,12.2226 ,12.2696,12.2183)
FOOTPRINT_POINT_LONGITUDE = (256.16,256.004,255.891,255.777,255.664 ,255.536,255.422,255.308,255.194,255.08 ,254.965,254.85,254.707,254.693,254.73, 254.73,254.729,254.726,254.723,254.719, 254.716,254.711,254.707,254.701,254.696 ,254.69,254.685,254.683,254.678,254.675 ,254.672,254.667,254.664,254.659, 254.657,254.652,254.649,254.646,254.643 ,254.64,254.638,254.635,254.631,254.628 ,254.626,254.622,254.619,254.616, 254.614,254.611,254.609,254.609,254.715 ,254.853,254.991,255.174,255.342,255.57 ,255.707,255.814,255.966,256.164,256.18 ,256.185,256.184,256.183,256.182, 256.181,256.18,256.18,256.179,256.178, 256.176,256.175,256.174,256.172,256.171 ,256.168,256.166,256.165,256.163, 256.162,256.161,256.159,256.156,256.154 ,256.151,256.149,256.147,256.145, 256.144,256.142,256.141,256.139,256.138 ,256.137,256.137,256.136,256.136, 256.16)
ORBIT_NUMBER = 5297
ORBITAL_ECCENTRICITY = 0.572
ORBITAL_INCLINATION = 86.73
ORBITAL_SEMIMAJOR_AXIS = 8709.86
PERIAPSIS_ALTITUDE = 334.75
PERIAPSIS_ARGUMENT_ANGLE = 146.42
PERIAPSIS_TIME = 2008-02-16T04:53:09.000Z
SPACECRAFT_ORIENTATION = (0.0,-1.0,0.0)
^MEX_ORIENTATION_DESC = "MEX_ORIENTATION_DESC.TXT"
SPACECRAFT_POINTING_MODE = ACROSSTRACK
^MEX_POINTING_DESC = "MEX_POINTING_DESC.TXT"
RIGHT_ASCENSION = -1e+32
DECLINATION = -1e+32
OFFSET_ANGLE = -0.21
SPACECRAFT_SOLAR_DISTANCE = 2.43769e+08
TARGET_NAME = MARS
/* CAMERA DATA ELEMENTS */
DETECTOR_TEMPERATURE = 18.9822
FOCAL_PLANE_TEMPERATURE = 8.5833
INST_CMPRS_NAME = "DISCRETE COSINE TRANSFORMATION (DCT)"
INST_CMPRS_RATIO = 8.62083
INST_CMPRS_QUALITY = 0
INST_CMPRS_QUANTZ_TBL_ID = 0
INSTRUMENT_TEMPERATURE = 12.8652
LENS_TEMPERATURE = 8.9911
MACROPIXEL_SIZE = 2
MISSING_FRAMES = 0
PIXEL_SUBSAMPLING_FLAG = N
SIGNAL_CHAIN_ID = 3
/* RADIOMETRIC DATA ELEMENTS */
BANDWIDTH = 174.0
CENTER_FILTER_WAVELENGTH = 675.0
RADIANCE_OFFSET = 4.68051
RADIANCE_SCALING_FACTOR = 0.0221689
REFLECTANCE_SCALING_FACTOR = 0.00070858
MEX:REFLECTANCE_OFFSET = 0.149602
/* IMAGE OBJECT DEFINITIONS */
OBJECT = IMAGE
  INTERCHANGE_FORMAT = BINARY
  LINES = 11641
  LINE_SAMPLES = 3859
  SAMPLE_TYPE = UNSIGNED_INTEGER
  SAMPLE_BITS = 8
  BANDS = 1
  BAND_STORAGE_TYPE = BAND_SEQUENTIAL
  MAXIMUM = 255
  MEAN = 145.993
  MINIMUM = 1
  STANDARD_DEVIATION = 22.8304
END_OBJECT = IMAGE
/* MAP OBJECT DEFINITIONS */
OBJECT = IMAGE_MAP_PROJECTION
  ^DATA_SET_MAP_PROJECTION_CATALOG= "DSMAP.CAT"
  A_AXIS_RADIUS = 3396.0
  B_AXIS_RADIUS = 3396.0
  C_AXIS_RADIUS = 3396.0
  CENTER_LATITUDE = 0.0
  CENTER_LONGITUDE = 255.0
  COORDINATE_SYSTEM_NAME = PLANETOGRAPHIC
  COORDINATE_SYSTEM_TYPE = "BODY-FIXED ROTATING"
  EASTERNMOST_LONGITUDE = 256.185
  FIRST_STANDARD_PARALLEL = "N/A"
  LINE_FIRST_PIXEL = 1
  LINE_LAST_PIXEL = 11641
  LINE_PROJECTION_OFFSET = 28967.75
  MAP_PROJECTION_ROTATION = 0.0
  MAP_PROJECTION_TYPE = SINUSOIDAL
  MAP_RESOLUTION = 2370.85521546667
  MAP_SCALE = 0.025
  MAXIMUM_LATITUDE = 12.2802
  MINIMUM_LATITUDE = 7.33612
  POSITIVE_LONGITUDE_DIRECTION = EAST
  REFERENCE_LATITUDE = "N/A"
  REFERENCE_LONGITUDE = "N/A"
  SAMPLE_FIRST_PIXEL = 1
  SAMPLE_LAST_PIXEL = 3859
  SAMPLE_PROJECTION_OFFSET = 999.75
  SECOND_STANDARD_PARALLEL = "N/A"
  WESTERNMOST_LONGITUDE = 254.609
END_OBJECT = IMAGE_MAP_PROJECTION
END
